Workbook

Sheet (1)Chi-2024
B1: Table 6.4.1 Result of Inland Aquatic Environment Monitoring
B3: Duration: | C3: 2024.1-2024.12
B4: Country: | C4: China
B5: Lake/Stream: | C5: (See below)
H7: Mandatory Parameters : 4 times/year
B8: Site | C8: Sampling | D8: Temp. | E8: pH | F8: EC | G8: Alkalinity | H8: SO42- | I8: NO3- | J8: Cl- | K8: NH4+ | L8: Na+ | M8: K+ | N8: Ca2+ | O8: Mg2+
C9: Date | D9: (oC) | F9: (mS/m) | G9: (meq/L) | H9: (mg/L) | I9: (mg/L) | J9: (mg/L) | K9: (mg/L) | L9: (mg/L) | M9: (mg/L) | N9: (mg/L) | O9: (mg/L)
B10: Chongqing | C10: 23-Mar-24*3 | S10: 23-Mar-24*3
B11: -Jinyunshan Lake | C11: 45450 | D11: 20 | E11: 6.28 | F11: 9.98 | G11: 0.1069 | H11: 22.21 | I11: 11.08 | J11: 1.58 | K11: 0.01 | L11: 2.16 | M11: 1.97 | N11: 9.29 | O11: 3.01
C12: 45551 | D12: 29 | E12: 6.39 | F12: 10.04 | G12: 0.1079 | H12: 21.06 | I12: 7.64 | J12: 1.7 | K12: 0.09 | L12: 2.09 | M12: 2.21 | N12: 8.87 | O12: 2.98 | S12: 45290
C13: 45624 | D13: 15 | E13: 6.59 | F13: 10.12 | G13: 0.3124 | H13: 21.93 | I13: 4.88 | J13: 1.84 | K13: 0.18 | L13: 2.2 | M13: 2.27 | N13: 10.01 | O13: 3.65
C14: mean*2 | D14: =AVERAGEA(D10:D13) -> 21.333333 | E14: =-LOG((10^(-E11)+10^(-E12)+10^(-E13))/3) -> 6.4018564 | F14: =AVERAGEA(F10:F13) -> 10.046667 | G14: =AVERAGEA(G10:G13) -> 0.17573333 | H14: =AVERAGEA(H10:H13) -> 21.733333 | I14: =AVERAGEA(I10:I13) -> 7.8666667 | J14: =AVERAGEA(J10:J13) -> 1.7066667 | K14: =AVERAGEA(K10:K13) -> 0.093333333 | L14: =AVERAGEA(L10:L13) -> 2.15 | M14: =AVERAGEA(M10:M13) -> 2.15 | ... O14: =AVERAGEA(O10:O13) -> 3.2133333
B15: Xiamen | C15: 45295 | D15: 15.2 | E15: 7.41 | F15: 4.78 | G15: 0.233 | H15: 2.52 | I15: 3.16 | J15: 2.1 | K15: 0.033 | L15: 3.55 | M15: 2.76 | N15: 3.33 | O15: 0.571
B16: -Xiaoping Dam | C16: 45385 | D16: 21.6 | E16: 7.69 | F16: 6.23 | G16: 0.252 | H16: 2.29 | I16: 2.99 | J16: 3.78 | K16: 0.02 | L16: 4.52 | M16: 3.09 | N16: 3.54 | O16: 0.779
C17: 45481 | D17: 28.5 | E17: 7.63 | F17: 5.36 | G17: 0.196 | H17: 2.56 | I17: 3.36 | J17: 3.86 | K17: 0.12 | L17: 4.96 | M17: 1.89 | N17: 2.42 | O17: 0.52
C18: 45601 | D18: 21.8 | E18: 7.52 | F18: 5.21 | G18: 0.207 | H18: 1.67 | I18: 2.65 | J18: 2.83 | K18: 0.02 | L18: 3.92 | M18: 2.69 | N18: 2.82 | O18: 0.48
C19: mean*2 | D19: =AVERAGEA(D15:D18) -> 21.775 | E19: =-LOG((10^(-E15)+10^(-E16)+10^(-E17)+10^(-E18))/4) -> 7.5491211 | F19: =AVERAGEA(F15:F18) -> 5.395 | G19: =AVERAGEA(G15:G18) -> 0.222 | H19: =AVERAGEA(H15:H18) -> 2.26 | I19: =AVERAGEA(I15:I18) -> 3.04 | J19: =AVERAGEA(J15:J18) -> 3.1425 | K19: =AVERAGEA(K15:K18) -> 0.04825 | L19: =AVERAGEA(L15:L18) -> 4.2375 | M19: =AVERAGEA(M15:M18) -> 2.6075 | ... O19: =AVERAGEA(O15:O18) -> 0.5875
B20: Xi'an | C20: 45368 | D20: 6 | E20: 7.43 | F20: 6.24 | G20: 0.31 | H20: 5.338 | I20: 2.21 | J20: 0.718 | K20: 0.798 | L20: 1.879 | M20: 0.507 | N20: 7.131 | O20: 0.497
B21: -Jiwozi River | C21: 45406 | D21: 7 | E21: 7.35 | F21: 5.39 | G21: 0.36 | H21: 4.441 | I21: 3.967 | J21: 0.624 | K21: 0.046 | L21: 1.799 | M21: 0.972 | N21: 7.49 | O21: 1.121
C22: 45481 | D22: 19 | E22: 6.85 | F22: 4.63 | G22: 0.15 | H22: 6.476 | I22: 2.583 | J22: 0.482 | K22: 0.147 | L22: 0.411 | M22: 0.517 | N22: 5.387 | O22: 0.284
C23: 45636 | D23: 6 | E23: 7.01 | F23: 6.63 | G23: 0.2 | H23: 6.046 | I23: 5.294 | J23: 1.298 | K23: 4.453 | L23: 0.918 | M23: 0.494 | N23: 3.441 | O23: 0.291
C24: mean*2 | D24: =AVERAGEA(D20:D23) -> 9.5 | E24: =-LOG((10^(-E20)+10^(-E21)+10^(-E22)+10^(-E23))/4) -> 7.0958265 | F24: =AVERAGEA(F20:F23) -> 5.7225 | G24: =AVERAGEA(G20:G23) -> 0.255 | H24: =AVERAGEA(H20:H23) -> 5.57525 | I24: =AVERAGEA(I20:I23) -> 3.5135 | J24: =AVERAGEA(J20:J23) -> 0.7805 | K24: =AVERAGEA(K20:K23) -> 1.361 | L24: =AVERAGEA(L20:L23) -> 1.25175 | M24: =AVERAGEA(M20:M23) -> 0.6225 | ... O24: =AVERAGEA(O20:O23) -> 0.54825
B25: Zhuhai | C25: 45294 | D25: 18.4 | E25: 7.7 | F25: 7.17 | G25: 0.48 | H25: 1.96 | I25: 2.36 | J25: 5.73 | K25: <0.02*1 | L25: 7.98 | M25: 1.23 | N25: 4.12 | O25: 1.62
B26: -Zhuxiandong | C26: 45384 | D26: 24.6 | E26: 6.85 | F26: 7.44 | G26: 0.474 | H26: 1.43 | I26: 1.35 | J26: 5.2 | K26: <0.02*1 | L26: 9.59 | M26: 1.35 | N26: 3.88 | O26: 1.27
B27: Stream | C27: 45475 | D27: 26.2 | E27: 7.42 | F27: 7.46 | G27: 0.413 | H27: 1.84 | I27: 2.67 | J27: 5.7 | K27: <0.02*1 | L27: 7.83 | M27: 1.49 | N27: 4.22 | O27: 1.85
C28: 45600 | D28: 22 | E28: 7.29 | F28: 6.66 | G28: 0.42 | H28: 1.58 | I28: 2.42 | J28: 6.56 | K28: <0.02*1 | L28: 7.74 | M28: 1.12 | N28: 3.6 | O28: 1.62
C29: mean*2 | D29: =AVERAGEA(D25:D28) -> 22.8 | E29: =-LOG((10^(-E25)+10^(-E26)+10^(-E27)+10^(-E28))/4) -> 7.2032324 | F29: =AVERAGEA(F25:F28) -> 7.1825 | G29: =AVERAGEA(G25:G28) -> 0.44675 | H29: =AVERAGEA(H25:H28) -> 1.7025 | I29: =AVERAGEA(I25:I28) -> 2.2 | J29: =AVERAGEA(J25:J28) -> 5.7975 | K29: <0.02*1 | L29: =AVERAGEA(L25:L28) -> 8.285 | M29: =AVERAGEA(M25:M28) -> 1.2975 | N29: =AVERAGEA(N25:N28) -> 3.955 | O29: =AVERAGEA(O25:O28) -> 1.59
D31: Mandatory Parameters : Once /year
B32: Site | C32: Sampling | D32: Transparency | E32: Water Color | F32: PO43- | G32: NO2- | H32: COD
C33: Date | D33: (m) | F33: (mg/l) | G33: (mg/l) | H33: (mg/l)
B34: Chongqing | C34: =C10 -> 23-Mar-24*3 | D34: - | E34: - | F34: - | G34: - | H34: -
B35: -Jinyunshan Lake | C35: =C11 -> 45450 | D35: 1.5 | E35: - | F35: - | G35: - | H35: -
C36: =C12 -> 45551 | D36: 2.6 | E36: - | F36: - | G36: - | H36: -
C37: =C13 -> 45624 | D37: 0.72 | E37: - | F37: - | G37: - | H37: -
C38: mean | D38: =AVERAGEA(D35:D37) -> 1.6066667 | E38: - | F38: - | G38: - | H38: -
B39: Xiamen | C39: =C15 -> 45295 | D39: 1.7 | E39: - | F39: - | G39: 0.039 | H39: 4
B40: -Xiaoping Dam | C40: =C16 -> 45385 | D40: 0.8 | E40: - | F40: - | G40: 0.036 | H40: 4
C41: =C17 -> 45481 | D41: 0.9 | E41: - | F41: - | G41: 0.018 | H41: 6
C42: =C18 -> 45601 | D42: 1.2 | E42: - | F42: 0.007 | G42: 0.012 | H42: 9
C43: mean | D43: =AVERAGEA(D39:D42) -> 1.15 | E43: - | F43: 0.007 | G43: =AVERAGEA(G39:G42) -> 0.02625 | H43: =AVERAGEA(H39:H42) -> 5.75
B44: Xi'an | C44: =C20 -> 45368 | D44: - | E44: - | F44: - | G44: - | H44: -
B45: -Jiwozi River | C45: =C21 -> 45406 | D45: - | E45: - | F45: - | G45: - | H45: -
C46: =C22 -> 45481 | D46: - | E46: - | F46: - | G46: - | H46: -
C47: =C23 -> 45636 | D47: - | E47: clear,colorless | F47: <0.051*1 | G47: <0.016*1 | H47: <4*1
C48: mean | D48: - | E48: - | F48: <0.051*1 | G48: <0.016*1 | H48: <4*1
B49: Zhuhai | C49: =C25 -> 45294 | D49: - | E49: - | F49: - | G49: - | H49: -
B50: -Zhuxiandong | C50: =C26 -> 45384 | D50: 0.13 | E50: - | F50: <0.051*1 | G50: <0.016*1 | H50: 2.98
B51: Stream | C51: =C27 -> 45475 | D51: - | E51: - | F51: - | G51: - | H51: -
C52: =C28 -> 45600 | D52: - | E52: - | F52: - | G52: - | H52: -
C53: mean | D53: =AVERAGE(D49:D51) -> 0.13 | E53: - | F53: <0.051*1 | G53: <0.016*1 | H53: 3
B54: note
B55: - : No analysis or measurement.
B56: *1: Less than determination limit.
B57: *2: Mean of pH takes an average of hydrogen ion.
B58: *3: No sample due to lake drought.
B59: # When the value is under detection limit, it is considered as "0". Then the average and R1R2 were calculated by using it.
D63: Anion | E63: Cation | F63: R1 | G63: Judge | I63: Λcalc | J63: R2 | K63: Judge
B64: Chongqing | C64: =C10 -> 23-Mar-24*3 | D64: - | E64: - | F64: - | G64: - | I64: - | J64: - | K64: -
B65: -Jinyunshan Lake | C65: =C11 -> 45450 | D65: 792.57 | E65: 856.62423 | F65: 3.8839714 | G65: Օ | I65: =(349.7*10^(3-E11)+(80*H11/48.03+71.5*I11/62.01+76.3*J11/35.45+73.5*N(K11)/18.04+50.1*L11/22.99+73.5*M11/39.1+59.8*N11/20.04+53.3*O11/12.16+44.5*G11+69*N(F35)/31.66+71.8*N(G35)/46.01))*1/10 -> 10.747667 | J65: 3.7061069 | K65: Օ
C66: =C12 -> 45551 | D66: 717.53675 | E66: 840.60849 | F66: 7.8986051 | G66: Օ | I66: =(349.7*10^(3-E12)+(80*H12/48.03+71.5*I12/62.01+76.3*J12/35.45+73.5*N(K12)/18.04+50.1*L12/22.99+73.5*M12/39.1+59.8*N12/20.04+53.3*O12/12.16+44.5*G12+69*N(F36)/31.66+71.8*N(G36)/46.01))*1/10 -> 10.109622 | J66: 0.34818041 | K66: Օ
C67: =C13 -> 45624 | D67: 899.59071 | E67: 963.77386 | F67: 3.4444764 | G67: Օ | I67: =(349.7*10^(3-E13)+(80*H13/48.03+71.5*I13/62.01+76.3*J13/35.45+73.5*N(K13)/18.04+50.1*L13/22.99+73.5*M13/39.1+59.8*N13/20.04+53.3*O13/12.16+44.5*G13+69*N(F37)/31.66+71.8*N(G37)/46.01))*1/10 -> 11.576966 | J67: 6.7178991 | K67: Օ
B68: Xiamen | C68: =C15 -> 45295 | D68: 395.66509 | E68: 440.01559 | F68: 5.3071101 | G68: Օ | I68: =(349.7*10^(3-E15)+(80*H15/48.03+71.5*I15/62.01+76.3*J15/35.45+73.5*N(K15)/18.04+50.1*L15/22.99+73.5*M15/39.1+59.8*N15/20.04+53.3*O15/12.16+44.5*G15+69*N(F39)/31.66+71.8*N(G39)/46.01))*1/10 -> 4.8302358 | J68: 0.46076188 | K68: Օ
B69: -Xiaoping | C69: =C16 -> 45385 | D69: 454.52562 | E69: 517.49998 | F69: 6.4786729 | G69: Օ | I69: =(349.7*10^(3-E16)+(80*H16/48.03+71.5*I16/62.01+76.3*J16/35.45+73.5*N(K16)/18.04+50.1*L16/22.99+73.5*M16/39.1+59.8*N16/20.04+53.3*O16/12.16+44.5*G16+69*N(F40)/31.66+71.8*N(G40)/46.01))*1/10 -> 5.6393067 | J69: -5.0251122 | K69: Օ
C70: =C17 -> 45481 | D70: 412.37058 | E70: 434.29813 | F70: 2.5898615 | G70: Օ | I70: =(349.7*10^(3-E17)+(80*H17/48.03+71.5*I17/62.01+76.3*J17/35.45+73.5*N(K17)/18.04+50.1*L17/22.99+73.5*M17/39.1+59.8*N17/20.04+53.3*O17/12.16+44.5*G17+69*N(F41)/31.66+71.8*N(G41)/46.01))*1/10 -> 4.955572 | J70: -3.9479189 | K70: Օ
C71: =C18 -> 45601 | D71: 364.33573 | E71: 420.6542 | F71: 7.1744203 | G71: Օ | I71: =(349.7*10^(3-E18)+(80*H18/48.03+71.5*I18/62.01+76.3*J18/35.45+73.5*N(K18)/18.04+50.1*L18/22.99+73.5*M18/39.1+59.8*N18/20.04+53.3*O18/12.16+44.5*G18+69*N(F42)/31.66+71.8*N(G42)/46.01))*1/10 -> 4.5383829 | J71: -6.9258478 | K71: Օ
B72: Xi'an | C72: =C20 -> 45368 | D72: 477.03216 | E72: 535.69697 | F72: 5.7927443 | G72: Օ | I72: =(349.7*10^(3-E20)+(80*H20/48.03+71.5*I20/62.01+76.3*J20/35.45+73.5*N(K20)/18.04+50.1*L20/22.99+73.5*M20/39.1+59.8*N20/20.04+53.3*O20/12.16+44.5*G20+69*N(F44)/31.66+71.8*N(G44)/46.01))*1/10 -> 5.8549349 | J72: -3.1829245 | K72: Օ
B73: -Jiwozi River | C73: =C21 -> 45406 | D73: 534.03885 | E73: 571.68322 | F73: 3.4045056 | G73: Օ | I73: =(349.7*10^(3-E21)+(80*H21/48.03+71.5*I21/62.01+76.3*J21/35.45+73.5*N(K21)/18.04+50.1*L21/22.99+73.5*M21/39.1+59.8*N21/20.04+53.3*O21/12.16+44.5*G21+69*N(F45)/31.66+71.8*N(G45)/46.01))*1/10 -> 6.2548792 | J73: 7.4287272 | K73: Օ
C74: =C22 -> 45481 | D74: 340.08358 | E74: 331.5669 | F74: -1.2680227 | G74: Օ | I74: =(349.7*10^(3-E22)+(80*H22/48.03+71.5*I22/62.01+76.3*J22/35.45+73.5*N(K22)/18.04+50.1*L22/22.99+73.5*M22/39.1+59.8*N22/20.04+53.3*O22/12.16+44.5*G22+69*N(F46)/31.66+71.8*N(G46)/46.01))*1/10 -> 4.1312955 | J74: -5.6915139 | K74: Օ
C75: =C23 -> 45636 | D75: 447.86794 | E75: 495.15011 | F75: 5.01392 | G75: Օ | I75: =(349.7*10^(3-E23)+(80*H23/48.03+71.5*I23/62.01+76.3*J23/35.45+73.5*N(K23)/18.04+50.1*L23/22.99+73.5*M23/39.1+59.8*N23/20.04+53.3*O23/12.16+44.5*G23+69*N(F47)/31.66+71.8*N(G47)/46.01))*1/10 -> 6.0517931 | J75: -4.5589144 | K75: Օ
B76: Zhuhai | C76: =C25 -> 45294 | D76: 734.71284 | E76: 717.4525 | F76: -1.1885933 | G76: Օ | I76: =(349.7*10^(3-E25)+(80*H25/48.03+71.5*I25/62.01+76.3*J25/35.45+73.5*N(K25)/18.04+50.1*L25/22.99+73.5*M25/39.1+59.8*N25/20.04+53.3*O25/12.16+44.5*G25+69*N(F49)/31.66+71.8*N(G49)/46.01))*1/10 -> 7.8782878 | J76: 4.7087744 | K76: Օ
B77: -Zhuxiandong | C77: =C26 -> 45384 | D77: 690.01869 | E77: 749.90252 | F77: 4.1588271 | G77: Օ | I77: =(349.7*10^(3-E26)+(80*H26/48.03+71.5*I26/62.01+76.3*J26/35.45+73.5*N(K26)/18.04+50.1*L26/22.99+73.5*M26/39.1+59.8*N26/20.04+53.3*O26/12.16+44.5*G26+69*N(F50)/31.66+71.8*N(G50)/46.01))*1/10 -> 7.6854016 | J77: 1.6240925 | K77: Օ
B78: Stream | C78: =C27 -> 45475 | D78: 667.73575 | E78: 741.50788 | F78: 5.2348739 | G78: Օ | I78: =(349.7*10^(3-E27)+(80*H27/48.03+71.5*I27/62.01+76.3*J27/35.45+73.5*N(K27)/18.04+50.1*L27/22.99+73.5*M27/39.1+59.8*N27/20.04+53.3*O27/12.16+44.5*G27+69*N(F51)/31.66+71.8*N(G51)/46.01))*1/10 -> 7.7369103 | J78: 1.8244134 | K78: Օ
C79: =C28 -> 45600 | D79: 691.0767 | E79: 678.28311 | F79: -0.93427526 | G79: Օ | I79: =(349.7*10^(3-E28)+(80*H28/48.03+71.5*I28/62.01+76.3*J28/35.45+73.5*N(K28)/18.04+50.1*L28/22.99+73.5*M28/39.1+59.8*N28/20.04+53.3*O28/12.16+44.5*G28+69*N(F52)/31.66+71.8*N(G52)/46.01))*1/10 -> 7.5065027 | J79: 5.9774803 | K79: Օ
C312: 6.6135912 | G312: 0.921 | H312: 0.374

Sheet (2)Iji-2024
B1: Table 6.4.2 Result of Inland Aquatic Environment Monitoring
B3: Duration: | C3: 2024.5-2025.1
B4: Country: | C4: Japan
B5: Lake/Stream: | C5: Ijira Lake
D7: Mandatory Parameters : 4times/year
C8: Sampling | D8: Temp. | E8: pH | F8: EC | G8: Alkalinity | H8: Gran's ANC | I8: SO42- | J8: NO3- | K8: Cl- | L8: NH4+ | M8: Na+ | N8: K+ | O8: Ca2+ | P8: Mg2+
C9: Date | D9: (℃) | F9: (mS/m) | G9: (meq/L) | H9: (meq/L) | I9: (mg/L) | J9: (mg/L) | K9: (mg/L) | L9: (mg/L) | M9: (mg/L) | N9: (mg/L) | O9: (mg/L) | P9: (mg/L)
B10: Center | C10: 45434 | D10: 19 | E10: 7.1216345 | F10: 3.47 | G10: 0.161 | H10: 0.1465 | I10: 4.52 | J10: 0.425 | K10: 1.665 | L10: <0.01*1 | M10: 1.84 | N10: 0.255 | O10: 2.515 | P10: 1.195
B11: (Surface) | C11: 45497 | D11: 25.5 | E11: 7.3816281 | F11: 3.29 | G11: 0.1605 | H11: 0.1475 | I11: 4.11 | J11: 0.35 | K11: 1.53 | L11: <0.01*1 | M11: 1.76 | N11: 0.245 | O11: 2.375 | P11: 1.14
C12: 45587 | D12: 20.9 | E12: 6.9513366 | F12: 3.685 | G12: 0.1775 | H12: 0.1635 | I12: 4.3 | J12: 0.83 | K12: 1.57 | L12: <0.01*1 | M12: 1.88 | N12: 0.27 | O12: 2.78 | P12: 1.23
C13: 45679 | D13: 6.8 | E13: 7.1381191 | F13: 3.885 | G13: 0.1705 | H13: 0.1635 | I13: 5.135 | J13: 0.74 | K13: 1.795 | L13: <0.01*1 | M13: 1.91 | N13: 0.22 | O13: 3.05 | P13: 1.21
C14: mean*2 | D14: 18.05 | E14: 7.1224576 | F14: 3.5825 | G14: 0.167375 | H14: 0.15525 | I14: 4.51625 | J14: 0.58625 | K14: 1.64 | L14: <0.01*1 | M14: 1.8475 | N14: 0.2475 | O14: 2.68 | P14: 1.19375
B15: Center | C15: =C10 -> 45434 | D15: 15.4 | E15: 6.7052498 | F15: 3.555 | G15: 0.1625 | H15: 0.145 | I15: 4.465 | J15: 0.615 | K15: 1.65 | L15: 0.025 | M15: 1.83 | N15: 0.25 | O15: 2.59 | P15: 1.23
B16: (near bottom) | C16: =C11 -> 45497 | D16: 18.7 | E16: 6.4924507 | F16: 3.495 | G16: 0.188 | H16: 0.173 | I16: 3.465 | J16: 0.18 | K16: 1.54 | L16: 0.05 | M16: 1.705 | N16: 0.32 | O16: 2.575 | P16: 1.2
C17: =C12 -> 45587 | D17: 19.7 | E17: 6.7628387 | F17: 3.91 | G17: 0.1975 | H17: 0.1785 | I17: 4.29 | J17: 0.815 | K17: 1.6 | L17: 0.11 | M17: 1.895 | N17: 0.305 | O17: 2.895 | P17: 1.325
C18: =C13 -> 45679 | D18: 6.4 | E18: 7.127822 | F18: 3.9 | G18: 0.1685 | H18: 0.1785 | I18: 5.135 | J18: 0.74 | K18: 1.79 | L18: <0.01*1 | M18: 1.91 | N18: 0.22 | O18: 3.06 | P18: 1.21
C19: mean*2 | D19: 15.05 | E19: 6.717801 | F19: 3.715 | G19: 0.179125 | H19: 0.16875 | I19: 4.33875 | J19: 0.5875 | K19: 1.645 | L19: 0.04625 | M19: 1.835 | N19: 0.27375 | O19: 2.78 | P19: 1.24125
B20: Kamagatani River | C20: =C10 -> 45434 | D20: 15.6 | E20: 7.0860025 | F20: 3.76 | G20: 0.1535 | H20: 0.1345 | I20: 5.565 | J20: 0.89 | K20: 1.68 | L20: <0.01*1 | M20: 1.945 | N20: 0.25 | O20: 2.605 | P20: 1.35
B21: (Input) | C21: =C11 -> 45497 | D21: 20.8 | E21: 7.1429634 | F21: 3.67 | G21: 0.155 | H21: 0.1405 | I21: 4.835 | J21: 1.115 | K21: 1.62 | L21: <0.01*1 | M21: 1.85 | N21: 0.285 | O21: 2.53 | P21: 1.285
C22: =C12 -> 45587 | D22: 20.8 | E22: 7.1260424 | F22: 3.975 | G22: 0.1545 | H22: 0.14 | I22: 5.745 | J22: 1.45 | K22: 1.69 | L22: <0.01*1 | M22: 2 | N22: 0.27 | O22: 2.765 | P22: 1.37
C23: =C13 -> 45679 | D23: 8 | E23: 7.1290507 | F23: 3.99 | G23: 0.1345 | H23: 0.14 | I23: 6.62 | J23: 1.17 | K23: 1.74 | L23: <0.01*1 | M23: 1.95 | N23: 0.2 | O23: 2.71 | P23: 1.395
C24: mean*2 | D24: 16.3 | E24: 7.1204905 | F24: 3.84875 | G24: 0.149375 | H24: 0.13875 | I24: 5.69125 | J24: 1.15625 | K24: 1.6825 | L24: <0.01*1 | M24: 1.93625 | N24: 0.25125 | O24: 2.6525 | P24: 1.35
B25: Kobora River | C25: =C10 -> 45434 | D25: 16.5 | E25: 7.0293154 | F25: 3.305 | G25: 0.1415 | H25: 0.111 | I25: 4.42 | J25: 0.6 | K25: 1.72 | L25: <0.01*1 | M25: 2.175 | N25: 0.245 | O25: 1.79 | P25: 1.25
B26: (Input) | C26: =C11 -> 45497 | D26: 21.4 | E26: 7.0190544 | F26: 3.17 | G26: 0.132 | H26: 0.112 | I26: 3.72 | J26: 1.09 | K26: 1.66 | L26: <0.01*1 | M26: 2.085 | N26: 0.28 | O26: 1.675 | P26: 1.15
C27: =C12 -> 45587 | D27: 21.4 | E27: 6.9755647 | F27: 3.395 | G27: 0.132 | H27: 0.1135 | I27: 4.36 | J27: 1.33 | K27: 1.75 | L27: <0.01*1 | M27: 2.205 | N27: 0.25 | O27: 1.82 | P27: 1.235
C28: =C13 -> 45679 | D28: 7.4 | E28: 7.0029727 | F28: 3.45 | G28: 0.126 | H28: 0.1135 | I28: 4.95 | J28: 0.925 | K28: 1.81 | L28: <0.01*1 | M28: 2.17 | N28: 0.18 | O28: 1.835 | P28: 1.28
C29: mean*2 | D29: 16.675 | E29: 7.006249 | F29: 3.33 | G29: 0.132875 | H29: 0.1125 | I29: 4.3625 | J29: 0.98625 | K29: 1.735 | L29: <0.01*1 | M29: 2.15875 | N29: 0.23875 | O29: 1.78 | P29: 1.22875
D31: Mandatory Parameters : Once/year | K31: Optional Parameters
B32: Site | C32: Sampling | D32: Transparency | E32: Water Color | F32: Water Color | H32: PO43- | I32: NO2- | J32: DOC | K32: Chl-a
C33: Date | D33: (m) | E33: (Forel-Ule Scale) | F33: (sample) | H33: (mg/L) | I33: (mg/L) | J33: (mg/L) | K33: (μg/L)
B34: Center | C34: =C10 -> 45434 | D34: 3.15 | E34: 16 | F34: clear, colorless | H34: <0.02*1 | I34: <0.01*1 | J34: 0.535 | K34: 3.965
B35: (Surface) | C35: =C11 -> 45497 | D35: 2.75 | E35: 16 | F35: clear, colorless | H35: - | I35: <0.01*1 | J35: - | K35: 4.585
C36: =C12 -> 45587 | D36: 2.65 | E36: 12 | F36: clear, colorless | H36: - | I36: <0.01*1 | J36: - | K36: 5.77
C37: =C13 -> 45679 | D37: 3.3 | E37: 16 | F37: clear, colorless | H37: - | I37: <0.01*1 | J37: - | K37: 4.82
C38: mean | D38: 2.9625 | E38: - | F38: - | H38: <0.02*1 | I38: <0.01*1 | J38: 0.535 | K38: 4.785
B39: Center | C39: =C10 -> 45434 | D39: - | E39: - | F39: clear, colorless | H39: <0.02*1 | I39: <0.01*1 | J39: 0.5 | K39: 6.42
B40: (near bottom) | C40: =C11 -> 45497 | D40: - | E40: - | F40: clear, colorless | H40: - | I40: <0.01*1 | J40: - | K40: 16.09
C41: =C12 -> 45587 | D41: - | E41: - | F41: clear, colorless | H41: - | I41: <0.01*1 | J41: - | K41: 6.27
C42: =C13 -> 45679 | D42: - | E42: - | F42: clear, colorless | H42: - | I42: <0.01*1 | J42: - | K42: 7.235
C43: mean | D43: - | E43: - | F43: - | H43: <0.02*1 | I43: <0.01*1 | J43: 0.5 | K43: 9.00375
B44: Kamagatani River | C44: =C10 -> 45434 | D44: - | E44: - | F44: clear, colorless | H44: 0.02 | I44: <0.01*1 | J44: 0.215 | K44: -
B45: (Input) | C45: =C11 -> 45497 | D45: - | E45: - | F45: clear, colorless | H45: - | I45: <0.01*1 | J45: - | K45: -
C46: =C12 -> 45587 | D46: - | E46: - | F46: clear, colorless | H46: - | I46: <0.01*1 | J46: - | K46: -
C47: =C13 -> 45679 | D47: - | E47: - | F47: clear, colorless | H47: - | I47: <0.01*1 | J47: - | K47: -
C48: mean | D48: - | E48: - | F48: - | H48: 0.02 | I48: <0.01*1 | J48: 0.215 | K48: -
B49: Kobora River | C49: =C10 -> 45434 | D49: - | E49: - | F49: clear, colorless | H49: <0.02*1 | I49: <0.01*1 | J49: 0.3 | K49: -
B50: (Input) | C50: =C11 -> 45497 | D50: - | E50: - | F50: clear, colorless | H50: - | I50: <0.01*1 | J50: - | K50: -
C51: =C12 -> 45587 | D51: - | E51: - | F51: clear, colorless | H51: - | I51: <0.01*1 | J51: - | K51: -
C52: =C13 -> 45679 | D52: - | E52: - | F52: clear, colorless | H52: - | I52: <0.01*1 | J52: - | K52: -
C53: mean | D53: - | E53: - | F53: - | H53: <0.02*1 | I53: <0.01*1 | J53: 0.3 | K53: -
B54: note
B55: - : No analysis or measurement.
B56: *1: Less than detection limit.
B57: *2: Mean of pH takes an average of hydrogen ion.
B59: # When the value is under detection limit, it is considered as "0". Then the average and R1R2 were calculated by using it.
B60: # Annual precipitation is 2108.5 mm/year in 2024 (Gifu pref. Meteorological observatory).
D63: Anion | E63: Cation | F63: R1 | G63: Judge | I63: Λcalc | J63: R2 | K63: Judge
B64: Center | C64: =C10 -> 45434 | D64: 308.92914 | E64: 310.40414 | F64: 0.2381586 | G64: Օ | I64: 3.6025106 | J64: 1.873601 | K64: Օ
B65: (Surface) | C65: =C11 -> 45497 | D65: 294.87515 | E65: 295.12551 | F65: 0.042434774 | G65: Օ | I65: 3.4079027 | J65: 1.7602925 | K65: Օ
C66: =C12 -> 45587 | D66: 324.70005 | E66: 328.66578 | F66: 0.60697043 | G66: Օ | I66: 3.7727664 | J66: 1.1768455 | K66: Օ
C67: =C13 -> 45679 | D67: 339.9806 | E67: 340.48114 | F67: 0.073559129 | G67: Օ | I67: 3.9863199 | J67: 1.2872035 | K67: Օ
B68: Center | C68: =C15 -> 45434 | D68: 311.92492 | E68: 317.96946 | F68: 0.9596122 | G68: Օ | I68: 3.6677429 | J68: 1.5609428 | K68: Օ
B69: (near bottom) | C69: =C16 -> 45497 | D69: 306.48664 | E69: 312.61744 | F69: 0.99027019 | G69: Օ | I69: 3.5236597 | J69: 0.40833623 | K69: Օ
C70: =C17 -> 45587 | D70: 345.31355 | E70: 349.92276 | F70: 0.66296936 | G70: Օ | I70: 3.9991367 | J70: 1.1270096 | K70: Օ
C71: =C18 -> 45679 | D71: 337.83956 | E71: 340.98189 | F71: 0.46291011 | G71: Օ | I71: 3.9793888 | J71: 1.0075505 | K71: Օ
B72: Kamagatani River | C72: =C20 -> 45434 | D72: 331.74001 | E72: 332.08765 | F72: 0.052369478 | G72: Օ | I72: 3.9213612 | J72: 2.1006848 | K72: Օ
B73: (Input) | C73: =C21 -> 45497 | D73: 319.34539 | E73: 319.75257 | F73: 0.063712076 | G73: Օ | I73: 3.7497691 | J73: 1.0750889 | K73: Օ
C74: =C22 -> 45587 | D74: 345.16885 | E74: 344.61305 | F74: -0.080575387 | G74: Օ | I74: 4.0901597 | J74: 1.4278667 | K74: Օ
C75: =C23 -> 45679 | D75: 340.28166 | E75: 339.95881 | F75: -0.0474623 | G75: Օ | I75: 4.0958517 | J75: 1.3090978 | K75: Օ
B76: Kobora River | C76: =C49 -> 45434 | D76: 291.72072 | E76: 293.08322 | F76: 0.23298424 | G76: Օ | I76: 3.4106104 | J76: 1.572611 | K76: Օ
B77: (Input) | C77: =C50 -> 45497 | D77: 273.85592 | E77: 276.10364 | F77: 0.40870669 | G77: Օ | I77: 3.2042226 | J77: 0.5368902 | K77: Օ
C78: =C51 -> 45587 | D78: 293.59005 | E78: 294.79178 | F78: 0.20424219 | G78: Օ | I78: 3.459256 | J78: 0.93746142 | K78: Օ
C79: =C52 -> 45679 | D79: 295.03536 | E79: 295.92179 | F79: 0.14999791 | G79: Օ | I79: 3.5002323 | J79: 0.72274239 | K79: Օ
B84: *3: No sample because of no river flow.
C312: 6.6135912 | G312: 0.921 | H312: 0.374

Sheet (3)Ftg-2024
B1: Table 6.4.3 Result of Inland Aquatic Environment Monitoring
B3: Duration: | C3: 2024.6-2024.10
B4: Country: | C4: Japan
B5: Lake/Stream: | C5: Futago-ike Lake (Oike and Meike)
D7: Mandatory Parameters : 3 times/year
B8: Site | C8: Sampling | D8: Temp. | E8: pH | F8: EC | G8: Alkalinity | H8: Gran's ANC | I8: SO42- | J8: NO3- | K8: Cl- | L8: NH4+ | M8: Na+ | N8: K+ | O8: Ca2+ | P8: Mg2+
C9: Date | D9: (oC) | F9: (mS/m) | G9: (meq/L) | H9: (meq/L) | I9: (mg/L) | J9: (mg/L) | K9: (mg/L) | L9: (mg/L) | M9: (mg/L) | N9: (mg/L) | O9: (mg/L) | P9: (mg/L)
B10: Oike (center) | C10: 45469 | D10: 12.8 | E10: 6.9215768 | F10: 1.745 | G10: 0.1255 | H10: 0.116 | I10: 0.95 | J10: 0.8235 | K10: 0.345 | L10: <0.02*1 | M10: 1.015 | N10: 0.245 | O10: 1.59 | P10: 0.175
B11: surface | C11: 45531 | D11: 16.9 | E11: 6.9905594 | F11: 1.85 | G11: 0.1395 | H11: 0.12 | I11: 0.945 | J11: 0.91 | K11: 0.34 | L11: <0.02*1 | M11: 1.225 | N11: 0.265 | O11: 1.94 | P11: 0.19
C12: 45593 | D12: 9.8 | E12: 7.1081261 | F12: 1.97 | G12: 0.1485 | H12: 0.134 | I12: 0.985 | J12: 0.76 | K12: 0.345 | L12: <0.02*1 | M12: 1.26 | N12: 0.285 | O12: 2.06 | P12: 0.19
C13: mean*2 | D13: 13.166667 | E13: 7.0000743 | F13: 1.855 | G13: 0.13783333 | H13: 0.12333333 | I13: 0.96 | J13: 0.83116667 | K13: 0.34333333 | L13: <0.02*1 | M13: 1.1666667 | N13: 0.265 | O13: 1.8633333 | P13: 0.185
B14: Oike (center) | C14: =$C$10 -> 45469 | D14: 6.5 | E14: 6.9609576 | F14: 2.01 | G14: 0.148 | H14: 0.1385 | I14: 1.045 | J14: 1.0935 | K14: 0.395 | L14: <0.02*1 | M14: 1.195 | N14: 0.28 | O14: 1.925 | P14: 0.21
B15: near bottom | C15: =$C$11 -> 45531 | D15: 6.9 | E15: 6.9844288 | F15: 2.135 | G15: 0.155 | H15: 0.1375 | I15: 1.045 | J15: 1.1 | K15: 0.385 | L15: <0.02*1 | M15: 1.445 | N15: 0.29 | O15: 2.25 | P15: 0.225
C16: =$C$12 -> 45593 | D16: 7.2 | E16: 7.0495396 | F16: 2.12 | G16: 0.155 | H16: 0.1415 | I16: 1.005 | J16: 0.9 | K16: 0.375 | L16: <0.02*1 | M16: 1.365 | N16: 0.3 | O16: 2.205 | P16: 0.215
C17: mean*2 | D17: 6.8666667 | E17: 6.996717 | F17: 2.0883333 | G17: 0.15266667 | H17: 0.13916667 | I17: 1.0316667 | J17: 1.0311667 | K17: 0.385 | L17: <0.02*1 | M17: 1.335 | N17: 0.29 | O17: 2.1266667 | P17: 0.21666667
B18: Meike (center) | C18: =$C$10 -> 45469 | D18: 16.2 | E18: 5.8215513 | F18: 0.49 | G18: 0.0265 | H18: 0.009 | I18: 0.57 | J18: <0.1*1 | K18: 0.365 | L18: <0.02*1 | M18: 0.39 | N18: 0.135 | O18: 0.26 | P18: 0.07
B19: surface | C19: =$C$11 -> 45531 | D19: 20.7 | E19: 6.0524355 | F19: 0.44 | G19: 0.0275 | H19: 0.01 | I19: 0.46 | J19: <0.1*1 | K19: 0.335 | L19: <0.02*1 | M19: 0.565 | N19: 0.095 | O19: 0.255 | P19: 0.065
C20: =$C$12 -> 45593 | D20: 11.4 | E20: 5.7743539 | F20: 0.405 | G20: 0.024 | H20: 0.01 | I20: 0.34 | J20: <0.1*1 | K20: 0.365 | L20: <0.02*1 | M20: 0.63 | N20: 0 | O20: 0.21 | P20: 0
C21: mean*2 | D21: 16.1 | E21: 5.8669154 | F21: 0.445 | G21: 0.026 | H21: 0.0096666667 | I21: 0.45666667 | J21: <0.1*1 | K21: 0.355 | L21: <0.02*1 | M21: 0.52833333 | N21: 0.076666667 | O21: 0.24166667 | P21: 0.045
B22: Meike (center) | C22: =$C$10 -> 45469 | D22: 12.9 | E22: 5.6464135 | F22: 0.56 | G22: 0.025 | H22: 0.011 | I22: 0.615 | J22: <0.1*1 | K22: 0.345 | L22: <0.02*1 | M22: 0.37 | N22: 0.18 | O22: 0.28 | P22: 0.07
B23: near bottom | C23: =$C$11 -> 45531 | D23: 17.5 | E23: 6.0827234 | F23: 0.48 | G23: 0.029 | H23: 0.011 | I23: 0.48 | J23: <0.1*1 | K23: 0.42 | L23: <0.02*1 | M23: 0.79 | N23: 0.06 | O23: 0.255 | P23: 0.065
C24: =$C$12 -> 45593 | D24: 11.4 | E24: 5.8405396 | F24: 0.43 | G24: 0.0275 | H24: 0.01 | I24: 0.345 | J24: <0.1*1 | K24: 0.39 | L24: <0.02*1 | M24: 0.64 | N24: 0.06 | O24: 0.21 | P24: 0
C25: mean*2 | D25: 13.933333 | E25: 5.8212633 | F25: 0.49 | G25: 0.027166667 | H25: 0.010666667 | I25: 0.48 | J25: <0.1*1 | K25: 0.385 | L25: <0.02*1 | M25: 0.6 | N25: 0.1 | O25: 0.24833333 | P25: 0.045
D27: Mandatory Parameters : Once/year | J27: Optional Parameters
B28: Site | C28: Sampling | D28: Transparency | E28: Water Color | F28: Water Color | G28: PO43- | H28: NO2- | I28: DOC | J28: COD | K28: D-Al | L28: Chl-a
C29: Date | D29: (m) | E29: (Lake) | F29: (Sample) | G29: (mg/L) | H29: (mg/L) | I29: (mg/L) | J29: (mg/L) | K29: (mg/L) | L29: (μg/L)
B30: Oike (center) | C30: =$C$10 -> 45469 | D30: 9 | E30: pale blue-green | F30: clear, colorless | G30: <0.01*1 | H30: <0.01*1 | I30: 0.7 | J30: 1.95 | K30: 0.0245 | L30: 0.2
B31: surface | C31: =$C$11 -> 45531 | D31: 8.8 | E31: clear, colorless | F31: clear, colorless | G31: <0.01*1 | H31: <0.01*1 | I31: 1 | J31: 1.9 | K31: 0.014 | L31: 0.6
C32: =$C$12 -> 45593 | D32: 7.8 | E32: clear, colorless | F32: clear, colorless | G32: <0.01*1 | H32: <0.01*1 | I32: 0.925 | J32: 2 | K32: 0.015 | L32: 1.25
C33: mean | D33: 8.5333333 | E33: - | F33: - | G33: <0.01*1 | H33: <0.01*1 | I33: 0.875 | J33: 1.95 | K33: 0.017833333 | L33: 0.68333333
B34: Oike (center) | C34: =$C$10 -> 45469 | D34: - | E34: - | F34: clear, colorless | G34: <0.01*1 | H34: <0.01*1 | I34: 0.7 | J34: 2.05 | K34: 0.019 | L34: 0.3
B35: near bottom | C35: =$C$11 -> 45531 | D35: - | E35: - | F35: clear, colorless | G35: <0.01*1 | H35: <0.01*1 | I35: 1.1 | J35: 2.1 | K35: 0.015 | L35: 0.85
C36: =$C$12 -> 45593 | D36: - | E36: - | F36: clear, colorless | G36: <0.01*1 | H36: <0.01*1 | I36: 1.125 | J36: 2.4 | K36: 0.0155 | L36: 2.6
C37: mean | D37: - | E37: - | F37: - | G37: <0.01*1 | H37: <0.01*1 | I37: 0.975 | J37: 2.1833333 | K37: 0.0165 | L37: 1.25
B38: Meike (center) | C38: =$C$10 -> 45469 | D38: 1.7 | E38: pale green | F38: clear, colorless | G38: <0.01*1 | H38: <0.01*1 | I38: 2.35 | J38: 8.1 | K38: 0.058 | L38: 22.3
B39: surface | C39: =$C$11 -> 45531 | D39: 1.8 | E39: green | F39: clear, colorless | G39: <0.01*1 | H39: <0.01*1 | I39: 5.35 | J39: 11.6 | K39: 0.0175 | L39: 38.8
C40: =$C$12 -> 45593 | D40: 1.75 | E40: green | F40: clear, colorless | G40: <0.01*1 | H40: <0.01*1 | I40: 7.28 | J40: 16.7 | K40: 0.0125 | L40: 48.8
C41: mean | D41: 1.75 | E41: - | F41: - | G41: <0.01*1 | H41: <0.01*1 | I41: 4.9933333 | J41: 12.133333 | K41: 0.029333333 | L41: 36.633333
B42: Meike (center) | C42: =$C$10 -> 45469 | D42: - | E42: - | F42: clear, colorless | G42: <0.01*1 | H42: <0.01*1 | I42: 2.5 | J42: 8.7 | K42: 0.1345 | L42: 24
B43: near bottom | C43: =$C$11 -> 45531 | D43: - | E43: - | F43: clear, colorless | G43: <0.01*1 | H43: <0.01*1 | I43: 5.5 | J43: 13.65 | K43: 0.0255 | L43: 62.6
C44: =$C$12 -> 45593 | D44: - | E44: - | F44: clear, colorless | G44: <0.01*1 | H44: <0.01*1 | I44: 7.075 | J44: 15.65 | K44: 0.0125 | L44: 50.5
C45: mean | D45: - | E45: - | F45: - | G45: <0.01*1 | H45: <0.01*1 | I45: 5.025 | J45: 12.666667 | K45: 0.0575 | L45: 45.7
B46: - : No analysis or measurement.
B47: *1: Less than determination limit.
B48: *2: Mean of pH takes an average of hydrogen ion.
B49: # When the value is under detection limit, it is considered as "0". Then the average and R1R2 were calculated by using it.
B50: # Annual precipitation is 1491.0 mm/year in 2024 (Hara village Meteorological observatory).
D53: Anion | E53: Cation | F53: R1 | G53: Judge | I53: Λcalc | J53: R2 | K53: Judge
B54: Oike (center) | C54: =$C$10 -> 45469 | D54: 168.29144 | E54: 144.26817 | F54: -7.6859795 | G54: Օ | I54: 1.7085188 | J54: -1.0563497 | K54: Օ
B55: surface | C55: =$C$11 -> 45531 | D55: 183.44123 | E55: 172.59511 | F55: -3.0463501 | G55: Օ | I55: 1.9388073 | J55: 2.3439374 | K55: Օ
C56: =$C$12 -> 45593 | D56: 190.99612 | E56: 180.59281 | F56: -2.7996821 | G56: Օ | I56: 2.015648 | J56: 1.1453085 | K56: Օ
B57: Oike (center) | C57: =$C$10 -> 45469 | D57: 198.53394 | E57: 172.57727 | F57: -6.9943097 | G57: Օ | I57: 2.0271092 | J57: 0.42379741 | K57: Օ
B58: near bottom | C58: =$C$11 -> 45531 | D58: 205.35668 | E58: 201.15268 | F58: -1.0341688 | G58: Օ | I58: 2.2165709 | J58: 1.8745163 | K58: Օ
C59: =$C$12 -> 45593 | D59: 201.01649 | E59: 194.84636 | F59: -1.5586544 | G59: Օ | I59: 2.1508254 | J59: 0.72176673 | K59: Օ
B60: Meike (center) | C60: =$C$10 -> 45469 | D60: 48.663775 | E60: 40.655378 | F60: -8.9660463 | G60: Օ | I60: 0.56279987 | J60: 6.9148825 | K60: Օ
B61: surface | C61: =$C$11 -> 45531 | D61: 46.527277 | E61: 45.961782 | F61: -0.61141769 | G61: Օ | I61: 0.54765659 | J61: 10.900204 | K61: Օ
C62: =$C$12 -> 45593 | D62: 41.375101 | E62: 39.563564 | F62: -2.2381599 | G62: Օ | I62: 0.50074119 | J62: 10.57048 | K62: Օ
B63: Meike (center) | C63: =$C$10 -> 45469 | D63: 47.536514 | E63: 42.683455 | F63: -5.3791407 | G63: Օ | I63: 0.59558104 | J63: 3.0790602 | K63: Օ
B64: near bottom | C64: =$C$11 -> 45531 | D64: 50.841427 | E64: 54.793803 | F64: 3.7415325 | G64: Օ | I64: 0.61632273 | J64: 12.434543 | K64: Օ
C65: =$C$12 -> 45593 | D65: 45.684421 | E65: 41.295404 | F65: -5.0460172 | G65: Օ | I65: 0.52767689 | J65: 10.199357 | K65: Օ
C312: 6.6135912 | G312: 0.921 | H312: 0.374

Sheet (4)Lao-2024
B1: Table 6.4.4 Result of Inland Aquatic Environment Monitoring
B3: Duration: | C3: 2024.3-2024.11
B4: Country: | C4: Lao PDR
B5: Lake/Stream: | C5: Nam Houm Lake
D7: Mandatory Parameters: 4 times/year
B8: Site | C8: Sampling | D8: Temp. | E8: pH*2 | F8: EC*2 | G8: Alkalinity | H8: SO42- | I8: NO3- | J8: Cl- | K8: NH4+ | L8: Na+ | M8: K+ | N8: Ca2+ | O8: Mg2+
C9: Date | D9: (oC) | F9: (mS/m) | G9: (meq/L) | H9: (mg/L) | I9: (mg/L) | J9: (mg/L) | K9: (mg/L) | L9: (mg/L) | M9: (mg/L) | N9: (mg/L) | O9: (mg/L)
B10: Nam Houm Lake | C10: 45364 | D10: 26.5 | E10: 6.401 | F10: 31 | G10: 0.849 | H10: 2.46 | I10: 0.24 | J10: 0.24 | K10: 0.03 | L10: 2.4 | M10: 2.28 | N10: 11.96 | O10: 1.38
C11: 45463 | D11: 26.7 | E11: 6.394 | F11: 35 | G11: 0.652 | H11: 1.55 | I11: 0.17 | J11: 1.66 | K11: 0.02 | L11: 1.92 | M11: 1.9 | N11: 8.75 | O11: 1.34
C12: 45547 | D12: 26.7 | E12: 6.412 | F12: 34 | G12: 0.659 | H12: 1.76 | I12: 0.21 | J12: 1.45 | K12: 0.02 | L12: 3.88 | M12: 1.72 | N12: 7.72 | O12: 0.98
C13: 45620 | D13: 26.7 | E13: 6.412 | F13: 36 | G13: 0.737 | H13: 0.63 | I13: 0.03 | J13: 4.34 | K13: 0.07 | L13: 11.95 | M13: 1.03 | N13: 4.59 | O13: 0.73
C14: mean*1 | D14: =AVERAGE(D10:D13) -> 26.65 | E14: =-LOG((10^(-E10)+10^(-E11)+10^(-E12)+10^(-E13))/4) -> 6.4046823 | F14: =AVERAGE(F10:F13) -> 34 | G14: =AVERAGE(G10:G13) -> 0.72425 | H14: =AVERAGE(H10:H13) -> 1.6 | I14: =AVERAGE(I10:I13) -> 0.1625 | J14: =AVERAGE(J10:J13) -> 1.9225 | K14: =AVERAGE(K10:K13) -> 0.035 | L14: =AVERAGE(L10:L13) -> 5.0375 | M14: =AVERAGE(M10:M13) -> 1.7325 | ... O14: =AVERAGE(O10:O13) -> 1.1075
D16: Mandatory Parameters: Once/year | I16: Optional Parameters
B17: Site | C17: Sampling | D17: Transparency | E17: Water Color | F17: PO43- | G17: NO2- | H17: COD | I17: DO*2 | J17: T-P
C18: Date | D18: (m) | F18: (mg/L) | G18: (mg/L) | H18: (mg/L) | I18: (mg/L) | J18: (mg/L)
B19: Nam Houm Lake | C19: =C10 -> 45364 | D19: - | E19: - | F19: 0.001 | G19: 1.25 | H19: 17.12 | I19: 7.24 | J19: 0.02
C20: =C11 -> 45463 | D20: - | E20: - | F20: 0.001 | G20: 1.26 | H20: 18.63 | I20: 7.56 | J20: 0.01
C21: =C12 -> 45547 | D21: - | E21: - | F21: 0.001 | G21: 1.24 | H21: 17.64 | I21: 7.86 | J21: 0.02
C22: =C13 -> 45620 | D22: - | E22: - | F22: 0.001 | G22: 1.24 | H22: 17.06 | I22: 7.61 | J22: 0.03
C23: mean | D23: - | E23: - | F23: =AVERAGE(F19:F22) -> 0.001 | G23: =AVERAGE(G19:G22) -> 1.2475 | H23: =AVERAGE(H19:H22) -> 17.6125 | I23: =AVERAGE(I19:I22) -> 7.5675 | J23: =AVERAGE(J19:J22) -> 0.02
B24: - : No analysis or measurement.
B25: *1 : Mean of pH takes an average of hydrogen ion.
B26: *2 : Measured on-site
D28: Anion | E28: Cation | F28: R1 | G28: Judge | I28: Λcalc | J28: R2 | K28: Judge
B29: Nam Houm Lake | C29: =C10 -> 45364 | D29: =+(H10/48.03+N(I10)/62.01+J10/35.45+G10+N(F19)/31.66+N(G19)/46.01)*1000 -> 938.05802 | E29: =10^(6-E10)+(N(K10)/18.04+L10/22.99+M10/39.1+N10/20.04+O10/12.16)*1000 -> 875.05863 | F29: =100*(E29-D29)/(E29+D29) -> -3.4746466 | G29: Օ | I29: =(349.7*10^(3-E10)+(80*H10/48.03+71.5*N(I10)/62.01+76.3*J10/35.45+73.5*N(K10)/18.04+50.1*L10/22.99+73.5*M10/39.1+59.8*N10/20.04+53.3*O10/12.16+44.5*G10+69*N(F19)/31.66+71.8*N(G19)/46.01))*0.1 -> 9.61391 | J29: =100*(I29-F10)/(I29+F10) -> -52.657058 | K29: ×
C30: =C11 -> 45463 | D30: =+(H11/48.03+N(I11)/62.01+J11/35.45+G11+N(F20)/31.66+N(G20)/46.01)*1000 -> 761.25644 | E30: =10^(6-E11)+(N(K11)/18.04+L11/22.99+M11/39.1+N11/20.04+O11/12.16)*1000 -> 680.44433 | F30: =100*(E30-D30)/(E30+D30) -> -5.6053319 | G30: Օ | I30: =(349.7*10^(3-E11)+(80*H11/48.03+71.5*N(I11)/62.01+76.3*J11/35.45+73.5*N(K11)/18.04+50.1*L11/22.99+73.5*M11/39.1+59.8*N11/20.04+53.3*O11/12.16+44.5*G11+69*N(F20)/31.66+71.8*N(G20)/46.01))*0.1 -> 7.7295178 | J30: =100*(I30-F11)/(I30+F11) -> -63.821179 | K30: ×
C31: =C12 -> 45547 | D31: =+(H12/48.03+N(I12)/62.01+J12/35.45+G12+N(F21)/31.66+N(G21)/46.01)*1000 -> 766.91524 | E31: =10^(6-E12)+(N(K12)/18.04+L12/22.99+M12/39.1+N12/20.04+O12/12.16)*1000 -> 680.07635 | F31: =100*(E31-D31)/(E31+D31) -> -6.0013405 | G31: Օ | I31: =(349.7*10^(3-E12)+(80*H12/48.03+71.5*N(I12)/62.01+76.3*J12/35.45+73.5*N(K12)/18.04+50.1*L12/22.99+73.5*M12/39.1+59.8*N12/20.04+53.3*O12/12.16+44.5*G12+69*N(F21)/31.66+71.8*N(G21)/46.01))*0.1 -> 7.6795023 | J31: =100*(I31-F12)/(I31+F12) -> -63.149741 | K31: ×
C32: =C13 -> 45620 | D32: =+(H13/48.03+N(I13)/62.01+J13/35.45+G13+N(F22)/31.66+N(G22)/46.01)*1000 -> 900.0088 | E32: =10^(6-E13)+(N(K13)/18.04+L13/22.99+M13/39.1+N13/20.04+O13/12.16)*1000 -> 839.47626 | F32: =100*(E32-D32)/(E32+D32) -> -3.4799113 | G32: Օ | I32: =(349.7*10^(3-E13)+(80*H13/48.03+71.5*N(I13)/62.01+76.3*J13/35.45+73.5*N(K13)/18.04+50.1*L13/22.99+73.5*M13/39.1+59.8*N13/20.04+53.3*O13/12.16+44.5*G13+69*N(F22)/31.66+71.8*N(G22)/46.01))*0.1 -> 9.0453585 | J32: =100*(I32-F13)/(I32+F13) -> -59.838888 | K32: ×

Sheet (5)Mal-2024
B1: Table 6.4.5 Result of Inland Aquatic Environment Monitoring
B3: Duration: | C3: 2024.2.-2024.12.
B4: Country: | C4: Malaysia
B5: Lake/Stream: | C5: (See below)
D7: Mandatory Parameters: 6 times/year
B8: Site | C8: Sampling | D8: Temp. | E8: pH | F8: EC | G8: Alkalinity | H8: SO42- | I8: NO3- | J8: Cl- | K8: NH4+ | L8: Na+ | M8: K+ | N8: Ca2+ | O8: Mg2+ | T8: NH4+ | V8: NH4+
C9: Date | D9: (oC) | F9: (mS/m) | G9: (meq/L) | H9: (mg/L) | I9: (mg/L) | J9: (mg/L) | K9: (mg/L) | L9: (mg/L) | M9: (mg/L) | N9: (mg/L) | O9: (mg/L) | T9: (mg/L) | V9: (mg/L)
B10: Baru | C10: 45328 | D10: 24.6 | E10: 7.4249712 | F10: 4.16 | G10: 0.357 | H10: 1.386 | I10: 0.494 | J10: 1.7035 | K10: 0.005 | L10: 4.551 | M10: 0.347 | N10: 2.9705 | O10: 1.534 | P10: 0.005 | T10: 0 | V10: 0 | X10: 44964 | Y10: 25.9 | Z10: 7.4062158 | AA10: 5.69 | AB10: 0.5 | AC10: 2.169 | AD10: 1.436 | AE10: 0.358 | AF10: <0.003*1 | AG10: 4.334 | AH10: 0.4465 | AI10: 5.2405 | AJ10: 2.0845
B11: River | C11: 45391 | D11: 25 | E11: 7.7889647 | F11: 9.105 | G11: 0.8045 | H11: 1.9145 | I11: 0.6855 | J11: 3.422 | K11: 0.021 | L11: 6.7065 | M11: 1.0425 | N11: 6.5615 | O11: 3.136 | P11: 0.021 | T11: 0.009 | V11: 0.009 | X11: 45020 | Y11: 24.9 | Z11: 7.5507405 | AA11: 5.965 | AB11: 0.477 | AC11: 2.211 | AD11: 1.9105 | AE11: 0.4375 | AF11: 0.009 | AG11: 5.238 | AH11: 0.4585 | AI11: 4.747 | AJ11: 1.901
C12: 45447 | D12: 24.8 | E12: 7.5754895 | F12: 4.965 | G12: 0.4 | H12: 2.404 | I12: 0.4765 | J12: 1.7135 | K12: 0.0275 | L12: 4.6755 | M12: 0.7 | N12: 2.8435 | O12: 1.5385 | P12: 0.0275 | T12: 0.0185 | V12: 0.0185 | X12: 45083 | Y12: 25.8 | Z12: 7.4599488 | AA12: 6.035 | AB12: 0.4825 | AC12: 2.01 | AD12: 1.1755 | AE12: 0.2785 | AF12: 0.0185 | AG12: 4.2895 | AH12: 0.5975 | AI12: 4.9 | AJ12: 2.007
C13: 45517 | D13: 25.7 | E13: 7.5489647 | F13: 4.58 | G13: 0.401 | H13: 1.438 | I13: 0.6225 | J13: 2.46 | K13: 0.01 | L13: 4.908 | M13: 0.3835 | N13: 3.2405 | O13: 1.6945 | P13: 0.01 | T13: 0.005 | V13: 0.005 | X13: 45139 | Y13: 26.2 | Z13: 7.9442808 | AA13: 9.08 | AB13: 0.8895 | AC13: 1.4755 | AD13: 2.27 | AE13: 0.37 | AF13: 0.005 | AG13: 6.401 | AH13: 0.591 | AI13: 7.688 | AJ13: 2.964
C14: 45566 | D14: 25.8 | E14: 7.4679082 | F14: 4.85 | G14: 0.431 | H14: 1.486 | I14: 0.4205 | J14: 1.535 | K14: <0.003*1 | L14: 4.388 | M14: 0.362 | N14: 3.1875 | O14: 1.6725 | P14: 0 | T14: 0.02 | V14: 0.02 | X14: 45202 | Y14: 25.4 | Z14: 6.7531252 | AA14: 4.61 | AB14: 0.4145 | AC14: 1.6095 | AD14: 1.3155 | AE14: 0.223 | AF14: 0.02 | AG14: 4.378 | AH14: 0.385 | AI14: 3.23 | AJ14: 1.652
C15: 45629 | D15: 24.9 | E15: 6.9635912 | F15: 2.51 | G15: 0.205 | H15: 0.7935 | I15: 0.954 | J15: 1.5915 | K15: <0.003*1 | L15: 3.429 | M15: 0.299 | N15: 1.3475 | O15: 0.712 | P15: 0 | T15: 0.015 | V15: 0.015 | X15: 45265 | Y15: 24.8 | Z15: 7.7449712 | AA15: 5.18 | AB15: 0.467 | AC15: 1.7035 | AD15: 1.609 | AE15: 0.578 | AF15: 0.015 | AG15: 4.671 | AH15: 0.4455 | AI15: 3.0965 | AJ15: 1.935
C16: mean*2 | D16: =AVERAGEA(D10:D15) -> 25.133333 | E16: =-LOG((10^(-E10)+10^(-E11)+10^(-E12)+10^(-E13)+10^(-E14)+10^(-E15))/6) -> 7.3776749 | F16: =AVERAGE(F10:F15) -> 5.0283333 | G16: =AVERAGEA(G10:G15) -> 0.43308333 | H16: =AVERAGEA(H10:H15) -> 1.5703333 | I16: =AVERAGEA(I10:I15) -> 0.60883333 | J16: =AVERAGEA(J10:J15) -> 2.0709167 | K16: =AVERAGEA(K10:K15) -> 0.010583333 | L16: =AVERAGEA(L10:L15) -> 4.7763333 | M16: =AVERAGEA(M10:M15) -> 0.52233333 | N16: =AVERAGEA(N10:N15) -> 3.3585 | O16: =AVERAGEA(O10:O15) -> 1.7145833 | P16: =AVERAGE(P10:P15) -> 0.010583333 | T16: =AVERAGE(T10:T15) -> 0.01125 | V16: =AVERAGE(V10:V15) -> 0.01125 | X16: mean*2 | Y16: =AVERAGEA(Y10:Y15) -> 25.5 | Z16: =-LOG((10^(-Z10)+10^(-Z11)+10^(-Z12)+10^(-Z13)+10^(-Z14)+10^(-Z15))/6) -> 7.2896425 | AA16: =AVERAGE(AA10:AA15) -> 6.0933333 | AB16: =AVERAGEA(AB10:AB15) -> 0.53841667 | AC16: =AVERAGEA(AC10:AC15) -> 1.8630833 | AD16: =AVERAGEA(AD10:AD15) -> 1.6194167 | AE16: =AVERAGEA(AE10:AE15) -> 0.37416667 | AF16: 0.01125 | AG16: =AVERAGEA(AG10:AG15) -> 4.88525 | AH16: =AVERAGEA(AH10:AH15) -> 0.48733333 | AI16: =AVERAGEA(AI10:AI15) -> 4.817 | AJ16: =AVERAGEA(AJ10:AJ15) -> 2.0905833
D18: Mandatory Parameters: 6times/year
B19: Site | C19: Sampling | D19: PO43- | E19: TOC | F19: T-P | G19: COD | T19: T-P | V19: T-P
C20: Date | D20: (mg/L) | E20: (mg/L) | F20: (mg/L) | G20: (mg/L) | T20: (mg/L) | V20: (mg/L)
B21: Baru | C21: =$C$10 -> 45328 | D21: <0.10*1 | E21: 2.8565 | F21: 0.512 | G21: 8.05 | T21: 0 | V21: 0 | X21: =$C$10 -> 45328 | Y21: <0.10*1 | Z21: 1.35 | AA21: <0.2*1 | AB21: 4.6
B22: River | C22: =$C$11 -> 45391 | D22: <0.10*1 | E22: 5.6 | F22: 0.23 | G22: 16.6 | T22: 0.31 | V22: 0.31 | X22: =$C$11 -> 45391 | Y22: <0.10*1 | Z22: 2.145 | AA22: 0.31 | AB22: 3.55
C23: =$C$12 -> 45447 | D23: <0.10*1 | E23: 3.15 | F23: 0.252 | G23: 11.85 | T23: 0.335 | V23: 0.335 | X23: =$C$12 -> 45447 | Y23: <0.10*1 | Z23: 0.975 | AA23: 0.335 | AB23: 4.85
C24: =$C$13 -> 45517 | D24: <0.10*1 | E24: 1.35 | F24: 0.395 | G24: 5.3 | T24: 0.305 | V24: 0.305 | X24: =$C$13 -> 45517 | Y24: <0.10*1 | Z24: 1.435 | AA24: 0.305 | AB24: 3.75
C25: =$C$14 -> 45566 | D25: <0.10*1 | E25: 1.75 | F25: 0.96 | G25: 5.65 | T25: 0.365 | V25: 0.365 | X25: =$C$14 -> 45566 | Y25: <0.10*1 | Z25: 1.335 | AA25: 0.365 | AB25: 3
C26: =$C$15 -> 45629 | D26: <0.10*1 | E26: 1.15 | F26: 0.815 | G26: 3.6 | T26: 0.75 | V26: 0.75 | X26: =$C$15 -> 45629 | Y26: <0.10*1 | Z26: 2.3 | AA26: 0.75 | AB26: 4.25
C27: mean | D27: <0.10*1 | E27: =AVERAGEA(E21:E26) -> 2.64275 | F27: =AVERAGEA(F21:F26) -> 0.52733333 | G27: =AVERAGEA(G21:G26) -> 8.5083333 | T27: =AVERAGE(T21:T26) -> 0.34416667 | V27: =AVERAGE(V21:V26) -> 0.34416667 | X27: mean | Y27: <0.10*1 | Z27: =AVERAGEA(Z21:Z26) -> 1.59 | AA27: 0.34416667 | AB27: =AVERAGEA(AB21:AB26) -> 4
B28: - : No analysis or measurement.
B29: *1: Less than determination limit.
B30: *2: Mean of pH takes an average of hydrogen ion.
B31: # When the value is under detection limit, it is considered as "0". Then the average and R1R2 were calculated by using it.
D34: Anion | E34: Cation | F34: R1 | G34: Judge | I34: Λcalc | J34: R2 | K34: Judge
B35: Baru | C35: =$C$10 -> 45328 | D35: =+(H10/48.03+N(I10)/62.01+J10/35.45+G10+N(D21)/31.66)*1000 -> 441.87702 | E35: =10^(6-E10)+(N(K10)/18.04+L10/22.99+M10/39.1+N10/20.04+O10/12.16)*1000 -> 481.52492 | F35: =100*(E35-D35)/(E35+D35) -> 4.2936776 | G35: Օ | I35: =(349.7*10^(3-E10)+(80*H10/48.03+71.5*N(I10)/62.01+76.3*J10/35.45+73.5*N(K10)/18.04+50.1*L10/22.99+73.5*M10/39.1+59.8*N10/20.04+53.3*O10/12.16+44.5*G10+69*N(D21)/31.66))*1/10 -> 4.8622462 | J35: =100*(I35-F10)/(I35+F10) -> 7.7834961 | K35: Օ
B36: River | C36: =$C$11 -> 45391 | D36: =+(H11/48.03+N(I11)/62.01+J11/35.45+G11+N(D22)/31.66)*1000 -> 951.9455 | E36: =10^(6-E11)+(N(K11)/18.04+L11/22.99+M11/39.1+N11/20.04+O11/12.16)*1000 -> 904.87143 | F36: =100*(E36-D36)/(E36+D36) -> -2.5352026 | G36: Օ | I36: =(349.7*10^(3-E11)+(80*H11/48.03+71.5*N(I11)/62.01+76.3*J11/35.45+73.5*N(K11)/18.04+50.1*L11/22.99+73.5*M11/39.1+59.8*N11/20.04+53.3*O11/12.16+44.5*G11+69*N(D22)/31.66))*1/10 -> 9.713607 | J36: =100*(I36-F11)/(I36+F11) -> 3.2340705 | K36: Օ
C37: =$C$12 -> 45447 | D37: =+(H12/48.03+N(I12)/62.01+J12/35.45+G12+N(D23)/31.66)*1000 -> 506.07198 | E37: =10^(6-E12)+(N(K12)/18.04+L12/22.99+M12/39.1+N12/20.04+O12/12.16)*1000 -> 491.23741 | F37: =100*(E37-D37)/(E37+D37) -> -1.487459 | G37: Օ | I37: =(349.7*10^(3-E12)+(80*H12/48.03+71.5*N(I12)/62.01+76.3*J12/35.45+73.5*N(K12)/18.04+50.1*L12/22.99+73.5*M12/39.1+59.8*N12/20.04+53.3*O12/12.16+44.5*G12+69*N(D23)/31.66))*1/10 -> 5.2896367 | J37: =100*(I37-F12)/(I37+F12) -> 3.1657551 | K37: Օ
C38: =$C$13 -> 45517 | D38: =+(H13/48.03+N(I13)/62.01+J13/35.45+G13+N(D24)/31.66)*1000 -> 510.37184 | E38: =10^(6-E13)+(N(K13)/18.04+L13/22.99+M13/39.1+N13/20.04+O13/12.16)*1000 -> 524.92681 | F38: =100*(E38-D38)/(E38+D38) -> 1.4058718 | G38: Օ | I38: =(349.7*10^(3-E13)+(80*H13/48.03+71.5*N(I13)/62.01+76.3*J13/35.45+73.5*N(K13)/18.04+50.1*L13/22.99+73.5*M13/39.1+59.8*N13/20.04+53.3*O13/12.16+44.5*G13+69*N(D24)/31.66))*1/10 -> 5.4816368 | J38: =100*(I38-F13)/(I38+F13) -> 8.9611347 | K38: Օ
C39: =$C$14 -> 45566 | D39: =+(H14/48.03+N(I14)/62.01+J14/35.45+G14+N(D25)/31.66)*1000 -> 512.02058 | E39: =10^(6-E14)+(N(K14)/18.04+L14/22.99+M14/39.1+N14/20.04+O14/12.16)*1000 -> 496.75596 | F39: =100*(E39-D39)/(E39+D39) -> -1.513182 | G39: Օ | I39: =(349.7*10^(3-E14)+(80*H14/48.03+71.5*N(I14)/62.01+76.3*J14/35.45+73.5*N(K14)/18.04+50.1*L14/22.99+73.5*M14/39.1+59.8*N14/20.04+53.3*O14/12.16+44.5*G14+69*N(D25)/31.66))*1/10 -> 5.2540597 | J39: =100*(I39-F14)/(I39+F14) -> 3.9989841 | K39: Օ
C40: =$C$15 -> 45629 | D40: =+(H15/48.03+N(I15)/62.01+J15/35.45+G15+N(D26)/31.66)*1000 -> 281.79976 | E40: =10^(6-E15)+(N(K15)/18.04+L15/22.99+M15/39.1+N15/20.04+O15/12.16)*1000 -> 282.70076 | F40: =100*(E40-D40)/(E40+D40) -> 0.15961055 | G40: Օ | I40: =(349.7*10^(3-E15)+(80*H15/48.03+71.5*N(I15)/62.01+76.3*J15/35.45+73.5*N(K15)/18.04+50.1*L15/22.99+73.5*M15/39.1+59.8*N15/20.04+53.3*O15/12.16+44.5*G15+69*N(D26)/31.66))*1/10 -> 3.0184033 | J40: =100*(I40-F15)/(I40+F15) -> 9.1962056 | K40: ×
C312: 6.6135912 | G312: 0.921 | H312: 0.374

Sheet (6)Mon-2024
B1: Table 6.4.6 Result of Inland Aquatic Environment Monitoring
B3: Duration: | C3: 2024.5-2024.10
B4: Country: | C4: Mongolia
B5: Lake/Stream: | C5: Terelj River
D7: Mandatory Parameters: 4 times/year
B8: Site | C8: Sampling | D8: Temp. | E8: pH | F8: EC | G8: Alkalinity | H8: SO42- | I8: NO3- | J8: Cl- | K8: NH4+ | L8: Na+ | M8: K+ | N8: Ca2+ | O8: Mg2+
C9: Date | D9: (oC) | F9: (mS/m) | G9: (meq/L) | H9: (mg/L) | I9: (mg/L) | J9: (mg/L) | K9: (mg/L) | L9: (mg/L) | M9: (mg/L) | N9: (mg/L) | O9: (mg/L)
B10: Terelj River | C10: 45420 | D10: 11.5 | E10: 7.36 | F10: 3.36 | G10: 0.248 | H10: 3 | I10: 0.01 | J10: 0.45 | K10: 0.01 | L10: 1.46 | M10: 0.61 | N10: 5.2 | O10: 0.7
C11: 45448 | D11: 9.9 | E11: 7.47 | F11: 4.92 | G11: 0.361 | H11: 3.8 | I11: 0.01 | J11: 0.48 | K11: 0.01 | L11: 1.84 | M11: 0.58 | N11: 7.3 | O11: 0.95
C12: 45476 | D12: 14.6 | E12: 7.54 | F12: 3.42 | G12: 0.248 | H12: 2.86 | I12: 0.01 | J12: 0.25 | K12: 0.01 | L12: 1.51 | M12: 0.55 | N12: 5.64 | O12: 0.73
C13: 45518 | D13: 14 | E13: 7.49 | F13: 4.28 | G13: 0.372 | H13: 3.62 | I13: 0.16 | J13: 0.3 | K13: 0.01 | L13: 1.89 | M13: 0.61 | N13: 7.16 | O13: 0.93
C14: 45539 | D14: 10.2 | E14: 7.51 | F14: 4.74 | G14: 0.361 | H14: 3.51 | I14: 0.31 | J14: 0.39 | K14: 0.01 | L14: 1.79 | M14: 0.62 | N14: 7.14 | O14: 0.93
C15: 45574 | D15: 4.3 | E15: 7.69 | F15: 5.65 | G15: 0.423 | H15: 4.62 | I15: 0.94 | J15: 0.5 | K15: 0.02 | L15: 2.06 | M15: 0.57 | N15: 8.36 | O15: 1.1
C16: mean*1 | D16: =AVERAGE(D12:D15) -> 10.775 | E16: =-LOG((10^(-E10)+10^(-E11)+10^(-E12)+10^(-E13)+10^(-E14)+10^(-E15))/6) -> 7.4992696 | F16: =AVERAGEA(F10:F15) -> 4.395 | G16: =AVERAGEA(G10:G15) -> 0.3355 | H16: =AVERAGEA(H10:H15) -> 3.5683333 | I16: =AVERAGEA(I10:I15) -> 0.24 | J16: =AVERAGEA(J10:J15) -> 0.395 | K16: =AVERAGEA(K10:K15) -> 0.011666667 | L16: =AVERAGEA(L10:L15) -> 1.7583333 | M16: =AVERAGEA(M10:M15) -> 0.59 | ... O16: =AVERAGEA(O10:O15) -> 0.89
D18: Mandatory Parameters : Once/year
B19: Site | C19: Sampling | D19: PO43- | E19: NO2-
C20: Date | D20: (mg/L) | E20: (mg/L)
B21: Terelj River | C21: =C10 -> 45420 | D21: - | E21: -
C22: =C11 -> 45448 | D22: - | E22: -
C23: =C12 -> 45476 | D23: - | E23: -
C24: =C13 -> 45518 | D24: - | E24: -
C25: =C14 -> 45539 | D25: - | E25: -
C26: =C15 -> 45574 | D26: - | E26: -
C27: mean | D27: - | E27: -
B28: note
B29: - : No analysis or measurement.
B30: *1: Mean of pH takes an average of hydrogen ion.
D33: Anion | E33: Cation | F33: R1 | G33: Judge | I33: Λcalc | J33: R2 | K33: Judge
B34: Terelj River*2 | C34: =C10 -> 45420 | D34: =+(H10/48.03+N(I10)/62.01+J10/35.45+G10+N(D21)/31.66)*1000 -> 323.31616 | E34: =10^(6-E10)+(N(K10)/18.04+L10/22.99+M10/39.1+N10/20.04+O10/12.16)*1000 -> 396.7517 | F34: =100*(E34-D34)/(E34+D34) -> 10.198419 | G34: × | I34: =(349.7*10^(3-E10)+(80*H10/48.03+71.5*N(I10)/62.01+76.3*J10/35.45+73.5*N(K10)/18.04+50.1*L10/22.99+73.5*M10/39.1+59.8*N10/20.04+53.3*O10/12.16+44.5*G10+69*N(D21)/31.66))*1/10 -> 3.9982504 | J34: =100*(I34-F10)/(I34+F10) -> 8.6739429 | K34: Օ
C35: =C11 -> 45448 | D35: =+(H11/48.03+N(I11)/62.01+J11/35.45+G11+N(D22)/31.66)*1000 -> 453.81868 | E35: =10^(6-E11)+(N(K11)/18.04+L11/22.99+M11/39.1+N11/20.04+O11/12.16)*1000 -> 537.85322 | F35: =100*(E35-D35)/(E35+D35) -> 8.4740268 | G35: × | I35: =(349.7*10^(3-E11)+(80*H11/48.03+71.5*N(I11)/62.01+76.3*J11/35.45+73.5*N(K11)/18.04+50.1*L11/22.99+73.5*M11/39.1+59.8*N11/20.04+53.3*O11/12.16+44.5*G11+69*N(D22)/31.66))*1/10 -> 5.4538637 | J35: =100*(I35-F11)/(I35+F11) -> 5.1462383 | K35: Օ
C36: =C12 -> 45476 | D36: =+(H12/48.03+N(I12)/62.01+J12/35.45+G12+N(D23)/31.66)*1000 -> 314.75957 | E36: =10^(6-E12)+(N(K12)/18.04+L12/22.99+M12/39.1+N12/20.04+O12/12.16)*1000 -> 421.80041 | F36: =100*(E36-D36)/(E36+D36) -> 14.532536 | G36: × | I36: =(349.7*10^(3-E12)+(80*H12/48.03+71.5*N(I12)/62.01+76.3*J12/35.45+73.5*N(K12)/18.04+50.1*L12/22.99+73.5*M12/39.1+59.8*N12/20.04+53.3*O12/12.16+44.5*G12+69*N(D23)/31.66))*1/10 -> 4.0754315 | J36: =100*(I36-F12)/(I36+F12) -> 8.7444136 | K36: Օ
C37: =C13 -> 45518 | D37: =+(H13/48.03+N(I13)/62.01+J13/35.45+G13+N(D24)/31.66)*1000 -> 458.41241 | E37: =10^(6-E13)+(N(K13)/18.04+L13/22.99+M13/39.1+N13/20.04+O13/12.16)*1000 -> 532.16305 | F37: =100*(E37-D37)/(E37+D37) -> 7.445232 | G37: Օ | I37: =(349.7*10^(3-E13)+(80*H13/48.03+71.5*N(I13)/62.01+76.3*J13/35.45+73.5*N(K13)/18.04+50.1*L13/22.99+73.5*M13/39.1+59.8*N13/20.04+53.3*O13/12.16+44.5*G13+69*N(D24)/31.66))*1/10 -> 5.4173254 | J37: =100*(I37-F13)/(I37+F13) -> 11.728238 | K37: ×
C38: =C14 -> 45539 | D38: =+(H14/48.03+N(I14)/62.01+J14/35.45+G14+N(D25)/31.66)*1000 -> 450.07993 | E38: =10^(6-E14)+(N(K14)/18.04+L14/22.99+M14/39.1+N14/20.04+O14/12.16)*1000 -> 527.06963 | F38: =100*(E38-D38)/(E38+D38) -> 7.879009 | G38: Օ | I38: =(349.7*10^(3-E14)+(80*H14/48.03+71.5*N(I14)/62.01+76.3*J14/35.45+73.5*N(K14)/18.04+50.1*L14/22.99+73.5*M14/39.1+59.8*N14/20.04+53.3*O14/12.16+44.5*G14+69*N(D25)/31.66))*1/10 -> 5.3607888 | J38: =100*(I38-F14)/(I38+F14) -> 6.1459435 | K38: Օ
C39: =C15 -> 45574 | D39: =+(H15/48.03+N(I15)/62.01+J15/35.45+G15+N(D26)/31.66)*1000 -> 548.4531 | E39: =10^(6-E15)+(N(K15)/18.04+L15/22.99+M15/39.1+N15/20.04+O15/12.16)*1000 -> 612.93744 | F39: =100*(E39-D39)/(E39+D39) -> 5.5523392 | G39: Օ | I39: =(349.7*10^(3-E15)+(80*H15/48.03+71.5*N(I15)/62.01+76.3*J15/35.45+73.5*N(K15)/18.04+50.1*L15/22.99+73.5*M15/39.1+59.8*N15/20.04+53.3*O15/12.16+44.5*G15+69*N(D26)/31.66))*1/10 -> 6.4096043 | J39: =100*(I39-F15)/(I39+F15) -> 6.2987496 | K39: Օ
C312: 6.6135912 | G312: 0.921 | H312: 0.374

Sheet (7)Phi-2024
B1: Table 6.4.7 Result of Inland Aquatic Environment Monitoring
B3: Duration: | C3: 2024.2-2024.11 | T3: 2024.2-2024.11
B4: Country: | C4: Philippines
B5: Lake/Stream: | C5: (See below)
D7: Mandatory Parameters: 4 times/year
B8: Site | C8: Sampling | D8: Temp. | E8: pH | F8: EC | G8: Alkalinity | H8: SO42- | I8: NO3- | J8: Cl- | K8: NH4+ | L8: Na+ | M8: K+ | N8: Ca2+ | O8: Mg2+ | T8: pH | U8: EC | V8: Alkalinity | W8: SO42- | X8: NO3- | Y8: Cl- | Z8: NH4+ | AA8: Na+ | AB8: K+ | AC8: Ca2+ | AD8: Mg2+
C9: Date | D9: (oC) | F9: (mS/m) | G9: (meq/L) | H9: (mg/L) | I9: (mg/L) | J9: (mg/L) | K9: (mg/L) | L9: (mg/L) | M9: (mg/L) | N9: (mg/L) | O9: (mg/L) | U9: (mS/m) | V9: (meq/L) | W9: (mg/L) | X9: (mg/L) | Y9: (mg/L) | Z9: (mg/L) | AA9: (mg/L) | AB9: (mg/L) | AC9: (mg/L) | AD9: (mg/L)
B10: Pandin Lake | C10: 45344 | D10: - | E10: 7.83 | F10: 19.11 | G10: 1.9831 | H10: 1.6753251 | I10: 0.84666027 | J10: 3.6625494 | K10: <0.03*1 | L10: 9.051 | M10: 4.705 | N10: 17.785 | O10: 9.285 | T10: 7.68 | U10: 19.42 | V10: 1.133 | W10: 1.174 | X10: 0 | Y10: 3.388 | Z10: 0.029 | AA10: 8.634 | AB10: 4.293 | AC10: 9.554 | AD10: 9.255
C11: 45428 | D11: - | E11: 7.38 | F11: 19.35 | G11: 1.8641 | H11: 1.6618359 | I11: 0.082155045 | J11: 3.5449612 | K11: <0.03*1 | L11: 9.332 | M11: 4.323 | N11: 16.307 | O11: 9.086 | T11: 9.375 | U11: 19.28 | V11: 1.769 | W11: 1.33 | X11: 0.128 | Y11: 3.355 | Z11: 0.102 | AA11: 8.765 | AB11: 4.492 | AC11: 14.876 | AD11: 8.336
C12: 45534 | D12: - | E12: 8.36 | F12: 17.08 | G12: 1.6409 | H12: 2.2932364 | I12: 0.099071284 | J12: 3.3913063 | K12: 0.095 | L12: 8.7524 | M12: 4.5681 | N12: 13.4675 | O12: 8.522 | T12: 8.34 | U12: 19.24 | V12: 1.69 | W12: 2.078 | X12: 0.012 | Y12: 3.269 | Z12: 0 | AA12: 8.42 | AB12: 4.301 | AC12: 10.291 | AD12: 8.692
C13: 45617 | D13: - | E13: 6.82 | F13: 19.99 | G13: 1.5973 | H13: 2.9017639 | I13: 0.095131579 | J13: 3.3578282 | K13: <0.03*1 | L13: 7.671 | M13: 4.2209 | N13: 13.8708 | O13: 8.1144 | T13: 8.2 | U13: 19.02 | V13: 1.768 | W13: 2.113 | X13: 0 | Y13: 3.289 | Z13: 0 | AA13: 8.352 | AB13: 4.154 | AC13: 16.027 | AD13: 8.406
C14: mean*2 | D14: - | E14: =-LOG((10^(-E10)+10^(-E11)+10^(-E12)+10^(-E13))/4) -> 7.275316 | F14: =AVERAGEA(F10:F13) -> 18.8825 | G14: =AVERAGEA(G10:G13) -> 1.77135 | H14: =AVERAGEA(H10:H13) -> 2.1330403 | I14: =AVERAGEA(I10:I13) -> 0.28075454 | J14: =AVERAGEA(J10:J13) -> 3.4891613 | K14: =AVERAGEA(K10:K13) -> 0.02375 | L14: =AVERAGEA(L10:L13) -> 8.7016 | M14: =AVERAGEA(M10:M13) -> 4.45425 | ... O14: =AVERAGEA(O10:O13) -> 8.75185 | T14: =-LOG((10^(-T10)+10^(-T11)+10^(-T12)+10^(-T13)+10^(-#REF!))/5) -> #REF! | U14: =AVERAGE(U10:U13) -> 19.24 | V14: =AVERAGE(V10:V13) -> 1.59 | W14: =AVERAGE(W10:W13) -> 1.67375 | X14: =AVERAGE(X10:X13) -> 0.035 | Y14: =AVERAGE(Y10:Y13) -> 3.32525 | Z14: =AVERAGE(Z10:Z13) -> 0.03275 | AA14: =AVERAGE(AA10:AA13) -> 8.54275 | AB14: =AVERAGE(AB10:AB13) -> 4.31 | ... AD14: =AVERAGE(AD10:AD13) -> 8.67225
B15: Ambulalakaw Lake | C15: 45369 | D15: - | E15: 5.657 | F15: 3.787 | G15: 0.017 | H15: 0.106 | I15: < 0.06*1 | J15: 0.59 | K15: 0.1081 | L15: <0.03*1 | M15: 0.198 | N15: 0.173 | O15: 0.07 | T15: 6.65 | U15: 0.69 | V15: 0.04 | W15: 0.182 | X15: 0.181 | Y15: 0.228 | Z15: 0 | AA15: 0.299 | AB15: 0.143 | AC15: 0.501 | AD15: 0.093
C16: 45469 | D16: - | E16: 6.357 | F16: 8.676 | G16: 0.035 | H16: 0.101 | I16: < 0.06*1 | J16: 0.449 | K16: <0.01*1 | L16: 0.131 | M16: <0.04*1 | N16: 0.561 | O16: 0.091 | T16: 6.45 | U16: 5 | V16: 0.5 | W16: 0.313 | X16: 0.121 | Y16: 0.254 | Z16: 0 | AA16: 9.22 | AB16: 2.445 | AC16: 1.7 | AD16: 0.222
C17: 45580 | D17: - | E17: 5.75 | F17: 4.865 | G17: 0.017 | H17: 0.12 | I17: < 0.06*1 | J17: 0.697 | K17: 0.115 | L17: <0.03*1 | M17: 0.071 | N17: 0.186 | O17: 0.21 | T17: 6.58 | U17: 2.31 | V17: 0.02 | W17: 1.66 | X17: 0.567 | Y17: 2.18 | Z17: 0.504 | AA17: 1.601 | AB17: 0.817 | AC17: 1.305 | AD17: 0.118
C18: 45636 | D18: - | E18: 5.73 | F18: 4.15 | G18: 0.037 | H18: 0.043 | I18: < 0.06*1 | J18: 0.203 | K18: <0.01*1 | L18: <0.03*1 | M18: 0.41 | N18: 0.23 | O18: 0.21 | T18: 6.72 | U18: 7.8 | V18: 1.5 | W18: 0.114 | X18: 0.068 | Y18: 0.156 | Z18: 1.22 | AA18: 0.365 | AB18: 0.217 | AC18: 0.556 | AD18: 0.12
C19: mean | D19: - | E19: =-LOG((10^(-E15)+10^(-E16)+10^(-E17)+10^(-E18))/4) -> 5.8039044 | F19: =AVERAGEA(F15:F18) -> 5.3695 | G19: =AVERAGEA(G15:G18) -> 0.0265 | H19: =AVERAGEA(H15:H18) -> 0.0925 | I19: < 0.06*1 | J19: =AVERAGEA(J15:J18) -> 0.48475 | K19: =AVERAGEA(K15:K18) -> 0.055775 | L19: =AVERAGEA(L15:L18) -> 0.03275 | M19: =AVERAGEA(M15:M18) -> 0.16975 | N19: =AVERAGEA(N15:N18) -> 0.2875 | O19: =AVERAGEA(O15:O18) -> 0.14525 | T19: =-LOG((10^(-T15)+10^(-T16)+10^(-T17)+10^(-T18)+10^(-#REF!))/5) -> #REF! | U19: =AVERAGE(U15:U18) -> 3.95 | V19: =AVERAGE(V15:V18) -> 0.515 | W19: =AVERAGE(W15:W18) -> 0.56725 | X19: =AVERAGE(X15:X18) -> 0.23425 | Y19: =AVERAGE(Y15:Y18) -> 0.7045 | Z19: =AVERAGE(Z15:Z18) -> 0.431 | AA19: =AVERAGE(AA15:AA18) -> 2.87125 | AB19: =AVERAGE(AB15:AB18) -> 0.9055 | ... AD19: =AVERAGE(AD15:AD18) -> 0.13825
D21: Mandatory Parameters: Once/year | H21: Optional Parameters | T21: Mandatory Parameters: Once/year | W21: Optional Parameters
B22: Site | C22: Sampling | D22: Transparency | E22: PO43- | F22: NO2- | G22: TOC | H22: DOC | I22: Chl-a | J22: COD | T22: Transparency | U22: PO43- | V22: NO2- | W22: DO | X22: Chl-a | Y22: COD
C23: Date | D23: (m) | E23: (mg/L) | F23: (mg/L) | G23: (mg/L) | H23: (mg/L) | I23: (μg/L) | J23: (mg/L) | T23: (m) | U23: (mg/L) | V23: (mg/L) | W23: (mg/L) | X23: (μg/L) | Y23: (mg/L)
B24: Pandin Lake | C24: =C10 -> 45344 | D24: - | E24: <0.3*1 | F24: 0.049263544 | G24: 8.2 | H24: 1.7 | I24: 4.3976 | J24: <10*1 | T24: - | U24: 0.181 | V24: 0.012 | W24: 3.2 | X24: 15.96 | Y24: 4.36
C25: =C11 -> 45428 | D25: - | E25: <0.3*1 | F25: <0.03*1 | G25: 8.09 | H25: 1.73 | I25: 2.406 | J25: <10*1 | T25: - | U25: 0.15 | V25: 0.026 | W25: 3.38 | X25: 1.06 | Y25: 3.06
C26: =C12 -> 45534 | D26: - | E26: <0.3*1 | F26: <0.03*1 | G26: 8.91 | H26: 2.67 | I26: 1.7 | J26: <10*1 | T26: - | U26: 0 | V26: 0 | W26: 2.8 | X26: 2.46 | Y26: 5.99
C27: =C13 -> 45617 | D27: - | E27: 0.35319556 | F27: <0.03*1 | G27: 1.48 | H27: *1 | I27: 2.477 | J27: 24.7018 | T27: - | U27: 0 | V27: 0 | W27: - | X27: 2.665 | Y27: 26.25
C28: mean | D28: - | E28: =AVERAGEA(E24:E27) -> 0.08829889 | F28: =AVERAGEA(F24:F27) -> 0.012315886 | G28: =AVERAGEA(G24:G27) -> 6.67 | H28: =AVERAGEA(H24:H27) -> 1.525 | I28: =AVERAGEA(I24:I27) -> 2.74515 | J28: =AVERAGEA(J24:J27) -> 6.17545 | T28: - | U28: =AVERAGE(U24:U27) -> 0.08275 | V28: =AVERAGE(V24:V27) -> 0.0095 | W28: =AVERAGE(W24:W26) -> 3.1266667 | X28: =AVERAGE(X24:X27) -> 5.53625 | Y28: =AVERAGE(Y24:Y27) -> 9.915
B29: Ambulalakaw Lake | C29: =C15 -> 45369 | D29: - | E29: <0.3*1 | F29: <0.06*1 | G29: - | H29: - | I29: - | J29: - | R29: 0 | T29: - | U29: 0
C30: =C16 -> 45469 | D30: - | E30: <0.3*1 | F30: <0.06*1 | G30: - | H30: - | I30: - | J30: - | T30: - | U30: 0
C31: =C17 -> 45580 | D31: - | E31: <0.3*1 | F31: <0.06*1 | G31: - | H31: - | I31: - | J31: - | R31: 0.081 | T31: - | U31: 0.081
C32: =C18 -> 45636 | D32: - | E32: <0.3*1 | F32: <0.06*1 | G32: - | H32: - | I32: - | J32: - | T32: - | U32: 0
C33: mean | D33: - | E33: <0.3*1 | F33: <0.06*1 | G33: - | H33: - | I33: - | J33: - | T33: - | U33: =AVERAGE(U29:U32) -> 0.02025 | V33: =AVERAGE(V29:V32) -> #DIV/0! | W33: =AVERAGE(W29:W31) -> #DIV/0! | X33: =AVERAGE(X29:X32) -> #DIV/0! | Y33: =AVERAGE(Y29:Y32) -> #DIV/0!
B34: note | R34: =AVERAGE(R29,R31) -> 0.0405
B35: - : No analysis or measurement.
B36: *1: Less than determination limit.
B37: *2: Mean of pH takes an average of hydrogen ion.
B38: # When the value is under detection limit, it is considered as "0". Then the average and R1R2 were calculated by using it.
D40: Anion | E40: Cation | F40: R1 | G40: Judge | I40: Λcalc | J40: R2 | K40: Judge
B41: Pandin Lake | C41: =C10 -> 45344 | D41: =+(N(H10)/48.03+N(I10)/62.01+J10/35.45+N(G10)+N(E24)/31.66+N(F24)/46.01)*1000 -> 2136.021 | E41: =10^(6-E10)+(N(K10)/18.04+L10/22.99+M10/39.1+N(N10)/20.04+N(O10)/12.16)*1000 -> 2165.0843 | F41: =100*(E41-D41)/(E41+D41) -> 0.67571613 | G41: Օ | I41: =(349.7*10^(3-E10)+(80*N(H10)/48.03+71.5*N(I10)/62.01+76.3*J10/35.45+73.5*N(K10)/18.04+50.1*L10/22.99+73.5*M10/39.1+59.8*N(N10)/20.04+53.3*N(O10)/12.16+44.5*N(G10)+69*N(E24)/31.66+71.8*N(F24)/46.01))*1/10 -> 22.231739 | J41: =100*(I41-F10)/(I41+F10) -> 7.5510596 | K41: Օ
C42: =C11 -> 45428 | D42: =+(N(H11)/48.03+N(I11)/62.01+J11/35.45+N(G11)+N(E25)/31.66+N(F25)/46.01)*1000 -> 2000.0237 | E42: =10^(6-E11)+(N(K11)/18.04+L11/22.99+M11/39.1+N(N11)/20.04+N(O11)/12.16)*1000 -> 2077.4465 | F42: =100*(E42-D42)/(E42+D42) -> 1.8987934 | G42: Օ | I42: =(349.7*10^(3-E11)+(80*N(H11)/48.03+71.5*N(I11)/62.01+76.3*J11/35.45+73.5*N(K11)/18.04+50.1*L11/22.99+73.5*M11/39.1+59.8*N(N11)/20.04+53.3*N(O11)/12.16+44.5*N(G11)+69*N(E25)/31.66+71.8*N(F25)/46.01))*1/10 -> 21.040898 | J42: =100*(I42-F11)/(I42+F11) -> 4.1863333 | K42: Օ
C43: =C12 -> 45534 | D43: =+(N(H12)/48.03+N(I12)/62.01+J12/35.45+N(G12)+N(E26)/31.66+N(F26)/46.01)*1000 -> 1785.9081 | E43: =10^(6-E12)+(N(K12)/18.04+L12/22.99+M12/39.1+N(N12)/20.04+N(O12)/12.16)*1000 -> 1875.6596 | F43: =100*(E43-D43)/(E43+D43) -> 2.4511776 | G43: Օ | I43: =(349.7*10^(3-E12)+(80*N(H12)/48.03+71.5*N(I12)/62.01+76.3*J12/35.45+73.5*N(K12)/18.04+50.1*L12/22.99+73.5*M12/39.1+59.8*N(N12)/20.04+53.3*N(O12)/12.16+44.5*N(G12)+69*N(E26)/31.66+71.8*N(F26)/46.01))*1/10 -> 18.984342 | J43: =100*(I43-F12)/(I43+F12) -> 5.2804012 | K43: Օ
C44: =C13 -> 45617 | D44: =+(N(H13)/48.03+N(I13)/62.01+J13/35.45+N(G13)+N(E27)/31.66+N(F27)/46.01)*1000 -> 1765.1258 | E44: =10^(6-E13)+(N(K13)/18.04+L13/22.99+M13/39.1+N(N13)/20.04+N(O13)/12.16)*1000 -> 1801.2279 | F44: =100*(E44-D44)/(E44+D44) -> 1.0122972 | G44: Օ | I44: =(349.7*10^(3-E13)+(80*N(H13)/48.03+71.5*N(I13)/62.01+76.3*J13/35.45+73.5*N(K13)/18.04+50.1*L13/22.99+73.5*M13/39.1+59.8*N(N13)/20.04+53.3*N(O13)/12.16+44.5*N(G13)+69*N(E27)/31.66+71.8*N(F27)/46.01))*1/10 -> 18.56819 | J44: =100*(I44-F13)/(I44+F13) -> -3.6874398 | K44: Օ
B45: Ambulalakaw Lake | C45: =C15 -> 45369 | D45: =+(N(H15)/48.03+N(I15)/62.01+J15/35.45+N(G15)+N(E29)/31.66+N(F29)/46.01)*1000 -> 35.850113 | E45: =10^(6-E15)+(N(K15)/18.04+N(L15)/22.99+M15/39.1+N(N15)/20.04+N(O15)/12.16)*1000 -> 27.648418 | F45: =100*(E45-D45)/(E45+D45) -> -12.916354 | G45: Օ | I45: =(349.7*10^(3-E15)+(80*N(H15)/48.03+71.5*N(I15)/62.01+76.3*J15/35.45+73.5*N(K15)/18.04+50.1*N(L15)/22.99+73.5*M15/39.1+59.8*N(N15)/20.04+53.3*N(O15)/12.16+44.5*N(G15)+69*N(E29)/31.66+71.8*N(F29)/46.01))*1/10 -> 0.4608985 | J45: =100*(I45-F15)/(I45+F15) -> -78.299929 | K45: ×
C46: =C16 -> 45469 | D46: =+(N(H16)/48.03+N(I16)/62.01+J16/35.45+N(G16)+N(E30)/31.66+N(F30)/46.01)*1000 -> 49.768579 | E46: =10^(6-E16)+(N(K16)/18.04+N(L16)/22.99+N(M16)/39.1+N(N16)/20.04+N(O16)/12.16)*1000 -> 41.615236 | F46: =100*(E46-D46)/(E46+D46) -> -8.9220864 | G46: Օ | I46: =(349.7*10^(3-E16)+(80*N(H16)/48.03+71.5*N(I16)/62.01+76.3*J16/35.45+73.5*N(K16)/18.04+50.1*N(L16)/22.99+73.5*N(M16)/39.1+59.8*N(N16)/20.04+53.3*N(O16)/12.16+44.5*N(G16)+69*N(E30)/31.66+71.8*N(F30)/46.01))*1/10 -> 0.52042224 | J46: =100*(I46-F16)/(I46+F16) -> -88.682072 | K46: ×
C47: =C17 -> 45580 | D47: =+(N(H17)/48.03+N(I17)/62.01+J17/35.45+N(G17)+N(E31)/31.66+N(F31)/46.01)*1000 -> 39.159934 | E47: =10^(6-E17)+(N(K17)/18.04+N(L17)/22.99+M17/39.1+N(N17)/20.04+N(O17)/12.16)*1000 -> 36.520033 | F47: =100*(E47-D47)/(E47+D47) -> -3.4882422 | G47: Օ | I47: =(349.7*10^(3-E17)+(80*N(H17)/48.03+71.5*N(I17)/62.01+76.3*J17/35.45+73.5*N(K17)/18.04+50.1*N(L17)/22.99+73.5*M17/39.1+59.8*N(N17)/20.04+53.3*N(O17)/12.16+44.5*N(G17)+69*N(E31)/31.66+71.8*N(F31)/46.01))*1/10 -> 0.5155926 | J47: =100*(I47-F17)/(I47+F17) -> -80.8351 | K47: ×
C48: =C18 -> 45636 | D48: =+(N(H18)/48.03+N(I18)/62.01+J18/35.45+N(G18)+N(E32)/31.66+N(F32)/46.01)*1000 -> 43.621649 | E48: =10^(6-E18)+(N(K18)/18.04+N(L18)/22.99+M18/39.1+N(N18)/20.04+N(O18)/12.16)*1000 -> 41.094803 | F48: =100*(E48-D48)/(E48+D48) -> -2.9827094 | G48: Օ | I48: =(349.7*10^(3-E18)+(80*N(H18)/48.03+71.5*N(I18)/62.01+76.3*J18/35.45+73.5*N(K18)/18.04+50.1*N(L18)/22.99+73.5*M18/39.1+59.8*N(N18)/20.04+53.3*N(O18)/12.16+44.5*N(G18)+69*N(E32)/31.66+71.8*N(F32)/46.01))*1/10 -> 0.51837366 | J48: =100*(I48-F18)/(I48+F18) -> -77.792109 | K48: ×
B58: note
B59: # Concerning "×" judging, it was not able to specify the main reasons.
C311: 6.6135912 | G311: 0.921 | H311: 0.374

Sheet (8)Rus-2024
B1: Table 6.4.8 Result of Inland Aquatic Environment Monitoring
B3: Duration: | C3: 2024.2-2024.11
B4: Country: | C4: Russia
B5: Lake/Stream: | C5: (See below)
D7: Mandatory Parameters: 4 times/year
B8: Site | C8: Sampling | D8: Temp. | E8: pH | F8: EC | G8: Alkalinity | H8: SO42- | I8: NO3- | J8: Cl- | K8: NH4+ | L8: Na+ | M8: K+ | N8: Ca2+ | O8: Mg2+
C9: Date | D9: (oC) | F9: (mS/m) | G9: (meq/L) | H9: (mg/L) | I9: (mg/L) | J9: (mg/L) | K9: (mg/L) | L9: (mg/L) | M9: (mg/L) | N9: (mg/L) | O9: (mg/L)
B10: Pereemnaya River | C10: 45355 | D10: 0.2 | E10: 6.6183333 | F10: 5.5075 | G10: 0.13116667 | H10: 14.316667 | I10: 0.72666667 | J10: 0.12 | K10: 0.0078333333 | L10: 1.34 | M10: 0.63 | N10: 6.16 | O10: 0.93833333
C11: 45418 | D11: 6.4 | E11: 6.7033333 | F11: 3.5006667 | G11: 0.096 | H11: 7.7666667 | I11: 1.12 | J11: 0.055 | K11: 0.0046666667 | L11: 0.655 | M11: 0.54166667 | N11: 3.6966667 | O11: 0.7
C12: 45488 | D12: 16.6 | E12: 6.8916667 | F12: 5.38 | G12: 0.14083333 | H12: 14.533333 | I12: 0.38 | J12: 0.04 | K12: 0.007 | L12: 1.055 | M12: 0.74833333 | N12: 5.67 | O12: 1.1
C13: 45575 | D13: 4.1 | E13: 6.7266667 | F13: 5.065 | G13: 0.154 | H13: 11.646667 | I13: 0.59 | J13: 0.07 | K13: 0.0075 | L13: 0.93333333 | M13: 0.88666667 | N13: 5.04 | O13: 1
C14: mean*1 | D14: =AVERAGEA(D10:D13) -> 6.825 | E14: =-LOG((10^(-E10)+10^(-E11)+10^(-E12)+10^(-E13))/4) -> 6.7242389 | F14: =AVERAGEA(F10:F13) -> 4.8632917 | G14: =AVERAGEA(G10:G13) -> 0.1305 | H14: =AVERAGEA(H10:H13) -> 12.065833 | I14: =AVERAGEA(I10:I13) -> 0.70416667 | J14: =AVERAGEA(J10:J13) -> 0.07125 | K14: =AVERAGEA(K10:K13) -> 0.00675 | L14: =AVERAGEA(L10:L13) -> 0.99583333 | M14: =AVERAGEA(M10:M13) -> 0.70166667 | ... O14: =AVERAGEA(O10:O13) -> 0.93458333
B15: Komarovka River | C15: 45334 | D15: 0.1 | E15: 6.4366667 | F15: 7.9616667 | G15: 0.371 | H15: 8.0833333 | I15: 0.1565 | J15: 1.5 | K15: 0.066666667 | L15: 4.0666667 | M15: 1.5166667 | N15: 7.3166667 | O15: 0.51666667
C16: 45390 | D16: 5 | E16: 6.665 | F16: 7.73 | G16: 0.73883333 | H16: 7.7333333 | I16: 0.66433333 | J16: 3.7 | K16: 0.078166667 | L16: 5.15 | M16: 1.8333333 | N16: 9.7333333 | O16: 3.0666667
C17: 45454 | D17: 13.8 | E17: 6.68 | F17: 7.47 | G17: 0.92366667 | H17: 7.5166667 | I17: 0.3115 | J17: 4.7833333 | K17: 0.074166667 | L17: 13.016667 | M17: 1.6166667 | N17: 11.966667 | O17: 0.5
C18: 45545 | D18: 17.3 | E18: 6.8566667 | F18: 8.2066667 | G18: 0.241 | H18: 7.5333333 | I18: 1.2998333 | J18: 3.0833333 | K18: 0.366 | L18: 4.25 | M18: 0.46666667 | N18: 4.7166667 | O18: 0.36
C19: 45607 | D19: 3.8 | E19: 6.4833333 | F19: 8.2 | G19: 0.9535 | H19: 1.85 | I19: 0.197 | J19: 3.1833333 | K19: 0.099333333 | L19: 4.15 | M19: 1.5 | N19: 13.083333 | O19: 2.3833333
C20: mean*1 | D20: =AVERAGEA(D15:D19) -> 8 | E20: =-LOG((10^(-E15)+10^(-E16)+10^(-E17)+10^(-E18)+10^(-E19))/5) -> 6.5990208 | F20: =AVERAGEA(F15:F19) -> 7.9136667 | G20: =AVERAGEA(G15:G19) -> 0.6456 | H20: =AVERAGEA(H15:H19) -> 6.5433333 | I20: =AVERAGEA(I15:I19) -> 0.52583333 | J20: =AVERAGEA(J15:J19) -> 3.25 | K20: =AVERAGEA(K15:K19) -> 0.13686667 | L20: =AVERAGEA(L15:L19) -> 6.1266667 | M20: =AVERAGEA(M15:M19) -> 1.3866667 | ... O20: =AVERAGEA(O15:O19) -> 1.3653333
D22: Mandatory Parameters: Once/year | I22: Optional Parameters
B23: Site | C23: Sampling | D23: Transparency | E23: Water color | F23: COD | G23: NO2- | H23: PO43- | I23: Si | J23: O2 | K23: TP | L23: Fe
C24: Date | D24: (m) | F24: (mg/L) | G24: (mg/L) | H24: (mg/L) | I24: (mg/L) | J24: (mg/L) | K24: (mg/L) | L24: (mg/L)
B25: Pereemnaya River | C25: =C10 -> 45355 | D25: - | E25: colorless | F25: 0.7 | G25: 0.001 | H25: 0.002 | I25: 3.8466667 | J25: 12.293333 | K25: 0.0035 | L25: -
C26: =C11 -> 45418 | D26: - | E26: light yellow | F26: 3.8666667 | G26: 0.0033333333 | H26: 0.0035 | I26: 0.45 | J26: 9.5133333 | K26: 0.0086666667 | L26: -
C27: =C12 -> 45488 | D27: - | E27: colorless | F27: 1.95 | G27: 0.0013333333 | H27: 0.0015 | I27: 0.99 | J27: 9.9466667 | K27: 0.0038333333 | L27: -
C28: =C13 -> 45575 | D28: - | E28: colorless | F28: 3.8666667 | G28: 0.002 | H28: 0.0015 | I28: 1.015 | J28: 11.39 | K28: 0.008 | L28: -
C29: mean | D29: - | E29: - | F29: =AVERAGEA(F25:F28) -> 2.5958333 | G29: =AVERAGEA(G25:G28) -> 0.0019166667 | H29: =AVERAGEA(H25:H28) -> 0.002125 | I29: =AVERAGEA(I25:I28) -> 1.5754167 | J29: =AVERAGEA(J25:J28) -> 10.785833 | K29: =AVERAGEA(K25:K28) -> 0.006 | L29: -
B30: Komarovka River | C30: =C15 -> 45334 | D30: - | E30: colorless | F30: 2.7666667 | G30: 0.0073333333 | H30: 0.020666667 | I30: 5.9216667 | J30: 8.7533333 | K30: - | L30: 0.15266667
C31: =C16 -> 45390 | D31: - | E31: colorless | F31: 4.8333333 | G31: 0.013333333 | H31: 0.0093333333 | I31: 4.83 | J31: 9.9083333 | K31: - | L31: 0.1795
C32: =C17 -> 45454 | D32: - | E32: colorless | F32: 5.8666667 | G32: 0.0076666667 | H32: 0.033666667 | I32: 5.5833333 | J32: 8.8416667 | K32: - | L32: 0.4595
C33: =C18 -> 45545 | D33: - | E33: colorless | F33: 6.8 | G33: 0.0105 | H33: 0.019 | I33: 4.635 | J33: 7.3866667 | K33: - | L33: 0.55883333
C34: =C19 -> 45607 | D34: - | E34: colorless | F34: 5.1 | G34: 0.044 | H34: 0.029 | I34: 4.515 | J34: 7.09 | K34: - | L34: 0.78116667
C35: mean | D35: - | E35: - | F35: =AVERAGEA(F30:F34) -> 5.0733333 | G35: =AVERAGEA(G30:G34) -> 0.016566667 | H35: =AVERAGEA(H30:H34) -> 0.022333333 | I35: =AVERAGEA(I30:I34) -> 5.097 | J35: =AVERAGEA(J30:J34) -> 8.396 | K35: - | L35: =AVERAGEA(L30:L34) -> 0.42633333
B36: note
B37: - : No analysis or measurement.
B38: *1: Mean of pH takes an average of hydrogen ion.
B39: #Construction of a new bridge has started in 2021 at the water sampling site on the Pereemnaya River. Water samples were taken upstream from the construction place, but in winter there was a flooding of a large area around. Deviations from natural values may be observed in 2021-2022, especially in winter.
D43: Anion | E43: Cation | F43: R1 | G43: Judge | I43: Λcalc | J43: R2 | K43: Judge
B44: Pereemnaya River | C44: =C10 -> 45355 | D44: =+(H10/48.03+I10/62.01+J10/35.45+G10+H25/31.66+N(G25)/46.01)*1000 -> 444.43275 | E44: =10^(6-E10)+(N(K10)/18.04+L10/22.99+M10/39.1+N10/20.04+O10/12.16)*1000 -> 459.62457 | F44: =100*(E44-D44)/(E44+D44) -> 1.6804042 | G44: Օ | I44: =(349.7*10^(3-E10)+(80*H10/48.03+71.5*I10/62.01+76.3*J10/35.45+73.5*N(K10)/18.04+50.1*L10/22.99+73.5*M10/39.1+59.8*N10/20.04+53.3*O10/12.16+44.5*G10+69*H25/31.66+71.8*N(G25)/46.01))*1/10 -> 5.7500295 | J44: =100*(I44-F10)/(I44+F10) -> 2.1543758 | K44: Օ
C45: =C11 -> 45418 | D45: =+(H11/48.03+I11/62.01+J11/35.45+G11+H26/31.66+N(G26)/46.01)*1000 -> 277.50057 | E45: =10^(6-E11)+(N(K11)/18.04+L11/22.99+M11/39.1+N11/20.04+O11/12.16)*1000 -> 284.83089 | F45: =100*(E45-D45)/(E45+D45) -> 1.3035591 | G45: Օ | I45: =(349.7*10^(3-E11)+(80*H11/48.03+71.5*I11/62.01+76.3*J11/35.45+73.5*N(K11)/18.04+50.1*L11/22.99+73.5*M11/39.1+59.8*N11/20.04+53.3*O11/12.16+44.5*G11+69*H26/31.66+71.8*N(G26)/46.01))*1/10 -> 3.5264058 | J45: =100*(I45-F11)/(I45+F11) -> 0.36628474 | K45: Օ
C46: =C12 -> 45488 | D46: =+(H12/48.03+I12/62.01+J12/35.45+G12+H27/31.66+N(G27)/46.01)*1000 -> 450.75474 | E46: =10^(6-E12)+(N(K12)/18.04+L12/22.99+M12/39.1+N12/20.04+O12/12.16)*1000 -> 438.93949 | F46: =100*(E46-D46)/(E46+D46) -> -1.3280126 | G46: Օ | I46: =(349.7*10^(3-E12)+(80*H12/48.03+71.5*I12/62.01+76.3*J12/35.45+73.5*N(K12)/18.04+50.1*L12/22.99+73.5*M12/39.1+59.8*N12/20.04+53.3*O12/12.16+44.5*G12+69*H27/31.66+71.8*N(G27)/46.01))*1/10 -> 5.6523957 | J46: =100*(I46-F12)/(I46+F12) -> 2.4690532 | K46: Օ
C47: =C13 -> 45575 | D47: =+(H13/48.03+I13/62.01+J13/35.45+G13+H28/31.66+N(G28)/46.01)*1000 -> 408.06739 | E47: =10^(6-E13)+(N(K13)/18.04+L13/22.99+M13/39.1+N13/20.04+O13/12.16)*1000 -> 397.61149 | F47: =100*(E47-D47)/(E47+D47) -> -1.2977746 | G47: Օ | I47: =(349.7*10^(3-E13)+(80*H13/48.03+71.5*I13/62.01+76.3*J13/35.45+73.5*N(K13)/18.04+50.1*L13/22.99+73.5*M13/39.1+59.8*N13/20.04+53.3*O13/12.16+44.5*G13+69*H28/31.66+71.8*N(G28)/46.01))*1/10 -> 5.0308934 | J47: =100*(I47-F13)/(I47+F13) -> -0.33782679 | K47: Օ
B48: Komarovka River | C48: =C15 -> 45334 | D48: =+(H15/48.03+I15/62.01+J15/35.45+G15+H30/31.66+N(G30)/46.01)*1000 -> 584.94665 | E48: =10^(6-E15)+(K15/18.04+L15/22.99+M15/39.1+N15/20.04+O15/12.16)*1000 -> 627.33146 | F48: =100*(E48-D48)/(E48+D48) -> 3.4962943 | G48: Օ | I48: =(349.7*10^(3-E15)+(80*H15/48.03+71.5*I15/62.01+76.3*J15/35.45+73.5*K15/18.04+50.1*L15/22.99+73.5*M15/39.1+59.8*N15/20.04+53.3*O15/12.16+44.5*G15+69*H30/31.66+71.8*N(G30)/46.01))*1/10 -> 6.9649269 | J48: =100*(I48-F15)/(I48+F15) -> -6.6776106 | K48: Օ
C49: =C16 -> 45390 | D49: =+(H16/48.03+I16/62.01+J16/35.45+G16+H31/31.66+N(G31)/46.01)*1000 -> 1015.5141 | E49: =10^(6-E16)+(K16/18.04+L16/22.99+M16/39.1+N16/20.04+O16/12.16)*1000 -> 1013.3363 | F49: =100*(E49-D49)/(E49+D49) -> -0.10734311 | G49: Օ | I49: =(349.7*10^(3-E16)+(80*H16/48.03+71.5*I16/62.01+76.3*J16/35.45+73.5*K16/18.04+50.1*L16/22.99+73.5*M16/39.1+59.8*N16/20.04+53.3*O16/12.16+44.5*G16+69*H31/31.66+71.8*N(G31)/46.01))*1/10 -> 11.207946 | J49: =100*(I49-F16)/(I49+F16) -> 18.364961 | K49: ×
C50: =C17 -> 45454 | D50: =+(H17/48.03+I17/62.01+J17/35.45+G17+H32/31.66+N(G32)/46.01)*1000 -> 1221.3513 | E50: =10^(6-E17)+(K17/18.04+L17/22.99+M17/39.1+N17/20.04+O17/12.16)*1000 -> 1250.1128 | F50: =100*(E50-D50)/(E50+D50) -> 1.1637438 | G50: Օ | I50: =(349.7*10^(3-E17)+(80*H17/48.03+71.5*I17/62.01+76.3*J17/35.45+73.5*K17/18.04+50.1*L17/22.99+73.5*M17/39.1+59.8*N17/20.04+53.3*O17/12.16+44.5*G17+69*H32/31.66+71.8*N(G32)/46.01))*1/10 -> 13.404372 | J50: =100*(I50-F17)/(I50+F17) -> 28.428986 | K50: ×
C51: =C18 -> 45545 | D51: =+(H18/48.03+I18/62.01+J18/35.45+G18+H33/31.66+N(G33)/46.01)*1000 -> 506.61339 | E51: =10^(6-E18)+(K18/18.04+L18/22.99+M18/39.1+N18/20.04+O18/12.16)*1000 -> 482.19341 | F51: =100*(E51-D51)/(E51+D51) -> -2.4696406 | G51: Օ | I51: =(349.7*10^(3-E18)+(80*H18/48.03+71.5*I18/62.01+76.3*J18/35.45+73.5*K18/18.04+50.1*L18/22.99+73.5*M18/39.1+59.8*N18/20.04+53.3*O18/12.16+44.5*G18+69*H33/31.66+71.8*N(G33)/46.01))*1/10 -> 5.8796457 | J51: =100*(I51-F18)/(I51+F18) -> -16.519731 | K51: ×
C52: =C19 -> 45607 | D52: =+(H19/48.03+I19/62.01+J19/35.45+G19+H34/31.66+N(G34)/46.01)*1000 -> 1086.8646 | E52: =10^(6-E19)+(K19/18.04+L19/22.99+M19/39.1+N19/20.04+O19/12.16)*1000 -> 1073.5701 | F52: =100*(E52-D52)/(E52+D52) -> -0.61536515 | G52: Օ | I52: =(349.7*10^(3-E19)+(80*H19/48.03+71.5*I19/62.01+76.3*J19/35.45+73.5*K19/18.04+50.1*L19/22.99+73.5*M19/39.1+59.8*N19/20.04+53.3*O19/12.16+44.5*G19+69*H34/31.66+71.8*N(G34)/46.01))*1/10 -> 11.459355 | J52: =100*(I52-F19)/(I52+F19) -> 16.579153 | K52: ×
C312: 6.6135912 | G312: 0.921 | H312: 0.374

Sheet (9)Thai-2024
B1: Table 6.4.9 Result of Inland Aquatic Environment Monitoring
B3: Duration: | C3: 2024.2-2024.8
B4: Country: | C4: Thailand
B5: Lake/Stream: | C5: Vajiralongkorn Dam&Resovior
D7: Mandatory Parameters : 4 times/year
B8: Site | C8: Sampling | D8: Temp. | E8: pH | F8: EC | G8: Alkalinity | H8: SO42- | I8: NO3- | J8: Cl- | K8: NH4+ | L8: Na+ | M8: K+ | N8: Ca2+ | O8: Mg2+
C9: Date | D9: (oC) | F9: (mS/m) | G9: (meq/L) | H9: (mg/L) | I9: (mg/L) | J9: (mg/L) | K9: (mg/L) | L9: (mg/L) | M9: (mg/L) | N9: (mg/L) | O9: (mg/L)
B10: Station1 | C10: 45344 | D10: 29 | E10: 7.6 | F10: 12.54 | G10: 1.145 | H10: 1.115 | I10: 0.1 | J10: 1.095 | K10: - | L10: - | M10: - | N10: - | O10: -
B11: (Ban Pong Chang) | C11: 45463 | D11: 30.8 | E11: 7.9 | F11: 13.22 | G11: 1.145 | H11: 1.345 | I11: 0.05 | J11: 0.975 | K11: - | L11: - | M11: - | N11: - | O11: -
C12: 45526 | D12: 31.75 | E12: 7.1 | F12: 12.3 | G12: 1.065 | H12: 1.285 | I12: 0.105 | J12: 1.09 | K12: - | L12: - | M12: - | N12: - | O12: -
C14: mean*1 | D14: =AVERAGEA(D10:D13) -> 30.516667 | E14: =-LOG((10^(-E10)+10^(-E11)+10^(-E12))/4) -> 7.5333513 | F14: =AVERAGEA(F10:F13) -> 12.686667 | G14: =AVERAGEA(G10:G13) -> 1.1183333 | H14: =AVERAGEA(H10:H13) -> 1.2483333 | I14: =AVERAGEA(I10:I13) -> 0.085 | J14: =AVERAGEA(J10:J13) -> 1.0533333 | K14: - | L14: - | M14: - | N14: - | O14: -
B15: Station2 | C15: 45344 | D15: 27.5 | E15: 7.9 | F15: 11.82 | G15: 1.125 | H15: 1.25 | I15: 0.1 | J15: 1.055 | K15: - | L15: - | M15: - | N15: - | O15: -
B16: (Ban Pang Pueng) | C16: 45463 | D16: 30.8 | E16: 7.7 | F16: 12.89 | G16: 1.14 | H16: 1.47 | I16: 0 | J16: 0.96 | K16: - | L16: - | M16: - | N16: - | O16: -
C17: 45526 | D17: 30.35 | E17: 6.45 | F17: 12.05 | G17: 1.06 | H17: 1.495 | I17: 0.25 | J17: 1.26 | K17: - | L17: - | M17: - | N17: - | O17: -
C19: mean*1 | D19: =AVERAGEA(D15:D18) -> 29.55 | E19: =-LOG((10^(-E15)+10^(-E16)+10^(-E17))/4) -> 7.0139505 | F19: =AVERAGEA(F15:F18) -> 12.253333 | G19: =AVERAGEA(G15:G18) -> 1.1083333 | H19: =AVERAGEA(H15:H18) -> 1.405 | I19: =AVERAGEA(I15:I18) -> 0.11666667 | J19: =AVERAGEA(J15:J18) -> 1.0916667 | K19: - | L19: - | M19: - | N19: - | O19: -
D21: Mandatory Parameters : Once/year
B22: Site | C22: Sampling | D22: Transparency | E22: Water color | F22: PO43- | G22: NO2- | H22: COD
C23: Date | D23: (m) | F23: (mg/L) | G23: (mg/L) | H23: (mg/L)
B24: Station1 | C24: =C10 -> 45344 | D24: 5 | E24: light green | F24: 0.01 | G24: - | H24: -
B25: (Ban Pong Chang) | C25: =C11 -> 45463 | D25: 4 | E25: light green | F25: 0.01 | G25: - | H25: -
C26: =C12 -> 45526 | D26: 3.25 | E26: light green | F26: 0.01 | G26: - | H26: -
C28: mean | D28: =AVERAGEA(D24:D27) -> 4.0833333 | E28: - | F28: =AVERAGEA(F24:F25) -> 0.01 | G28: - | H28: -
B29: Station2 | C29: =C15 -> 45344 | D29: 5 | E29: light green | F29: 0.01 | G29: - | H29: -
B30: (Ban Pang Pueng) | C30: =C16 -> 45463 | D30: 4.4 | E30: light green | F30: 0.01 | G30: - | H30: -
C31: =C17 -> 45526 | D31: 3 | E31: light green | F31: 0.01 | G31: - | H31: -
C33: mean | D33: =AVERAGEA(D29:D32) -> 4.1333333 | E33: - | F33: =AVERAGEA(F29:F30) -> 0.01 | G33: - | H33: -
B34: note
B35: - : No analysis or measurement.
B36: *1: Mean of pH takes an average of hydrogen ion.
C38: Date | D38: Anion | E38: Cation | F38: R1 | G38: Judge | I38: Λcalc | J38: R2 | K38: Judge
B39: Station1 | C39: =C10 -> 45344 | D39: =+(H10/48.03+N(I10)/62.01+J10/35.45+G10+N(G24)/46.01+N(F24)/31.66)*1000 -> 1201.0317 | E39: - | F39: - | G39: - | I39: - | J39: - | K39: -
B40: (Ban Pong Chang) | C40: =C11 -> 45463 | D40: =+(H11/48.03+N(I11)/62.01+J11/35.45+G11+N(G25)/46.01+N(F25)/31.66)*1000 -> 1201.629 | E40: - | F40: - | G40: - | I40: - | J40: - | K40: -
C41: =C12 -> 45526 | D41: =+(H12/48.03+N(I12)/62.01+J12/35.45+G12+N(G26)/46.01+N(F26)/31.66)*1000 -> 1124.5108 | E41: - | F41: - | G41: - | I41: - | J41: - | K41: -
C42: =C13 -> 0 | D42: =+(H13/48.03+N(I13)/62.01+J13/35.45+G13+N(G27)/46.01+N(F27)/31.66)*1000 -> 0 | E42: - | F42: - | G42: - | I42: - | J42: - | K42: -
B43: Station2 | C43: =C15 -> 45344 | D43: =+(H15/48.03+N(I15)/62.01+J15/35.45+G15+N(G29)/46.01+N(F29)/31.66)*1000 -> 1182.7141 | E43: - | F43: - | G43: - | I43: - | J43: - | K43: -
B44: (Ban Pang Pueng) | C44: =C16 -> 45463 | D44: =+(H16/48.03+N(I16)/62.01+J16/35.45+G16+N(G30)/46.01+N(F30)/31.66)*1000 -> 1198.0021 | E44: - | F44: - | G44: - | I44: - | J44: - | K44: -
C45: =C17 -> 45526 | D45: =+(H17/48.03+N(I17)/62.01+J17/35.45+G17+N(G31)/46.01+N(F31)/31.66)*1000 -> 1131.0169 | E45: - | F45: - | G45: - | I45: - | J45: - | K45: -
C46: =C18 -> 0 | D46: =+(H18/48.03+N(I18)/62.01+J18/35.45+G18+N(G32)/46.01+N(F32)/31.66)*1000 -> 0 | E46: - | F46: - | G46: - | I46: - | J46: - | K46: -
C312: 6.6135912 | G312: 0.921 | H312: 0.374

Sheet (10)Viet-2024
B1: Table 6.4.10 Result of Inland Aquatic Environment Monitoring
B3: Duration: | C3: 2024.3-2024.12
B4: Country: | C4: Vietnam
B5: Lake/Stream: | C5: Hoa Binh Reservoir
D7: Mandatory Parameters: 4 times/year
B8: Site | C8: Sampling | D8: Temp. | E8: pH | F8: EC | G8: Alkalinity | H8: SO42- | I8: NO3- | J8: Cl- | K8: NH4+ | L8: Na+ | M8: K+ | N8: Ca2+ | O8: Mg2+
C9: Date | D9: (oC) | F9: (mS/m) | G9: (meq/L) | H9: (mg/L) | I9: (mg/L) | J9: (mg/L) | K9: (mg/L) | L9: (mg/L) | M9: (mg/L) | N9: (mg/L) | O9: (mg/L)
B10: Hoa Binh Reservoir | C10: 45366 | D10: 22.3 | E10: 7.25 | F10: 14.96 | G10: 1.259 | H10: 4.72 | I10: 0.9 | J10: 0.4 | K10: 0.104 | L10: 2.04 | M10: 1.25 | N10: 21.33 | O10: 2.16
C11: 45458 | D11: 31.2 | E11: 7.46 | F11: 15.66 | G11: 1.319 | H11: 3.66 | I11: 1.52 | J11: 1.94 | K11: 0.1 | L11: 2.74 | M11: 1.69 | N11: 23.14 | O11: 2.13
C12: 45550 | D12: 29.5 | E12: 7.65 | F12: 15.82 | G12: 1.366 | H12: 4.52 | I12: 2.06 | J12: 0.94 | K12: 0.078 | L12: 2.25 | M12: 1.85 | N12: 24.12 | O12: 2.19
C13: 45641 | D13: 25.3 | E13: 7.6 | F13: 16.12 | G13: 1.345 | H13: 4.93 | I13: 3.91 | J13: 1.51 | K13: 0.097 | L13: 2.84 | M13: 1.93 | N13: 23.88 | O13: 2.06
C14: mean*1 | D14: =AVERAGEA(D10:D13) -> 27.075 | E14: =-LOG((10^(-E10)+10^(-E11)+10^(-E12)+10^(-E13))/4) -> 7.4608803 | F14: =AVERAGEA(F10:F13) -> 15.64 | G14: =AVERAGEA(G10:G13) -> 1.32225 | H14: =AVERAGEA(H10:H13) -> 4.4575 | I14: =AVERAGEA(I10:I13) -> 2.0975 | J14: =AVERAGEA(J10:J13) -> 1.1975 | K14: =AVERAGEA(K10:K13) -> 0.09475 | L14: =AVERAGEA(L10:L13) -> 2.4675 | M14: =AVERAGEA(M10:M13) -> 1.68 | ... O14: =AVERAGEA(O10:O13) -> 2.135
D16: Mandatory Parameters: Once/year
B17: Site | C17: Sampling | D17: Transparency | E17: Water Color | F17: F- | G17: PO43- | H17: NO2- | I17: COD
C18: Date | D18: (m) | E18: (PtCo unit) | F18: (mg/L) | G18: (mg/L) | H18: (mg/L) | I18: (mg/L)
B19: Hoa Binh Reservoir | C19: =C10 -> 45366 | D19: 1.2 | E19: 5 | F19: 0.083 | G19: - | H19: 0.01 | I19: 5.5
C20: =C11 -> 45458 | D20: 1.2 | E20: 6 | F20: 0.128 | G20: - | H20: 0.117 | I20: 5.2
C21: =C12 -> 45550 | D21: 1.2 | E21: 6 | F21: 0.098 | G21: - | H21: 0.018 | I21: 6.1
C22: =C13 -> 45641 | D22: 1.2 | E22: 5 | F22: 0.11 | G22: 0.029 | H22: 0.05 | I22: 5.7
C23: mean | D23: =AVERAGEA(D19:D22) -> 1.2 | E23: - | F23: =AVERAGEA(F19:F22) -> 0.10475 | G23: =AVERAGEA(G22) -> 0.029 | H23: =AVERAGEA(H19:H22) -> 0.04875 | I23: =AVERAGEA(I19:I22) -> 5.625
B24: note
B25: - : No analysis or measurement.
B26: *1 : Mean of pH takes an average of hydrogen ion.
D28: Anion | E28: Cation | F28: R1 | G28: Judge | I28: Λcalc | J28: R2 | K28: Judge
B29: Hoa Binh Reservoir | C29: =C10 -> 45366 | D29: =+(H10/48.03+I10/62.01+J10/35.45+G10+N(G19)/31.66+H19/46.01)*1000 -> 1383.2865 | E29: =10^(6-E10)+(N(K10)/18.04+L10/22.99+M10/39.1+N10/20.04+O10/12.16)*1000 -> 1368.5276 | F29: =100*(E29-D29)/(E29+D29) -> -0.5363358 | G29: Օ | I29: =(349.7*10^(3-E10)+(80*H10/48.03+71.5*I10/62.01+76.3*J10/35.45+73.5*N(K10)/18.04+50.1*L10/22.99+73.5*M10/39.1+59.8*N10/20.04+53.3*O10/12.16+44.5*G10+69*N(G19)/31.66+71.8*N(H19)/46.01))*1/10 -> 14.615741 | J29: =100*(I29-F10)/(I29+F10) -> -1.1639915 | K29: Օ
C30: =C11 -> 45458 | D30: =+(H11/48.03+I11/62.01+J11/35.45+G11+N(G20)/31.66+H20/46.01)*1000 -> 1476.9824 | E30: =10^(6-E11)+(N(K11)/18.04+L11/22.99+M11/39.1+N11/20.04+O11/12.16)*1000 -> 1497.8378 | F30: =100*(E30-D30)/(E30+D30) -> 0.70106166 | G30: Օ | I30: =(349.7*10^(3-E11)+(80*H11/48.03+71.5*I11/62.01+76.3*J11/35.45+73.5*N(K11)/18.04+50.1*L11/22.99+73.5*M11/39.1+59.8*N11/20.04+53.3*O11/12.16+44.5*G11+69*N(G20)/31.66+71.8*N(H20)/46.01))*1/10 -> 15.885661 | J30: =100*(I30-F11)/(I30+F11) -> 0.71534756 | K30: Օ
C31: =C12 -> 45550 | D31: =+(H12/48.03+I12/62.01+J12/35.45+G12+N(G21)/31.66+H21/46.01)*1000 -> 1520.2357 | E31: =10^(6-E12)+(K12/18.04+L12/22.99+M12/39.1+N12/20.04+O12/12.16)*1000 -> 1533.2208 | F31: =100*(E31-D31)/(E31+D31) -> 0.42525873 | G31: Օ | I31: =(349.7*10^(3-E12)+(80*H12/48.03+71.5*I12/62.01+76.3*J12/35.45+73.5*K12/18.04+50.1*L12/22.99+73.5*M12/39.1+59.8*N12/20.04+53.3*O12/12.16+44.5*G12+69*N(G21)/31.66+71.8*N(H21)/46.01))*1/10 -> 16.302274 | J31: =100*(I31-F12)/(I31+F12) -> 1.5013695 | K31: Օ
C32: =C13 -> 45641 | D32: =+(H13/48.03+I13/62.01+J13/35.45+G13+N(G22)/31.66+H22/46.01)*1000 -> 1555.2964 | E32: =10^(6-E13)+(K13/18.04+L13/22.99+M13/39.1+N13/20.04+O13/12.16)*1000 -> 1539.3193 | F32: =100*(E32-D32)/(E32+D32) -> -0.51628799 | G32: Օ | I32: =(349.7*10^(3-E13)+(80*H13/48.03+71.5*I13/62.01+76.3*J13/35.45+73.5*K13/18.04+50.1*L13/22.99+73.5*M13/39.1+59.8*N13/20.04+53.3*O13/12.16+44.5*G13+69*N(G22)/31.66+71.8*N(H22)/46.01))*1/10 -> 16.647273 | J32: =100*(I32-F13)/(I32+F13) -> 1.6091461 | K32: Օ
C312: 6.6135912 | G312: 0.921 | H312: 0.374

Sheet Summary-2024
B1: Table 6.4.11 Summary of Inland Aquatic Environment Monitoring
E3: Mandatory Parameters : 4 times/year
B4: Country | C4: Location | D4: Site | E4: pH | F4: EC | G4: Alkalinity | H4: Gran's ANC | I4: SO42- | J4: NO3- | K4: Cl- | L4: NH4+ | M4: Na+ | N4: K+ | O4: Ca2+ | P4: Mg2+
F5: (mS/m) | G5: (meq/L) | H5: (meq/L) | I5: (mg/L) | J5: (mg/L) | K5: (mg/L) | L5: (mg/L) | M5: (mg/L) | N5: (mg/L) | O5: (mg/L) | P5: (mg/L)
A6: 1 | B6: Cambodia | C6: Kampong Speu province | D6: Sras Srang Lake | E6: - | F6: - | G6: - | H6: - | I6: - | J6: - | K6: - | L6: - | M6: - | N6: - | O6: - | P6: -
A7: 2 | B7: China | C7: Chongqing | D7: Jinyunshan Lake*2 | E7: ='(1)Chi-2024'!E14 -> 6.4018564 | F7: ='(1)Chi-2024'!F14 -> 10.046667 | G7: ='(1)Chi-2024'!G14 -> 0.17573333 | H7: - | I7: ='(1)Chi-2024'!H14 -> 21.733333 | J7: ='(1)Chi-2024'!I14 -> 7.8666667 | K7: ='(1)Chi-2024'!J14 -> 1.7066667 | L7: ='(1)Chi-2024'!K14 -> 0.093333333 | M7: ='(1)Chi-2024'!L14 -> 2.15 | N7: ='(1)Chi-2024'!M14 -> 2.15 | O7: ='(1)Chi-2024'!N14 -> 9.39 | P7: ='(1)Chi-2024'!O14 -> 3.2133333
C8: Xiamen | D8: Xiaoping Dam*3 | E8: ='(1)Chi-2024'!E19 -> 7.5491211 | F8: ='(1)Chi-2024'!F19 -> 5.395 | G8: ='(1)Chi-2024'!G19 -> 0.222 | H8: - | I8: ='(1)Chi-2024'!H19 -> 2.26 | J8: ='(1)Chi-2024'!I19 -> 3.04 | K8: ='(1)Chi-2024'!J19 -> 3.1425 | L8: ='(1)Chi-2024'!K19 -> 0.04825 | M8: ='(1)Chi-2024'!L19 -> 4.2375 | N8: ='(1)Chi-2024'!M19 -> 2.6075 | O8: ='(1)Chi-2024'!N19 -> 3.0275 | P8: ='(1)Chi-2024'!O19 -> 0.5875
A9: 3 | C9: Xi'an | D9: Jiwozi River*3 | E9: ='(1)Chi-2024'!E24 -> 7.0958265 | F9: ='(1)Chi-2024'!F24 -> 5.7225 | G9: ='(1)Chi-2024'!G24 -> 0.255 | H9: - | I9: ='(1)Chi-2024'!H24 -> 5.57525 | J9: ='(1)Chi-2024'!I24 -> 3.5135 | K9: ='(1)Chi-2024'!J24 -> 0.7805 | L9: ='(1)Chi-2024'!K24 -> 1.361 | M9: ='(1)Chi-2024'!L24 -> 1.25175 | N9: ='(1)Chi-2024'!M24 -> 0.6225 | O9: ='(1)Chi-2024'!N24 -> 5.86225 | P9: ='(1)Chi-2024'!O24 -> 0.54825
A10: 4 | C10: Zhuhai | D10: Zhuxiandong*3 Stream | E10: ='(1)Chi-2024'!E29 -> 7.2032324 | F10: ='(1)Chi-2024'!F29 -> 7.1825 | G10: ='(1)Chi-2024'!G29 -> 0.44675 | H10: - | I10: ='(1)Chi-2024'!H29 -> 1.7025 | J10: ='(1)Chi-2024'!I29 -> 2.2 | K10: ='(1)Chi-2024'!J29 -> 5.7975 | L10: ='(1)Chi-2024'!K29 -> <0.02*1 | M10: ='(1)Chi-2024'!L29 -> 8.285 | N10: ='(1)Chi-2024'!M29 -> 1.2975 | O10: ='(1)Chi-2024'!N29 -> 3.955 | P10: ='(1)Chi-2024'!O29 -> 1.59
A11: 5 | B11: Indonesia | C11: Bandung | D11: Patengang Lake | E11: - | F11: - | G11: - | H11: - | I11: - | J11: - | K11: - | L11: - | M11: - | N11: - | O11: - | P11: -
A12: 6 | C12: Sukabumi, West Java | D12: Gunung Lake | E12: - | F12: - | G12: - | H12: - | I12: - | J12: - | K12: - | L12: - | M12: - | N12: - | O12: - | P12: -
A13: 7 | B13: Japan | C13: Gifu pref. | D13: Ijira Lake*3 (Center, surface) | E13: ='(2)Iji-2024'!E14 -> 7.1224576 | F13: ='(2)Iji-2024'!F14 -> 3.5825 | G13: ='(2)Iji-2024'!G14 -> 0.167375 | H13: ='(2)Iji-2024'!H14 -> 0.15525 | I13: ='(2)Iji-2024'!I14 -> 4.51625 | J13: ='(2)Iji-2024'!J14 -> 0.58625 | K13: ='(2)Iji-2024'!K14 -> 1.64 | L13: ='(2)Iji-2024'!L14 -> <0.01*1 | ... P13: ='(2)Iji-2024'!P14 -> 1.19375
A14: 8 | C14: Nagano pref. | D14: Futago-ike Lake(Oike)*2 (Center, surface) | E14: ='(3)Ftg-2024'!E13 -> 7.0000743 | F14: ='(3)Ftg-2024'!F13 -> 1.855 | G14: ='(3)Ftg-2024'!G13 -> 0.13783333 | H14: ='(3)Ftg-2024'!H13 -> 0.12333333 | I14: ='(3)Ftg-2024'!I13 -> 0.96 | J14: ='(3)Ftg-2024'!J13 -> 0.83116667 | K14: ='(3)Ftg-2024'!K13 -> 0.34333333 | L14: ='(3)Ftg-2024'!L13 -> <0.02*1 | ... P14: ='(3)Ftg-2024'!P13 -> 0.185
A15: 9 | D15: Futago-ike Lake(Meike)*2 (Center, surface) | E15: ='(3)Ftg-2024'!E21 -> 5.8669154 | F15: ='(3)Ftg-2024'!F21 -> 0.445 | G15: ='(3)Ftg-2024'!G21 -> 0.026 | H15: ='(3)Ftg-2024'!H21 -> 0.0096666667 | I15: ='(3)Ftg-2024'!I21 -> 0.45666667 | J15: ='(3)Ftg-2024'!J21 -> <0.1*1 | K15: ='(3)Ftg-2024'!K21 -> 0.355 | L15: ='(3)Ftg-2024'!L21 -> <0.02*1 | ... P15: ='(3)Ftg-2024'!P21 -> 0.045
A16: 10 | B16: Lao PDR | C16: Vientiane province | D16: Nam Houm Lake*3 | E16: 6.4046823 | F16: 34 | G16: 0.72425 | H16: - | I16: 1.6 | J16: 0.1625 | K16: 1.9225 | L16: 0.035 | M16: 5.0375 | N16: 1.7325 | O16: 8.255 | P16: 1.1075
A17: 11 | B17: Malaysia | C17: - | D17: Baru River*5 | E17: 7.3776749 | F17: 5.0283333 | G17: 0.43308333 | H17: - | I17: 1.5703333 | J17: 0.60883333 | K17: 2.0709167 | L17: 0.010583333 | M17: 4.7763333 | N17: 0.52233333 | O17: 3.3585 | P17: 1.7145833
A18: 12 | C18: - | D18: Kuala Tahan | E18: - | F18: - | G18: - | H18: - | I18: - | J18: - | K18: - | L18: - | M18: - | N18: - | O18: - | P18: -
A19: 13 | B19: Mongolia | C19: Terelj | D19: Terelj River*5 | E19: ='(6)Mon-2024'!E16 -> 7.4992696 | F19: ='(6)Mon-2024'!F16 -> 4.395 | G19: ='(6)Mon-2024'!G16 -> 0.3355 | H19: - | I19: ='(6)Mon-2024'!H16 -> 3.5683333 | J19: ='(6)Mon-2024'!I16 -> 0.24 | K19: ='(6)Mon-2024'!J16 -> 0.395 | L19: ='(6)Mon-2024'!K16 -> 0.011666667 | M19: ='(6)Mon-2024'!L16 -> 1.7583333 | N19: ='(6)Mon-2024'!M16 -> 0.59 | O19: ='(6)Mon-2024'!N16 -> 6.8 | P19: ='(6)Mon-2024'!O16 -> 0.89
A20: 14 | B20: Philippines | C20: San Pablo City | D20: Pandin Lake*3 | E20: 7.275316 | F20: 18.8825 | G20: 1.77135 | H20: - | I20: 2.1330403 | J20: 0.28075454 | K20: 3.4891613 | L20: 0.02375 | M20: 8.7016 | N20: 4.45425 | O20: 15.357575 | P20: 8.75185
A21: 15 | C21: Benguet | D21: Ambulalakaw Lake*3 | E21: 5.8039044 | F21: 5.3695 | G21: 0.0265 | I21: 0.0925 | J21: < 0.06*1 | K21: 0.48475 | L21: 0.055775 | M21: 0.03275 | N21: 0.16975 | O21: 0.2875 | P21: 0.14525
A22: 16 | B22: Russia | C22: Southern Baikal | D22: Pereemnaya River *3 | E22: ='(8)Rus-2024'!E14 -> 6.7242389 | F22: ='(8)Rus-2024'!F14 -> 4.8632917 | G22: ='(8)Rus-2024'!G14 -> 0.1305 | H22: - | I22: ='(8)Rus-2024'!H14 -> 12.065833 | J22: ='(8)Rus-2024'!I14 -> 0.70416667 | K22: ='(8)Rus-2024'!J14 -> 0.07125 | L22: ='(8)Rus-2024'!K14 -> 0.00675 | M22: ='(8)Rus-2024'!L14 -> 0.99583333 | N22: ='(8)Rus-2024'!M14 -> 0.70166667 | O22: ='(8)Rus-2024'!N14 -> 5.1416667 | P22: ='(8)Rus-2024'!O14 -> 0.93458333
A23: 17 | C23: Primorskaya | D23: Komarovka River*4 | E23: ='(8)Rus-2024'!E20 -> 6.5990208 | F23: ='(8)Rus-2024'!F20 -> 7.9136667 | G23: ='(8)Rus-2024'!G20 -> 0.6456 | H23: - | I23: ='(8)Rus-2024'!H20 -> 6.5433333 | J23: ='(8)Rus-2024'!I20 -> 0.52583333 | K23: ='(8)Rus-2024'!J20 -> 3.25 | L23: ='(8)Rus-2024'!K20 -> 0.13686667 | M23: ='(8)Rus-2024'!L20 -> 6.1266667 | N23: ='(8)Rus-2024'!M20 -> 1.3866667 | O23: ='(8)Rus-2024'!N20 -> 9.3633333 | P23: ='(8)Rus-2024'!O20 -> 1.3653333
A24: 18 | B24: Thailand | C24: Kanchanaburi Province | D24: Vajiralongkorn Dam*2 (Ban Pong Chang) | E24: ='(9)Thai-2024'!E14 -> 7.5333513 | F24: ='(9)Thai-2024'!F14 -> 12.686667 | G24: ='(9)Thai-2024'!G14 -> 1.1183333 | H24: - | I24: ='(9)Thai-2024'!H19 -> 1.405 | J24: ='(9)Thai-2024'!I19 -> 0.11666667 | K24: ='(9)Thai-2024'!J19 -> 1.0916667 | L24: ='(9)Thai-2024'!K19 -> - | M24: ='(9)Thai-2024'!L19 -> - | N24: ='(9)Thai-2024'!M19 -> - | O24: ='(9)Thai-2024'!N19 -> - | P24: ='(9)Thai-2024'!O19 -> -
A25: 19 | D25: Vajiralongkorn Dam*2 (Ban Pang Pueng) | E25: ='(9)Thai-2024'!E19 -> 7.0139505 | F25: ='(9)Thai-2024'!F19 -> 12.253333 | G25: ='(9)Thai-2024'!G19 -> 1.1083333 | H25: - | I25: ='(9)Thai-2024'!H19 -> 1.405 | J25: ='(9)Thai-2024'!I19 -> 0.11666667 | K25: ='(9)Thai-2024'!J19 -> 1.0916667 | L25: ='(9)Thai-2024'!K19 -> - | M25: ='(9)Thai-2024'!L19 -> - | N25: ='(9)Thai-2024'!M19 -> - | O25: ='(9)Thai-2024'!N19 -> - | P25: ='(9)Thai-2024'!O19 -> -
A26: 20 | B26: Vietnam | C26: Hoa Binh Province | D26: Hoa Binh Reservoir*3 | E26: ='(10)Viet-2024'!E14 -> 7.4608803 | F26: ='(10)Viet-2024'!F14 -> 15.64 | G26: ='(10)Viet-2024'!G14 -> 1.32225 | H26: - | I26: ='(10)Viet-2024'!H14 -> 4.4575 | J26: ='(10)Viet-2024'!I14 -> 2.0975 | K26: ='(10)Viet-2024'!J14 -> 1.1975 | L26: ='(10)Viet-2024'!K14 -> 0.09475 | M26: ='(10)Viet-2024'!L14 -> 2.4675 | N26: ='(10)Viet-2024'!M14 -> 1.68 | O26: ='(10)Viet-2024'!N14 -> 23.1175 | P26: ='(10)Viet-2024'!O14 -> 2.135
A27: 21
E28: Mandatory Parameters : Once/year
B29: Country | C29: Location | D29: Site | E29: Transparency | F29: PO43- | G29: NO2- | H29: DOC | I29: COD
E30: (m) | F30: (mg/L) | G30: (mg/L) | H30: (mg/L) | I30: (mg/L)
B31: Cambodia | C31: Kampong Speu province | D31: Sras Srang Lake | E31: - | F31: - | G31: - | H31: - | I31: -
B32: China | C32: Chongqing | D32: Jinyunshan Lake*2 | E32: ='(1)Chi-2024'!D38 -> 1.6066667 | F32: ='(1)Chi-2024'!F38 -> - | G32: ='(1)Chi-2024'!G38 -> - | H32: - | I32: ='(1)Chi-2024'!H38 -> -
C33: Xiamen | D33: Xiaoping Dam*3*6 | E33: ='(1)Chi-2024'!D43 -> 1.15 | F33: ='(1)Chi-2024'!F43 -> 0.007 | G33: ='(1)Chi-2024'!G43 -> 0.02625 | H33: - | I33: ='(1)Chi-2024'!G44 -> -
C34: Xi'an | D34: Jiwozi River*3 | E34: ='(1)Chi-2024'!D48 -> - | F34: ='(1)Chi-2024'!F48 -> <0.051*1 | G34: ='(1)Chi-2024'!G48 -> <0.016*1 | H34: - | I34: ='(1)Chi-2024'!H48 -> <4*1
C35: Zhuhai | D35: Zhuxiandong*3 Stream | E35: ='(1)Chi-2024'!D53 -> 0.13 | F35: ='(1)Chi-2024'!F53 -> <0.051*1 | G35: ='(1)Chi-2024'!G53 -> <0.016*1 | H35: - | I35: ='(1)Chi-2024'!H53 -> 3
B36: Indonesia | C36: Bandung | D36: Patengang Lake | E36: - | F36: - | G36: - | H36: - | I36: -
C37: Sukabumi, West Java | D37: Gunung Lake | E37: - | F37: - | G37: - | H37: - | I37: -
B38: Japan | C38: Gifu pref. | D38: Ijira Lake*3*6 (Center, surface) | E38: ='(2)Iji-2024'!D38 -> 2.9625 | F38: ='(2)Iji-2024'!H38 -> <0.02*1 | G38: ='(2)Iji-2024'!I38 -> <0.01*1 | H38: ='(2)Iji-2024'!J38 -> 0.535 | I38: ='(2)Iji-2024'!K38 -> 4.785
C39: Nagano pref. | D39: Futago-ike Lake(Oike)*2 (Center, surface) | E39: ='(3)Ftg-2024'!D33 -> 8.5333333 | F39: ='(3)Ftg-2024'!G33 -> <0.01*1 | G39: ='(3)Ftg-2024'!H33 -> <0.01*1 | H39: ='(3)Ftg-2024'!I33 -> 0.875 | I39: ='(3)Ftg-2024'!J33 -> 1.95
D40: Futago-ike Lake(Meike)*2 (Center, surface) | E40: ='(3)Ftg-2024'!D41 -> 1.75 | F40: ='(3)Ftg-2024'!G41 -> <0.01*1 | G40: ='(3)Ftg-2024'!H41 -> <0.01*1 | H40: ='(3)Ftg-2024'!I41 -> 4.9933333 | I40: ='(3)Ftg-2024'!J41 -> 12.133333
B41: Lao PDR | C41: Vientiane province | D41: Nam Houm Lake*3*6 | E41: ='(4)Lao-2024'!D23 -> - | F41: ='(4)Lao-2024'!F23 -> 0.001 | G41: ='(4)Lao-2024'!G23 -> 1.2475 | H41: - | I41: ='(4)Lao-2024'!H23 -> 17.6125
B42: Malaysia | C42: - | D42: Baru River*5 | E42: - | F42: ='(5)Mal-2024'!D27 -> <0.10*1 | G42: - | H42: - | I42: 8.5083333
C43: - | D43: Kuala Tahan | E43: - | F43: - | G43: - | H43: - | I43: -
B44: Mongolia | C44: Terelj | D44: Terelj River*5 | E44: - | F44: - | G44: - | H44: - | I44: -
B45: Philippines | C45: San Pablo City | D45: Pandin Lake*3 | E45: ='(7)Phi-2024'!D28 -> - | F45: 0.08829889 | G45: 0.012315886 | H45: 1.525 | I45: 6.17545
C46: Benguet | D46: Ambulalakaw Lake*3 | E46: - | F46: *1 | G46: *1 | H46: - | I46: -
B47: Russia | C47: Southern Baikal | D47: Pereemnaya River *3*6 | E47: ='(8)Rus-2024'!D29 -> - | F47: ='(8)Rus-2024'!H29 -> 0.002125 | G47: ='(8)Rus-2024'!G29 -> 0.0019166667 | H47: - | I47: ='(8)Rus-2024'!F29 -> 2.5958333
C48: Primorskaya | D48: Komarovka River*4 | E48: ='(8)Rus-2024'!D35 -> - | F48: ='(8)Rus-2024'!H35 -> 0.022333333 | G48: ='(8)Rus-2024'!G35 -> 0.016566667 | H48: - | I48: ='(8)Rus-2024'!F35 -> 5.0733333
B49: Thailand | C49: Kanchanaburi Province | D49: Vajiralongkorn Dam*2 (Ban Pong Chang) | E49: ='(9)Thai-2024'!D28 -> 4.0833333 | F49: ='(9)Thai-2024'!F28 -> 0.01 | G49: ='(9)Thai-2024'!G28 -> - | H49: - | I49: ='(9)Thai-2024'!H28 -> -
D50: Vajiralongkorn Dam*2 (Ban Pang Pueng) | E50: ='(9)Thai-2024'!D33 -> 4.1333333 | F50: ='(9)Thai-2024'!F33 -> 0.01 | G50: ='(9)Thai-2024'!G33 -> - | H50: - | I50: ='(9)Thai-2024'!H33 -> -
B51: Vietnam | C51: Hoa Binh Province | D51: Hoa Binh Reservoir*3*6 | E51: ='(10)Viet-2024'!D23 -> 1.2 | F51: ='(10)Viet-2024'!G23 -> 0.029 | G51: ='(10)Viet-2024'!H23 -> 0.04875 | H51: - | I51: ='(10)Viet-2024'!I23 -> 5.625
B52: note
B53: - : No analysis or measurement.
B54: *1: Less than determination/detection limit.
B55: *2: Surveyed 3 times a year.
B56: *3: Surveyed 4 times a year.
B57: *4: Surveyed 5 times a year.
B58: *5: Surveyed 6 times a year.
B59: *6: NO2- was surveyed 4 times a year.
C312: 6.6135912 | G312: 0.921 | H312: 0.374

Sheet 経年_プレゼン用2019
A2: Sras Srang Lake | W2: Table 6.5(1) Annual mean values of each parameters of 2012 to 2017 at Sras Srang Lake (Cambodia)
X3: Mandatory Parameters : 4 times/year | AJ3: Mandatory Parameters : Once/year
X4: pH | Y4: EC | Z4: Alkalinity | AA4: SO42- | AB4: NO3- | AC4: Cl- | AD4: NH4+ | AE4: Na+ | AF4: K+ | AG4: Ca2+ | AH4: Mg2+ | AJ4: Transparency | AK4: PO43- | AL4: NO2- | AM4: DOC | AN4: COD
Y5: mS/m | Z5: meq/L | AA5: mg/L | AB5: mg/L | AC5: mg/L | AD5: mg/L | AE5: mg/L | AF5: mg/L | AG5: mg/L | AH5: mg/L | AJ5: m | AK5: mg/L | AL5: mg/L | AM5: mg/L | AN5: mg/L
W6: 2012 | X6: 6.4614287 | Y6: 0.88175 | Z6: 0.0365 | AA6: 0.08075 | AB6: 0.064125 | AC6: 1.6455 | AD6: 0.036 | AE6: 0.943 | AF6: 0.1345 | AG6: 0.271 | AH6: 0.161 | AJ6: 0.715 | AK6: - | AL6: - | AM6: - | AN6: -
W7: 2013 | X7: 5.7403887 | Y7: 0.92591667 | Z7: 0.033583333 | AA7: 0.054166667 | AB7: 0.27866667 | AC7: 1.3936667 | AD7: 0.020916667 | AE7: 0.9445 | AF7: 0.11841667 | AG7: 0.28508333 | AH7: 0.13133333 | AJ7: 0.745 | AK7: - | AL7: - | AM7: - | AN7: -
W8: 2014 | X8: 5.8430413 | Y8: 0.95791667 | Z8: 0.035166667 | AA8: 0.061758333 | AB8: 0.60333333 | AC8: 1.3794167 | AD8: 0.12158333 | AE8: 1.0274167 | AF8: 0.30858333 | AG8: 0.25641667 | AH8: 0.117 | AJ8: 0.7075 | AK8: - | AL8: - | AM8: - | AN8: -
W9: 2015 | X9: 5.8129524 | Y9: 0.9825 | Z9: 0.04 | AA9: 0.0895 | AB9: 0.217 | AC9: 1.1655 | AD9: 0.07125 | AE9: 0.803 | AF9: 0.194 | AG9: 0.372 | AH9: 0.2195 | AJ9: 0.7775 | AK9: - | AL9: - | AM9: - | AN9: -
W10: 2016 | X10: 5.9499488 | Y10: 0.916 | Z10: 0.0275 | AA10: 0.1045 | AB10: 0.3045 | AC10: 1.0995 | AD10: 0.0895 | AE10: 0.911 | AF10: 0.14 | AG10: 0.269 | AH10: 0.134 | AJ10: 0.714 | AK10: - | AL10: - | AM10: - | AN10: -
W11: 2017 | X11: 6.0441657 | Y11: 0.972 | Z11: 0.03375 | AA11: 0.069 | AB11: 0.05975 | AC11: 1.11875 | AD11: 0.0125 | AE11: 0.668 | AF11: 0.08475 | AG11: 0.16575 | AH11: 0.091 | AJ11: 0.78 | AK11: - | AL11: - | AM11: - | AN11: -
W13: Table 6.5(2) Annual mean values of each parameters from 2001 to 2017 at Jinyushan Lake (China)
X14: Mandatory Parameters : 4 times/year | AJ14: Mandatory Parameters : Once/year
X15: pH | Y15: EC | Z15: Alkalinity | AA15: SO42- | AB15: NO3- | AC15: Cl- | AD15: NH4+ | AE15: Na+ | AF15: K+ | AG15: Ca2+ | AH15: Mg2+ | AJ15: Transparency | AK15: PO43- | AL15: NO2- | AM15: DOC | AN15: COD
Y16: mS/m | Z16: meq/L | AA16: mg/L | AB16: mg/L | AC16: mg/L | AD16: mg/L | AE16: mg/L | AF16: mg/L | AG16: mg/L | AH16: mg/L | AJ16: m | AK16: mg/L | AL16: mg/L | AM16: mg/L | AN16: mg/L
W17: 2001 | X17: 7.4962158 | Y17: 9.0475 | Z17: - | AA17: 26.05 | AB17: 7.675 | AC17: 2.575 | AD17: 0.65 | AE17: 1.775 | AF17: 1.575 | AG17: 6.625 | AH17: 2.625 | AJ17: - | AK17: - | AL17: - | AM17: - | AN17: -
W18: 2002 | X18: 6.1193818 | Y18: 9.5175 | Z18: - | AA18: 26.355 | AB18: 7.9875 | AC18: 2.53 | AD18: 0.087 | AE18: 2.5 | AF18: 1.7875 | AG18: 9.075 | AH18: 3.2825 | AJ18: - | AK18: - | AL18: - | AM18: - | AN18: -
W19: 2003 | X19: 6.5535404 | Y19: 9.79 | Z19: 0.21 | AA19: 23.2075 | AB19: 5.1575 | AC19: 2.68 | AD19: 0.21 | AE19: 2.6025 | AF19: 1.7175 | AG19: 9.0275 | AH19: 3.295 | AJ19: 0.895 | AK19: - | AL19: - | AM19: - | AN19: -
A20: Jinyushan Lake | W20: 2004 | X20: 6.3388696 | Y20: 9.61 | Z20: 0.07525 | AA20: 25.72 | AB20: 7.9425 | AC20: 1.735 | AD20: 0.2975 | AE20: 1.9775 | AF20: 1.6475 | AG20: 9.6625 | AH20: 2.7075 | AJ20: 2.6425 | AK20: - | AL20: - | AM20: - | AN20: 7.6
W21: 2005 | X21: 6.0374398 | Y21: 10.21 | Z21: 0.07265 | AA21: 28.12 | AB21: 8.16 | AC21: 2.6325 | AD21: 0.04 | AE21: 2.695 | AF21: 1.82475 | AG21: 9.3625 | AH21: 3.22 | AJ21: 3.74 | AK21: *1 | AL21: *1 | AM21: - | AN21: 2.94
W22: 2006 | X22: 6.355885 | Y22: 11.92 | Z22: 0.11325 | AA22: 32.65 | AB22: 9.53 | AC22: 3.045 | AD22: 0.11 | AE22: 2.9625 | AF22: 2.265 | AG22: 11.0525 | AH22: 3.8175 | AJ22: 4.9775 | AK22: *1 | AL22: *1 | AM22: - | AN22: 3.2
W23: 2007 | X23: 6.2359176 | Y23: 12.35 | Z23: 0.08575 | AA23: 37.1875 | AB23: 10.21 | AC23: 3.115 | AD23: 0.11666667 | AE23: 2.81 | AF23: 2.18 | AG23: 11.2375 | AH23: 3.8125 | AJ23: 3.025 | AK23: *1 | AL23: *1 | AM23: - | AN23: 4.37
W24: 2008 | X24: 5.4179095 | Y24: 12.2 | Z24: 0.066333333 | AA24: 33.2575 | AB24: 12.7775 | AC24: 2.7675 | AD24: 0.16 | AE24: 2.65 | AF24: 1.975 | AG24: 11.335 | AH24: 3.765 | AJ24: 3.74 | AK24: *1 | AL24: *1 | AM24: - | AN24: 2.9
W25: 2009 | X25: 5.8357545 | Y25: 11.175 | Z25: 0.048 | AA25: 29.2725 | AB25: 8.2925 | AC25: 2.945 | AD25: 0.23075 | AE25: 2.5925 | AF25: 1.9625 | AG25: 10.1475 | AH25: 3.625 | AJ25: 2.2875 | AK25: *1 | AL25: *1 | AM25: - | AN25: <10*1
W26: 2010 | X26: 5.7599514 | Y26: 12.7875 | Z26: 0.156975 | AA26: 34.5475 | AB26: 10.62 | AC26: 3 | AD26: 0.14475 | AE26: 2.9 | AF26: 2.065 | AG26: 11.7175 | AH26: 3.9825 | AJ26: 3.4375 | AK26: *1 | AL26: *1 | AM26: - | AN26: <10*1
W27: 2011 | X27: 5.2474325 | Y27: 14.166667 | Z27: 0.063533333 | AA27: 39.63 | AB27: 15.153333 | AC27: 3.7633333 | AD27: 0.117 | AE27: 2.7066667 | AF27: 2.27 | AG27: 12.766667 | AH27: 3.9 | AJ27: 4.51 | AK27: *1 | AL27: *1 | AM27: - | AN27: <10*1
W28: 2012 | X28: 5.4681925 | Y28: 13.54 | Z28: 0.05175 | AA28: 40.785 | AB28: 9.88 | AC28: 3.7125 | AD28: 0.13525 | AE28: 3.08 | AF28: 2.3825 | AG28: 12.7925 | AH28: 3.975 | AJ28: 3.125 | AK28: *1 | AL28: *1 | AM28: - | AN28: <10*1
W29: 2013 | X29: 6.0272322 | Y29: 7.1225 | Z29: 0.0823 | AA29: 20.74 | AB29: 3.9325 | AC29: 0.6825 | AD29: 0.1175 | AE29: 0.75 | AF29: 0.765 | AG29: 8.75 | AH29: 0.9775 | AJ29: 3.5375 | AK29: *1 | AL29: *1 | AM29: - | AN29: <10*1
W30: 2014 | X30: 5.4069971 | Y30: 12.385 | Z30: 0.0403 | AA30: 34.935 | AB30: 14.2975 | AC30: 2.6525 | AD30: 0.09 | AE30: 2.54 | AF30: 2.1375 | AG30: 11.835 | AH30: 3.7675 | AJ30: 6.27 | AK30: *1 | AL30: *1 | AM30: - | AN30: -
W31: 2015 | X31: 6.4779485 | Y31: 11.35 | Z31: 0.14475 | AA31: 29.41 | AB31: 10.09 | AC31: 2.2425 | AD31: 0.24875 | AE31: 2.245 | AF31: 2.0075 | AG31: 11.6175 | AH31: 3.4575 | AJ31: 0.89 | AK31: *1 | AL31: *1 | AM31: - | AN31: <10*1
W32: 2016 | X32: 6.4915363 | Y32: 12.1675 | Z32: 0.266 | AA32: 28.5975 | AB32: 11.72 | AC32: 2.965 | AD32: *1 | AE32: 2.91 | AF32: 2.295 | AG32: 12.6575 | AH32: 3.5875 | AJ32: 2.45 | AK32: *1 | AL32: *1 | AM32: - | AN32: <10*1
W33: 2017 | X33: 6.4762912 | Y33: 11.155 | Z33: 0.122 | AA33: 27.27 | AB33: 11.835 | AC33: 2.7 | AD33: 0.0225 | AE33: 2.63 | AF33: 1.98 | AG33: 11.32 | AH33: 3.2425 | AJ33: 1.975 | AK33: *1 | AL33: *1 | AM33: - | AN33: <10*1
W35: Table 6.5(3) Annual mean values of each parameters from 2001 to 2017 at Xiaoping Dam (China)
X36: Mandatory Parameters : 4 times/year | AJ36: Mandatory Parameters : Once/year
X37: pH | Y37: EC | Z37: Alkalinity | AA37: SO42- | AB37: NO3- | AC37: Cl- | AD37: NH4+ | AE37: Na+ | AF37: K+ | AG37: Ca2+ | AH37: Mg2+ | AJ37: Transparency | AK37: PO43- | AL37: NO2- | AM37: DOC | AN37: COD
A38: Xiaoping Dam | Y38: mS/m | Z38: meq/L | AA38: mg/L | AB38: mg/L | AC38: mg/L | AD38: mg/L | AE38: mg/L | AF38: mg/L | AG38: mg/L | AH38: mg/L | AJ38: m | AK38: mg/L | AL38: mg/L | AM38: mg/L | AN38: mg/L
W39: 2001 | X39: 7.2101717 | Y39: - | Z39: - | AA39: 1.425 | AB39: 1.2975 | AC39: 2.175 | AD39: - | AE39: - | AF39: - | AG39: - | AH39: - | AJ39: - | AK39: - | AL39: - | AM39: - | AN39: -
W40: 2002 | X40: 7.3932118 | Y40: 7 | Z40: - | AA40: 4.665 | AB40: 6.655 | AC40: 2.8225 | AD40: 0.201 | AE40: 7.29 | AF40: 2.1404744 | AG40: 2.2932187 | AH40: 0.8150625 | AJ40: - | AK40: - | AL40: - | AM40: - | AN40: -
W41: 2003 | X41: 6.7348725 | Y41: 7.185 | Z41: 0.1925 | AA41: 2.68 | AB41: 5.0225 | AC41: 5.9125 | AD41: 0.17 | AE41: 6.5325 | AF41: 2.055 | AG41: 2.345 | AH41: 0.86 | AJ41: - | AK41: - | AL41: - | AM41: - | AN41: 1.8325
W42: 2004 | X42: 7.3434275 | Y42: 5.5675 | Z42: 0.24175 | AA42: 2.68 | AB42: 7.825 | AC42: 4.3525 | AD42: 0.1775 | AE42: 6.695 | AF42: 2.175 | AG42: 2.9175 | AH42: 0.6375 | AJ42: - | AK42: 0.02 | AL42: 0.008 | AM42: - | AN42: 2.115
W43: 2005 | X43: 6.7319847 | Y43: 4.62 | Z43: 0.2324 | AA43: 2.07 | AB43: 2.825 | AC43: 3.9425 | AD43: 0.0475 | AE43: 4.77 | AF43: 2.37 | AG43: 2.9475 | AH43: 0.61 | AJ43: 0.85 | AK43: 0.02 | AL43: 0.008 | AM43: - | AN43: 1.3325
W44: 2006 | X44: 6.8117782 | Y44: 5.265 | Z44: 0.189675 | AA44: 2.4575 | AB44: 2.5225 | AC44: 5.125 | AD44: 0.19325 | AE44: 6.015 | AF44: 2.3325 | AG44: 3.1925 | AH44: 0.6625 | AJ44: 0.85 | AK44: 0.02 | AL44: 0.008 | AM44: - | AN44: 0.66
W45: 2007 | X45: 7.0723542 | Y45: 7.32 | Z45: 0.110125 | AA45: 2.67 | AB45: 2.67 | AC45: 5.125 | AD45: 0.1475 | AE45: 3.6366667 | AF45: 1.6266667 | AG45: 2.8233333 | AH45: 0.54 | AJ45: - | AK45: - | AL45: 0.006 | AM45: - | AN45: 1.78
W46: 2008 | X46: 6.725256 | Y46: 5.66 | Z46: 0.12405 | AA46: 4.4902799 | AB46: 2.67 | AC46: 12.949612 | AD46: 0.14108849 | AE46: 4.9689743 | AF46: 2.4638833 | AG46: 3.9037662 | AH46: 0.56069278 | AJ46: - | AK46: 0.01 | AL46: 0.007 | AM46: - | AN46: 1.9325
W47: 2009 | X47: 6.7222718 | Y47: 7.525 | Z47: 0.1925 | AA47: 3.135 | AB47: 2.67 | AC47: 7.44 | AD47: 0.095 | AE47: 6.905 | AF47: 3.52 | AG47: 2.425 | AH47: 0.8225 | AJ47: - | AK47: 0.01 | AL47: 0.00825 | AM47: - | AN47: 3.5025
W48: 2010 | X48: 6.6295596 | Y48: 6.185 | Z48: 0.1895 | AA48: 2.7025 | AB48: 3.7 | AC48: 5.5425 | AD48: 0.105 | AE48: 5.795 | AF48: 2.5275 | AG48: 2.5075 | AH48: 0.6925 | AJ48: 1.1 | AK48: 0.02 | AL48: 0.01475 | AM48: - | AN48: 1.8575
W49: 2011 | X49: 6.7809892 | Y49: 4.8525 | Z49: 0.16825 | AA49: 2.595 | AB49: 2.8925 | AC49: 3.1375 | AD49: 0.08575 | AE49: 3.5 | AF49: 2.0975 | AG49: 2.57 | AH49: 0.5225 | AJ49: 0.725 | AK49: 0.05 | AL49: 0.022 | AM49: - | AN49: 1.83
W50: 2012 | X50: 6.938201 | Y50: 5.0775 | Z50: 0.15475 | AA50: 2.915 | AB50: 3.455 | AC50: 3.1025 | AD50: 0.05825 | AE50: 3.78 | AF50: 2.4975 | AG50: 2.505 | AH50: 0.6825 | AJ50: 1.175 | AK50: 0.03 | AL50: 0.03075 | AM50: - | AN50: 2.515
W51: 2013 | X51: 6.8038164 | Y51: 5.5225 | Z51: 0.2195 | AA51: 2.71 | AB51: 3.415 | AC51: 2.77 | AD51: 0.045 | AE51: 3.8025 | AF51: 2.8275 | AG51: 3.1975 | AH51: 0.7625 | AJ51: 0.925 | AK51: 0.024 | AL51: 0.02875 | AM51: - | AN51: 1.6575
W52: 2014 | X52: 7.1788924 | Y52: 5.785 | Z52: 0.219 | AA52: 3.7125 | AB52: 3.5325 | AC52: 2.6375 | AD52: 0.0475 | AE52: 3.085 | AF52: 2.61 | AG52: 3.7 | AH52: 0.8375 | AJ52: 0.9 | AK52: 0.041 | AL52: 0.0195 | AM52: - | AN52: 1.4675
W53: 2015 | X53: 7.0081211 | Y53: 6.0125 | Z53: 0.179 | AA53: 3.9875 | AB53: 3.1725 | AC53: 3.425 | AD53: 0.0525 | AE53: 3.645 | AF53: 2.635 | AG53: 3.60675 | AH53: 0.66 | AJ53: 0.725 | AK53: 0.045 | AL53: 0.014 | AM53: - | AN53: 1.23
W54: 2016 | X54: 6.6453397 | Y54: 5.9825 | Z54: 0.28025 | AA54: 2.385 | AB54: 2.6125 | AC54: 2.8725 | AD54: 0.11 | AE54: 4.43 | AF54: 2.36 | AG54: 3.52 | AH54: 0.6575 | AJ54: 1.225 | AK54: 0.042 | AL54: 0.0165 | AM54: - | AN54: 0.9225
W55: 2017 | X55: 7.0813354 | Y55: 5.76 | Z55: 0.259 | AA55: 3.1675 | AB55: 3.33 | AC55: 2.845 | AD55: 0.07875 | AE55: 4.555 | AF55: 2.4725 | AG55: 3.9625 | AH55: 0.6225 | AJ55: 1.45 | AK55: 0.032 | AL55: 0.0245 | AM55: - | AN55: 1.1
A56: Jiwozi River
W57: Table 6.5(4) Annual mean values of each parameters from 2001 to 2017 at Jiwozi River (China)
X58: Mandatory Parameters : 4 times/year | AJ58: Mandatory Parameters : Once/year
X59: pH | Y59: EC | Z59: Alkalinity | AA59: SO42- | AB59: NO3- | AC59: Cl- | AD59: NH4+ | AE59: Na+ | AF59: K+ | AG59: Ca2+ | AH59: Mg2+ | AJ59: Transparency | AK59: PO43- | AL59: NO2- | AM59: DOC | AN59: COD
Y60: mS/m | Z60: meq/L | AA60: mg/L | AB60: mg/L | AC60: mg/L | AD60: mg/L | AE60: mg/L | AF60: mg/L | AG60: mg/L | AH60: mg/L | AJ60: m | AK60: mg/L | AL60: mg/L | AM60: mg/L | AN60: mg/L
W61: 2001 | X61: 7.106222 | Y61: 4.5 | Z61: 0.225 | AA61: 10.02625 | AB61: 1.47 | AC61: 1.0585 | AD61: 0.03675 | AE61: 1.897 | AF61: 0.699 | AG61: 8.8285 | AH61: 1.378 | AJ61: - | AK61: - | AL61: - | AM61: - | AN61: -
W62: 2002 | X62: 7.6014264 | Y62: 8.4666667 | Z62: 0.11 | AA62: 12.155667 | AB62: 1.7033333 | AC62: 1.8046667 | AD62: *1 | AE62: 2.797 | AF62: 1.1953333 | AG62: 12.726667 | AH62: 1.715 | AJ62: - | AK62: - | AL62: - | AM62: - | AN62: -
W63: 2003 | X63: 7.5448205 | Y63: 7.825 | Z63: 0.14 | AA63: 11.4425 | AB63: 2.01 | AC63: 1.625 | AD63: *1 | AE63: 2.08 | AF63: 0.95 | AG63: 12.025 | AH63: 1.5945 | AJ63: - | AK63: - | AL63: - | AM63: - | AN63: -
W64: 2004 | X64: 7.2016387 | Y64: 6.6325 | Z64: 0.2425 | AA64: 11.68 | AB64: 2.3025 | AC64: 1.0625 | AD64: *1 | AE64: 1.79 | AF64: 0.6825 | AG64: 9.04 | AH64: 1.35 | AJ64: - | AK64: *1 | AL64: *1 | AM64: - | AN64: 3.2
W65: 2005 | X65: 6.98678 | Y65: 7.9925 | Z65: 0.2075 | AA65: 15.30925 | AB65: 0.8115 | AC65: 1.74475 | AD65: 0.05625 | AE65: 1.76675 | AF65: 0.71525 | AG65: 7.44225 | AH65: 1.3505 | AJ65: - | AK65: *1 | AL65: 0.09 | AM65: - | AN65: 1.6
W66: 2006 | X66: 6.7950931 | Y66: 7.5875 | Z66: 0.2375 | AA66: 11.8015 | AB66: 1.87225 | AC66: 1.2065 | AD66: 0.0705 | AE66: 1.93475 | AF66: 0.653 | AG66: 7.638 | AH66: 1.1095 | AJ66: - | AK66: 0.03 | AL66: 0.003 | AM66: - | AN66: 2.8
W67: 2007 | X67: 7.3156445 | Y67: 8.8575 | Z67: 0.25 | AA67: 16.675 | AB67: 3.46 | AC67: 1.3075 | AD67: 0.13 | AE67: 2.085 | AF67: 0.9575 | AG67: 11 | AH67: 0.9625 | AJ67: - | AK67: *1 | AL67: *1 | AM67: - | AN67: 2.2
W68: 2008 | X68: 7.0541451 | Y68: 8.4225 | Z68: 0.2475 | AA68: 13.91675 | AB68: 1.8935 | AC68: 1.51475 | AD68: 0.299 | AE68: 1.4285 | AF68: 1.05425 | AG68: 9.383 | AH68: 1.203 | AJ68: - | AK68: <0.01*1 | AL68: <0.003*1 | AM68: - | AN68: 2.5
W69: 2009 | X69: 6.983019 | Y69: 8.28 | Z69: 0.2775 | AA69: 15.5063 | AB69: 2.0658214 | AC69: 1.3385 | AD69: 0.13840833 | AE69: 1.8771 | AF69: 1.0375 | AG69: 9.850375 | AH69: 1.37925 | AJ69: - | AK69: <0.01*1 | AL69: <0.003*1 | AM69: - | AN69: 2.5
W70: 2010 | X70: 7.333049 | Y70: 8.1125 | Z70: 0.28 | AA70: 13.92175 | AB70: 2.83225 | AC70: 1.2705 | AD70: *1 | AE70: 1.224 | AF70: 0.8065 | AG70: 10.488 | AH70: 1.34525 | AJ70: - | AK70: <0.01*1 | AL70: <0.003*1 | AM70: - | AN70: 3
W71: 2011 | X71: 6.8495517 | Y71: 6.8325 | Z71: 0.275 | AA71: 12.894 | AB71: 0.8725 | AC71: 0.51075 | AD71: *1 | AE71: 0.73625 | AF71: 0.84075 | AG71: 8.0905 | AH71: 2.008 | AJ71: - | AK71: <0.01*1 | AL71: <0.003*1 | AM71: - | AN71: 3
W72: 2012 | X72: 6.8321986 | Y72: 6.9475 | Z72: 0.275 | AA72: 12.969 | AB72: 0.96025 | AC72: 0.56925 | AD72: *1 | AE72: 0.69625 | AF72: 0.82625 | AG72: 7.8015 | AH72: 2.014 | AJ72: - | AK72: <0.01*1 | AL72: <0.003*1 | AM72: - | AN72: 4
W73: 2013 | X73: 6.8628105 | Y73: 8.9175 | Z73: 0.3325 | AA73: 15.0075 | AB73: 2.389 | AC73: 3.15825 | AD73: *1 | AE73: 3.50125 | AF73: 1.3655 | AG73: 11.06975 | AH73: 1.68875 | AJ73: - | AK73: <0.01*1 | AL73: <0.003*1 | AM73: - | AN73: 5
A74: Zhuxiandong stream | W74: 2014 | X74: 7.0473841 | Y74: 8.2375 | Z74: 0.2725 | AA74: 15.84875 | AB74: 1.2795 | AC74: 1.3155 | AD74: 0.2705 | AE74: 1.929 | AF74: 1.05575 | AG74: 9.15325 | AH74: 1.61425 | AJ74: - | AK74: <0.01*1 | AL74: <0.003*1 | AM74: - | AN74: 4
W75: 2015 | X75: 7.0933189 | Y75: 7.27 | Z75: 0.2625 | AA75: 11.3215 | AB75: 6.44675 | AC75: 1.55 | AD75: *1 | AE75: 4.12025 | AF75: 0.95475 | AG75: 9.191 | AH75: 1.28075 | AJ75: - | AK75: <0.01*1 | AL75: <0.003*1 | AM75: - | AN75: 3
W76: 2016 | X76: 7.0984339 | Y76: 7.6 | Z76: 0.295 | AA76: 11.69725 | AB76: 2.857 | AC76: 0.81975 | AD76: *1 | AE76: 2.29025 | AF76: 0.64775 | AG76: 10.06875 | AH76: 1.1135 | AJ76: - | AK76: <0.01*1 | AL76: <0.003*1 | AN76: *1
W77: 2017 | X77: 6.9867812 | Y77: 6.87 | Z77: 0.335 | AA77: 9.02275 | AB77: 2.092 | AC77: 1.0165 | AD77: 0.0255 | AE77: 2.02175 | AF77: 0.8155 | AG77: 8.6015 | AH77: 1.41275 | AJ77: - | AK77: <0.01*1 | AL77: <0.003*1 | AM77: - | AN77: *1
W79: Table 6.5(5) Annual mean values of each parameters from 2004 to 2017 at Zhuxiandong stream and from 2001 to 2003 at Zhuxiandong resorvoir(China)
X80: Mandatory Parameters : 4 times/year | AJ80: Mandatory Parameters : Once/year
X81: pH | Y81: EC | Z81: Alkalinity | AA81: SO42- | AB81: NO3- | AC81: Cl- | AD81: NH4+ | AE81: Na+ | AF81: K+ | AG81: Ca2+ | AH81: Mg2+ | AJ81: Transparency | AK81: PO43- | AL81: NO2- | AM81: DOC | AN81: COD
Y82: mS/m | Z82: meq/L | AA82: mg/L | AB82: mg/L | AC82: mg/L | AD82: mg/L | AE82: mg/L | AF82: mg/L | AG82: mg/L | AH82: mg/L | AJ82: m | AK82: mg/L | AL82: mg/L | AM82: mg/L | AN82: mg/L
W83: 2001 | X83: 7.6181721 | Y83: - | Z83: - | AA83: 17.7 | AB83: 0.625 | AC83: 43.125 | AD83: 0.2 | AE83: - | AF83: - | AG83: - | AH83: - | AJ83: - | AK83: - | AL83: - | AM83: - | AN83: -
W84: 2002 | X84: 7.9251114 | Y84: 6.6975 | Z84: 0.96308036 | AA84: 19.8875 | AB84: 0.8275 | AC84: 23.8025 | AD84: 0.23 | AE84: 7.265 | AF84: 1.57 | AG84: 17 | AH84: 2.495 | AJ84: - | AK84: - | AL84: - | AM84: - | AN84: -
W85: 2003 | X85: 7.8214596 | Y85: 7.535 | Z85: 1.6025 | AA85: 17.5 | AB85: 0.29 | AC85: 19.5875 | AD85: 0.17 | AE85: 7.34 | AF85: 1.955 | AG85: 16.8 | AH85: 2.3625 | AJ85: - | AK85: - | AL85: 0.02875 | AM85: - | AN85: 1.675
W86: 2004 | X86: 7.1198404 | Y86: 8.4925 | Z86: 0.645 | AA86: 5.4675 | AB86: 1.8975 | AC86: 6.0325 | AD86: *1 | AE86: 8.95 | AF86: 1.8825 | AG86: 5.41 | AH86: 2.8375 | AJ86: - | AL86: *1 | AM86: - | AN86: 1.075
W87: 2005 | X87: 6.9717232 | Y87: 9.525 | Z87: 0.1325 | AA87: 5.825 | AB87: 1.7 | AC87: 6.725 | AD87: *1 | AE87: 8.9 | AF87: 1.6 | AG87: 4.625 | AH87: 2.65 | AJ87: 1.275 | AK87: *1 | AL87: *1 | AM87: - | AN87: 0.925
W88: 2006 | X88: 7.1809072 | Y88: 7.35 | Z88: 0.225 | AA88: 2.6 | AB88: 1.15 | AC88: 4.5 | AD88: 1.1 | AE88: 5.4 | AF88: 1.125 | AG88: 4.375 | AH88: 1.575 | AJ88: 1.25 | AK88: *1 | AL88: *1 | AN88: 0.975
W89: 2007 | X89: 7.2791373 | Y89: 7.795 | Z89: 0.24025 | AA89: 3.61 | AB89: 1.7675 | AC89: 5.09 | AD89: 0.0975 | AE89: 6.005 | AF89: 1.2225 | AG89: 3.6525 | AH89: 1.375 | AJ89: 1.25 | AK89: *1 | AL89: *1 | AM89: - | AN89: 1.125
W90: 2008 | X90: 7.1822073 | Y90: 7.5825 | Z90: 0.165 | AA90: 2.9525 | AB90: 2.355 | AC90: 4.8975 | AD90: 0.0475 | AE90: 6.83 | AF90: 1.3133333 | AG90: 4.4033333 | AH90: 1.7566667 | AJ90: 1.3 | AK90: *1 | AL90: *1 | AM90: - | AN90: 1.125
W91: 2009 | X91: 7.1642321 | Y91: 7.74 | Z91: 0.3665 | AA91: 2.9725 | AB91: 4.2 | AC91: 6.3025 | AD91: 0.0575 | AE91: 7.86 | AF91: 1.57 | AG91: 2.7675 | AH91: 1.96 | AJ91: 1.05 | AK91: *1 | AL91: *1 | AM91: - | AN91: 1.275
A92: Patenggang Lake | W92: 2010 | X92: 7.22125 | Y92: 6.86 | Z92: 0.393 | AA92: 2.49 | AB92: 2.495 | AC92: 5.15 | AD92: 0.08 | AE92: 6.9775 | AF92: 1.2275 | AG92: 4.2975 | AH92: 1.72 | AJ92: 1.1 | AK92: *1 | AL92: *1 | AM92: - | AN92: 1.375
W93: 2011 | X93: 7.1605854 | Y93: 7.42 | Z93: 0.46725 | AA93: 1.95 | AB93: 1.0025 | AC93: 4.3275 | AD93: 0.09 | AE93: 7.7025 | AF93: 1.15 | AG93: 4.68 | AH93: 1.6925 | AJ93: 1.05 | AK93: *1 | AL93: *1 | AM93: - | AN93: 1.275
W94: 2012 | X94: 7.2553348 | Y94: 7.6175 | Z94: 0.49925 | AA94: 2.9825 | AB94: 1.9975 | AC94: 5.375 | AD94: 0.09 | AE94: 7.5025 | AF94: 1.69 | AG94: 4.8125 | AH94: 1.88 | AJ94: 1.125 | AK94: *1 | AL94: *1 | AM94: - | AN94: 1.15
W95: 2013 | X95: 7.2041842 | Y95: 7.8675 | Z95: 0.4995 | AA95: 3.8125 | AB95: 4.11 | AC95: 4.66 | AD95: 0.0675 | AE95: 6.945 | AF95: 1.7725 | AG95: 4.9125 | AH95: 1.9075 | AJ95: 1.15 | AK95: *1 | AL95: *1 | AM95: - | AN95: 1.125
W96: 2014 | X96: 7.1929785 | Y96: 8.2675 | Z96: 0.50225 | AA96: 4.6375 | AB96: 4.795 | AC96: 3.7475 | AD96: 0.02 | AE96: 6.4225 | AF96: 1.6925 | AG96: 5.22 | AH96: 2.5325 | AJ96: - | AK96: - | AL96: - | AM96: - | AN96: -
W97: 2015 | X97: 6.3752665 | Y97: 6.73 | Z97: 0.496 | AA97: 2.4725 | AB97: 1.31 | AC97: 2.495 | AD97: 0.44 | AE97: 7.4775 | AF97: 1.84 | AG97: 2.8375 | AH97: 1.1425 | AJ97: - | AK97: - | AL97: - | AM97: - | AN97: -
W98: 2016 | X98: 6.9938342 | Y98: 7.45 | Z98: 0.496 | AA98: 1.848875 | AB98: 2.007625 | AC98: 3.69145 | AD98: 0.0275 | AE98: 6.7 | AF98: 1.525 | AG98: 4.345 | AH98: 1.6375 | AJ98: - | AK98: - | AL98: - | AM98: - | AN98: -
W99: 2017 | X99: 7.2927065 | Y99: 15.165 | Z99: 0.492 | AA99: 8.1538921 | AB99: 3.3272021 | AC99: 14.380905 | AD99: 0.15232818 | AE99: 11.323677 | AF99: 1.7565733 | AG99: 14.028588 | AH99: 2.8706412 | AJ99: - | AK99: - | AL99: - | AM99: - | AN99: -
W101: Table 6.5(6) Annual mean values of each parameters from 2001 to 2017 at Patenggang Lake (Indonesia)
X102: Mandatory Parameters : 4 times/year | AJ102: Mandatory Parameters : Once/year
X103: pH | Y103: EC | Z103: Alkalinity | AA103: SO42- | AB103: NO3- | AC103: Cl- | AD103: NH4+ | AE103: Na+ | AF103: K+ | AG103: Ca2+ | AH103: Mg2+ | AJ103: Transparency | AK103: PO43- | AL103: NO2- | AM103: DOC | AN103: COD
Y104: mS/m | Z104: meq/L | AA104: mg/L | AB104: mg/L | AC104: mg/L | AD104: mg/L | AE104: mg/L | AF104: mg/L | AG104: mg/L | AH104: mg/L | AJ104: m | AK104: mg/L | AL104: mg/L | AM104: mg/L | AN104: mg/L
W105: 2001 | X105: 7.9045784 | Y105: 7.28 | Z105: 0.4884 | AA105: 4.33 | AB105: 0.067 | AC105: 8.19 | AD105: 0.134 | AE105: 4.9 | AF105: 0.538 | AG105: 6.32 | AH105: 2.18 | AJ105: - | AK105: - | AL105: - | AM105: - | AN105: -
...

Sheet Annual-2018 (2)
B2: Table 6.5.1 Annual mean values of each parameters of 2012 to 2017 at Sras Srang Lake (Cambodia)
C3: Mandatory Parameters : 4 times/year | P3: Mandatory Parameters : Once/year
C4: pH | D4: EC | E4: Alkalinity | F4: Gran's ANC | G4: SO42- | H4: NO3- | I4: Cl- | J4: NH4+ | K4: Na+ | L4: K+ | M4: Ca2+ | N4: Mg2+ | P4: Transparency | Q4: PO43- | R4: NO2- | S4: DOC | T4: COD
D5: mS/m | E5: meq/L | F5: (meq/L) | G5: mg/L | H5: mg/L | I5: mg/L | J5: mg/L | K5: mg/L | L5: mg/L | M5: mg/L | N5: mg/L | P5: m | Q5: mg/L | R5: mg/L | S5: mg/L | T5: mg/L
B6: 2012 | C6: 6.4614287 | D6: 0.88175 | E6: 0.0365 | F6: - | G6: 0.08075 | H6: 0.064125 | I6: 1.6455 | J6: 0.036 | K6: 0.943 | L6: 0.1345 | M6: 0.271 | N6: 0.161 | P6: 0.715 | Q6: - | R6: - | S6: - | T6: -
B7: 2013 | C7: 5.7403887 | D7: 0.92591667 | E7: 0.033583333 | F7: - | G7: 0.054166667 | H7: 0.27866667 | I7: 1.3936667 | J7: 0.020916667 | K7: 0.9445 | L7: 0.11841667 | M7: 0.28508333 | N7: 0.13133333 | P7: 0.745 | Q7: - | R7: - | S7: - | T7: -
B8: 2014 | C8: 5.8430413 | D8: 0.95791667 | E8: 0.035166667 | F8: - | G8: 0.061758333 | H8: 0.60333333 | I8: 1.3794167 | J8: 0.12158333 | K8: 1.0274167 | L8: 0.30858333 | M8: 0.25641667 | N8: 0.117 | P8: 0.7075 | Q8: - | R8: - | S8: - | T8: -
B9: 2015 | C9: 5.8129524 | D9: 0.9825 | E9: 0.04 | F9: - | G9: 0.0895 | H9: 0.217 | I9: 1.1655 | J9: 0.07125 | K9: 0.803 | L9: 0.194 | M9: 0.372 | N9: 0.2195 | P9: 0.7775 | Q9: - | R9: - | S9: - | T9: -
B10: 2016 | C10: 5.9499488 | D10: 0.916 | E10: 0.0275 | F10: - | G10: 0.1045 | H10: 0.3045 | I10: 1.0995 | J10: 0.0895 | K10: 0.911 | L10: 0.14 | M10: 0.269 | N10: 0.134 | P10: 0.714 | Q10: - | R10: - | S10: - | T10: -
B11: 2017 | C11: 6.0441657 | D11: 0.972 | E11: 0.03375 | F11: - | G11: 0.069 | H11: 0.05975 | I11: 1.11875 | J11: 0.0125 | K11: 0.668 | L11: 0.08475 | M11: 0.16575 | N11: 0.091 | P11: 0.78 | Q11: - | R11: - | S11: - | T11: -
B13: Table 6.5.2 Annual mean values of each parameters from 2001 to 2018 at Jinyushan Lake (China)
C14: Mandatory Parameters : 4 times/year | P14: Mandatory Parameters : Once/year
C15: pH | D15: EC | E15: Alkalinity | F15: Gran's ANC | G15: SO42- | H15: NO3- | I15: Cl- | J15: NH4+ | K15: Na+ | L15: K+ | M15: Ca2+ | N15: Mg2+ | P15: Transparency | Q15: PO43- | R15: NO2- | S15: DOC | T15: COD
D16: mS/m | E16: meq/L | F16: (meq/L) | G16: mg/L | H16: mg/L | I16: mg/L | J16: mg/L | K16: mg/L | L16: mg/L | M16: mg/L | N16: mg/L | P16: m | Q16: mg/L | R16: mg/L | S16: mg/L | T16: mg/L
B17: 2001 | C17: 7.4962158 | D17: 9.0475 | E17: - | F17: - | G17: 26.05 | H17: 7.675 | I17: 2.575 | J17: 0.65 | K17: 1.775 | L17: 1.575 | M17: 6.625 | N17: 2.625 | P17: - | Q17: - | R17: - | S17: - | T17: -
B18: 2002 | C18: 6.1193818 | D18: 9.5175 | E18: - | F18: - | G18: 26.355 | H18: 7.9875 | I18: 2.53 | J18: 0.087 | K18: 2.5 | L18: 1.7875 | M18: 9.075 | N18: 3.2825 | P18: - | Q18: - | R18: - | S18: - | T18: -
B19: 2003 | C19: 6.5535404 | D19: 9.79 | E19: 0.21 | F19: - | G19: 23.2075 | H19: 5.1575 | I19: 2.68 | J19: 0.21 | K19: 2.6025 | L19: 1.7175 | M19: 9.0275 | N19: 3.295 | P19: 0.895 | Q19: - | R19: - | S19: - | T19: -
B20: 2004 | C20: 6.3388696 | D20: 9.61 | E20: 0.07525 | F20: - | G20: 25.72 | H20: 7.9425 | I20: 1.735 | J20: 0.2975 | K20: 1.9775 | L20: 1.6475 | M20: 9.6625 | N20: 2.7075 | P20: 2.6425 | Q20: - | R20: - | S20: - | T20: 7.6
B21: 2005 | C21: 6.0374398 | D21: 10.21 | E21: 0.07265 | F21: - | G21: 28.12 | H21: 8.16 | I21: 2.6325 | J21: 0.04 | K21: 2.695 | L21: 1.82475 | M21: 9.3625 | N21: 3.22 | P21: 3.74 | Q21: *1 | R21: *1 | S21: - | T21: 2.94
B22: 2006 | C22: 6.355885 | D22: 11.92 | E22: 0.11325 | F22: - | G22: 32.65 | H22: 9.53 | I22: 3.045 | J22: 0.11 | K22: 2.9625 | L22: 2.265 | M22: 11.0525 | N22: 3.8175 | P22: 4.9775 | Q22: *1 | R22: *1 | S22: - | T22: 3.2
B23: 2007 | C23: 6.2359176 | D23: 12.35 | E23: 0.08575 | F23: - | G23: 37.1875 | H23: 10.21 | I23: 3.115 | J23: 0.11666667 | K23: 2.81 | L23: 2.18 | M23: 11.2375 | N23: 3.8125 | P23: 3.025 | Q23: *1 | R23: *1 | S23: - | T23: 4.37
B24: 2008 | C24: 5.4179095 | D24: 12.2 | E24: 0.066333333 | F24: - | G24: 33.2575 | H24: 12.7775 | I24: 2.7675 | J24: 0.16 | K24: 2.65 | L24: 1.975 | M24: 11.335 | N24: 3.765 | P24: 3.74 | Q24: *1 | R24: *1 | S24: - | T24: 2.9
B25: 2009 | C25: 5.8357545 | D25: 11.175 | E25: 0.048 | F25: - | G25: 29.2725 | H25: 8.2925 | I25: 2.945 | J25: 0.23075 | K25: 2.5925 | L25: 1.9625 | M25: 10.1475 | N25: 3.625 | P25: 2.2875 | Q25: *1 | R25: *1 | S25: - | T25: <10*1
B26: 2010 | C26: 5.7599514 | D26: 12.7875 | E26: 0.156975 | F26: - | G26: 34.5475 | H26: 10.62 | I26: 3 | J26: 0.14475 | K26: 2.9 | L26: 2.065 | M26: 11.7175 | N26: 3.9825 | P26: 3.4375 | Q26: *1 | R26: *1 | S26: - | T26: <10*1
B27: 2011 | C27: 5.2474325 | D27: 14.166667 | E27: 0.063533333 | F27: - | G27: 39.63 | H27: 15.153333 | I27: 3.7633333 | J27: 0.117 | K27: 2.7066667 | L27: 2.27 | M27: 12.766667 | N27: 3.9 | P27: 4.51 | Q27: *1 | R27: *1 | S27: - | T27: <10*1
B28: 2012 | C28: 5.4681925 | D28: 13.54 | E28: 0.05175 | F28: - | G28: 40.785 | H28: 9.88 | I28: 3.7125 | J28: 0.13525 | K28: 3.08 | L28: 2.3825 | M28: 12.7925 | N28: 3.975 | P28: 3.125 | Q28: *1 | R28: *1 | S28: - | T28: <10*1
B29: 2013 | C29: 6.0272322 | D29: 7.1225 | E29: 0.0823 | F29: - | G29: 20.74 | H29: 3.9325 | I29: 0.6825 | J29: 0.1175 | K29: 0.75 | L29: 0.765 | M29: 8.75 | N29: 0.9775 | P29: 3.5375 | Q29: *1 | R29: *1 | S29: - | T29: <10*1
B30: 2014 | C30: 5.4069971 | D30: 12.385 | E30: 0.0403 | F30: - | G30: 34.935 | H30: 14.2975 | I30: 2.6525 | J30: 0.09 | K30: 2.54 | L30: 2.1375 | M30: 11.835 | N30: 3.7675 | P30: 6.27 | Q30: *1 | R30: *1 | S30: - | T30: -
B31: 2015 | C31: 6.4779485 | D31: 11.35 | E31: 0.14475 | F31: - | G31: 29.41 | H31: 10.09 | I31: 2.2425 | J31: 0.24875 | K31: 2.245 | L31: 2.0075 | M31: 11.6175 | N31: 3.4575 | P31: 0.89 | Q31: *1 | R31: *1 | S31: - | T31: <10*1
B32: 2016 | C32: 6.4915363 | D32: 12.1675 | E32: 0.266 | F32: - | G32: 28.5975 | H32: 11.72 | I32: 2.965 | J32: *1 | K32: 2.91 | L32: 2.295 | M32: 12.6575 | N32: 3.5875 | P32: 2.45 | Q32: *1 | R32: *1 | S32: - | T32: <10*1
B33: 2017 | C33: 6.4762912 | D33: 11.155 | E33: 0.122 | F33: - | G33: 27.27 | H33: 11.835 | I33: 2.7 | J33: 0.0225 | K33: 2.63 | L33: 1.98 | M33: 11.32 | N33: 3.2425 | P33: 1.975 | Q33: *1 | R33: *1 | S33: - | T33: <10*1
B34: 2018 | C34: 6.736301 | D34: 10.9925 | E34: 0.22275 | F34: - | G34: 26.0375 | H34: 7.2475 | I34: 2.2775 | J34: 0.6175 | K34: 2.4825 | L34: 1.81 | M34: 9.955 | N34: 3.0025 | P34: 2.21 | Q34: *1 | R34: *1 | S34: - | T34: <10*1
B36: Table 6.5.3 Annual mean values of each parameters from 2001 to 2018 at Xiaoping Dam (China)
C37: Mandatory Parameters : 4 times/year | P37: Mandatory Parameters : Once/year
C38: pH | D38: EC | E38: Alkalinity | F38: Gran's ANC | G38: SO42- | H38: NO3- | I38: Cl- | J38: NH4+ | K38: Na+ | L38: K+ | M38: Ca2+ | N38: Mg2+ | P38: Transparency | Q38: PO43- | R38: NO2- | S38: DOC | T38: COD
D39: mS/m | E39: meq/L | F39: (meq/L) | G39: mg/L | H39: mg/L | I39: mg/L | J39: mg/L | K39: mg/L | L39: mg/L | M39: mg/L | N39: mg/L | P39: m | Q39: mg/L | R39: mg/L | S39: mg/L | T39: mg/L
B40: 2001 | C40: 7.2101717 | D40: - | E40: - | F40: - | G40: 1.425 | H40: 1.2975 | I40: 2.175 | J40: - | K40: - | L40: - | M40: - | N40: - | P40: - | Q40: - | R40: - | S40: - | T40: -
B41: 2002 | C41: 7.3932118 | D41: 7 | E41: - | F41: - | G41: 4.665 | H41: 6.655 | I41: 2.8225 | J41: 0.201 | K41: 7.29 | L41: 2.1404744 | M41: 2.2932187 | N41: 0.8150625 | P41: - | Q41: - | R41: - | S41: - | T41: -
B42: 2003 | C42: 6.7348725 | D42: 7.185 | E42: 0.1925 | F42: - | G42: 2.68 | H42: 5.0225 | I42: 5.9125 | J42: 0.17 | K42: 6.5325 | L42: 2.055 | M42: 2.345 | N42: 0.86 | P42: - | Q42: - | R42: - | S42: - | T42: 1.8325
B43: 2004 | C43: 7.3434275 | D43: 5.5675 | E43: 0.24175 | F43: - | G43: 2.68 | H43: 7.825 | I43: 4.3525 | J43: 0.1775 | K43: 6.695 | L43: 2.175 | M43: 2.9175 | N43: 0.6375 | P43: - | Q43: 0.02 | R43: 0.008 | S43: - | T43: 2.115
B44: 2005 | C44: 6.7319847 | D44: 4.62 | E44: 0.2324 | F44: - | G44: 2.07 | H44: 2.825 | I44: 3.9425 | J44: 0.0475 | K44: 4.77 | L44: 2.37 | M44: 2.9475 | N44: 0.61 | P44: 0.85 | Q44: 0.02 | R44: 0.008 | S44: - | T44: 1.3325
B45: 2006 | C45: 6.8117782 | D45: 5.265 | E45: 0.189675 | F45: - | G45: 2.4575 | H45: 2.5225 | I45: 5.125 | J45: 0.19325 | K45: 6.015 | L45: 2.3325 | M45: 3.1925 | N45: 0.6625 | P45: 0.85 | Q45: 0.02 | R45: 0.008 | S45: - | T45: 0.66
B46: 2007 | C46: 7.0723542 | D46: 7.32 | E46: 0.110125 | F46: - | G46: 2.67 | H46: 2.67 | I46: 5.125 | J46: 0.1475 | K46: 3.6366667 | L46: 1.6266667 | M46: 2.8233333 | N46: 0.54 | P46: - | Q46: - | R46: 0.006 | S46: - | T46: 1.78
B47: 2008 | C47: 6.725256 | D47: 5.66 | E47: 0.12405 | F47: - | G47: 4.4902799 | H47: 2.67 | I47: 12.949612 | J47: 0.14108849 | K47: 4.9689743 | L47: 2.4638833 | M47: 3.9037662 | N47: 0.56069278 | P47: - | Q47: 0.01 | R47: 0.007 | S47: - | T47: 1.9325
B48: 2009 | C48: 6.7222718 | D48: 7.525 | E48: 0.1925 | F48: - | G48: 3.135 | H48: 2.67 | I48: 7.44 | J48: 0.095 | K48: 6.905 | L48: 3.52 | M48: 2.425 | N48: 0.8225 | P48: - | Q48: 0.01 | R48: 0.00825 | S48: - | T48: 3.5025
B49: 2010 | C49: 6.6295596 | D49: 6.185 | E49: 0.1895 | F49: - | G49: 2.7025 | H49: 3.7 | I49: 5.5425 | J49: 0.105 | K49: 5.795 | L49: 2.5275 | M49: 2.5075 | N49: 0.6925 | P49: 1.1 | Q49: 0.02 | R49: 0.01475 | S49: - | T49: 1.8575
B50: 2011 | C50: 6.7809892 | D50: 4.8525 | E50: 0.16825 | F50: - | G50: 2.595 | H50: 2.8925 | I50: 3.1375 | J50: 0.08575 | K50: 3.5 | L50: 2.0975 | M50: 2.57 | N50: 0.5225 | P50: 0.725 | Q50: 0.05 | R50: 0.022 | S50: - | T50: 1.83
B51: 2012 | C51: 6.938201 | D51: 5.0775 | E51: 0.15475 | F51: - | G51: 2.915 | H51: 3.455 | I51: 3.1025 | J51: 0.05825 | K51: 3.78 | L51: 2.4975 | M51: 2.505 | N51: 0.6825 | P51: 1.175 | Q51: 0.03 | R51: 0.03075 | S51: - | T51: 2.515
B52: 2013 | C52: 6.8038164 | D52: 5.5225 | E52: 0.2195 | F52: - | G52: 2.71 | H52: 3.415 | I52: 2.77 | J52: 0.045 | K52: 3.8025 | L52: 2.8275 | M52: 3.1975 | N52: 0.7625 | P52: 0.925 | Q52: 0.024 | R52: 0.02875 | S52: - | T52: 1.6575
B53: 2014 | C53: 7.1788924 | D53: 5.785 | E53: 0.219 | F53: - | G53: 3.7125 | H53: 3.5325 | I53: 2.6375 | J53: 0.0475 | K53: 3.085 | L53: 2.61 | M53: 3.7 | N53: 0.8375 | P53: 0.9 | Q53: 0.041 | R53: 0.0195 | S53: - | T53: 1.4675
B54: 2015 | C54: 7.0081211 | D54: 6.0125 | E54: 0.179 | F54: - | G54: 3.9875 | H54: 3.1725 | I54: 3.425 | J54: 0.0525 | K54: 3.645 | L54: 2.635 | M54: 3.60675 | N54: 0.66 | P54: 0.725 | Q54: 0.045 | R54: 0.014 | S54: - | T54: 1.23
B55: 2016 | C55: 6.6453397 | D55: 5.9825 | E55: 0.28025 | F55: - | G55: 2.385 | H55: 2.6125 | I55: 2.8725 | J55: 0.11 | K55: 4.43 | L55: 2.36 | M55: 3.52 | N55: 0.6575 | P55: 1.225 | Q55: 0.042 | R55: 0.0165 | S55: - | T55: 0.9225
B56: 2017 | C56: 7.0813354 | D56: 5.76 | E56: 0.259 | F56: - | G56: 3.1675 | H56: 3.33 | I56: 2.845 | J56: 0.07875 | K56: 4.555 | L56: 2.4725 | M56: 3.9625 | N56: 0.6225 | P56: 1.45 | Q56: 0.032 | R56: 0.0245 | S56: - | T56: 1.1
B57: 2018 | C57: 7.3058514 | D57: 5.6775 | E57: 0.2865 | F57: - | G57: 2.1725 | H57: 2.5325 | I57: 2.3175 | J57: 0.285 | K57: 3.9925 | L57: 2.1875 | M57: 3.54 | N57: 0.5725 | P57: 0.75 | Q57: 0.032 | R57: 0.049 | S57: - | T57: 1.8525
B58: - : No analysis or measurement.
B59: *1: Less than determination/detection limit.
B61: Table 6.5.4 Annual mean values of each parameters from 2001 to 2018 at Jiwozi River (China)
C62: Mandatory Parameters : 4 times/year | P62: Mandatory Parameters : Once/year
C63: pH | D63: EC | E63: Alkalinity | F63: Gran's ANC | G63: SO42- | H63: NO3- | I63: Cl- | J63: NH4+ | K63: Na+ | L63: K+ | M63: Ca2+ | N63: Mg2+ | P63: Transparency | Q63: PO43- | R63: NO2- | S63: DOC | T63: COD
D64: mS/m | E64: meq/L | F64: (meq/L) | G64: mg/L | H64: mg/L | I64: mg/L | J64: mg/L | K64: mg/L | L64: mg/L | M64: mg/L | N64: mg/L | P64: m | Q64: mg/L | R64: mg/L | S64: mg/L | T64: mg/L
B65: 2001 | C65: 7.106222 | D65: 4.5 | E65: 0.225 | F65: - | G65: 10.02625 | H65: 1.47 | I65: 1.0585 | J65: 0.03675 | K65: 1.897 | L65: 0.699 | M65: 8.8285 | N65: 1.378 | P65: - | Q65: - | R65: - | S65: - | T65: -
B66: 2002 | C66: 7.6014264 | D66: 8.4666667 | E66: 0.11 | F66: - | G66: 12.155667 | H66: 1.7033333 | I66: 1.8046667 | J66: *1 | K66: 2.797 | L66: 1.1953333 | M66: 12.726667 | N66: 1.715 | P66: - | Q66: - | R66: - | S66: - | T66: -
B67: 2003 | C67: 7.5448205 | D67: 7.825 | E67: 0.14 | F67: - | G67: 11.4425 | H67: 2.01 | I67: 1.625 | J67: *1 | K67: 2.08 | L67: 0.95 | M67: 12.025 | N67: 1.5945 | P67: - | Q67: - | R67: - | S67: - | T67: -
B68: 2004 | C68: 7.2016387 | D68: 6.6325 | E68: 0.2425 | F68: - | G68: 11.68 | H68: 2.3025 | I68: 1.0625 | J68: *1 | K68: 1.79 | L68: 0.6825 | M68: 9.04 | N68: 1.35 | P68: - | Q68: *1 | R68: *1 | S68: - | T68: 3.2
B69: 2005 | C69: 6.98678 | D69: 7.9925 | E69: 0.2075 | F69: - | G69: 15.30925 | H69: 0.8115 | I69: 1.74475 | J69: 0.05625 | K69: 1.76675 | L69: 0.71525 | M69: 7.44225 | N69: 1.3505 | P69: - | Q69: *1 | R69: 0.09 | S69: - | T69: 1.6
B70: 2006 | C70: 6.7950931 | D70: 7.5875 | E70: 0.2375 | F70: - | G70: 11.8015 | H70: 1.87225 | I70: 1.2065 | J70: 0.0705 | K70: 1.93475 | L70: 0.653 | M70: 7.638 | N70: 1.1095 | P70: - | Q70: 0.03 | R70: 0.003 | S70: - | T70: 2.8
B71: 2007 | C71: 7.3156445 | D71: 8.8575 | E71: 0.25 | F71: - | G71: 16.675 | H71: 3.46 | I71: 1.3075 | J71: 0.13 | K71: 2.085 | L71: 0.9575 | M71: 11 | N71: 0.9625 | P71: - | Q71: *1 | R71: *1 | S71: - | T71: 2.2
B72: 2008 | C72: 7.0541451 | D72: 8.4225 | E72: 0.2475 | F72: - | G72: 13.91675 | H72: 1.8935 | I72: 1.51475 | J72: 0.299 | K72: 1.4285 | L72: 1.05425 | M72: 9.383 | N72: 1.203 | P72: - | Q72: <0.01*1 | R72: <0.003*1 | S72: - | T72: 2.5
B73: 2009 | C73: 6.983019 | D73: 8.28 | E73: 0.2775 | F73: - | G73: 15.5063 | H73: 2.0658214 | I73: 1.3385 | J73: 0.13840833 | K73: 1.8771 | L73: 1.0375 | M73: 9.850375 | N73: 1.37925 | P73: - | Q73: <0.01*1 | R73: <0.003*1 | S73: - | T73: 2.5
B74: 2010 | C74: 7.333049 | D74: 8.1125 | E74: 0.28 | F74: - | G74: 13.92175 | H74: 2.83225 | I74: 1.2705 | J74: *1 | K74: 1.224 | L74: 0.8065 | M74: 10.488 | N74: 1.34525 | P74: - | Q74: <0.01*1 | R74: <0.003*1 | S74: - | T74: 3
B75: 2011 | C75: 6.8495517 | D75: 6.8325 | E75: 0.275 | F75: - | G75: 12.894 | H75: 0.8725 | I75: 0.51075 | J75: *1 | K75: 0.73625 | L75: 0.84075 | M75: 8.0905 | N75: 2.008 | P75: - | Q75: <0.01*1 | R75: <0.003*1 | S75: - | T75: 3
B76: 2012 | C76: 6.8321986 | D76: 6.9475 | E76: 0.275 | F76: - | G76: 12.969 | H76: 0.96025 | I76: 0.56925 | J76: *1 | K76: 0.69625 | L76: 0.82625 | M76: 7.8015 | N76: 2.014 | P76: - | Q76: <0.01*1 | R76: <0.003*1 | S76: - | T76: 4
B77: 2013 | C77: 6.8628105 | D77: 8.9175 | E77: 0.3325 | F77: - | G77: 15.0075 | H77: 2.389 | I77: 3.15825 | J77: *1 | K77: 3.50125 | L77: 1.3655 | M77: 11.06975 | N77: 1.68875 | P77: - | Q77: <0.01*1 | R77: <0.003*1 | S77: - | T77: 5
B78: 2014 | C78: 7.0473841 | D78: 8.2375 | E78: 0.2725 | F78: - | G78: 15.84875 | H78: 1.2795 | I78: 1.3155 | J78: 0.2705 | K78: 1.929 | L78: 1.05575 | M78: 9.15325 | N78: 1.61425 | P78: - | Q78: <0.01*1 | R78: <0.003*1 | S78: - | T78: 4
B79: 2015 | C79: 7.0933189 | D79: 7.27 | E79: 0.2625 | F79: - | G79: 11.3215 | H79: 6.44675 | I79: 1.55 | J79: *1 | K79: 4.12025 | L79: 0.95475 | M79: 9.191 | N79: 1.28075 | P79: - | Q79: <0.01*1 | R79: <0.003*1 | S79: - | T79: 3
B80: 2016 | C80: 7.0984339 | D80: 7.6 | E80: 0.295 | F80: - | G80: 11.69725 | H80: 2.857 | I80: 0.81975 | J80: *1 | K80: 2.29025 | L80: 0.64775 | M80: 10.06875 | N80: 1.1135 | P80: - | Q80: <0.01*1 | R80: <0.003*1 | T80: *1
B81: 2017 | C81: 6.9867812 | D81: 6.87 | E81: 0.335 | F81: - | G81: 9.02275 | H81: 2.092 | I81: 1.0165 | J81: 0.0255 | K81: 2.02175 | L81: 0.8155 | M81: 8.6015 | N81: 1.41275 | P81: - | Q81: <0.01*1 | R81: <0.003*1 | S81: - | T81: *1
B82: 2018 | C82: 6.9539038 | D82: 6.33 | E82: 0.33 | F82: - | G82: 8.585575 | H82: 0.7708 | I82: 1.1995 | J82: 0.01925 | K82: 1.806625 | L82: 0.84725 | M82: 7.61665 | N82: 1.476925 | P82: - | Q82: <0.01*1 | R82: <0.003*1 | S82: - | T82: *1
B84: Table 6.5.5 Annual mean values of each parameters from 2004 to 2018 at Zhuxiandong stream and from 2001 to 2003 at Zhuxiandong resorvoir(China)
C85: Mandatory Parameters : 4 times/year | P85: Mandatory Parameters : Once/year
C86: pH | D86: EC | E86: Alkalinity | F86: Gran's ANC | G86: SO42- | H86: NO3- | I86: Cl- | J86: NH4+ | K86: Na+ | L86: K+ | M86: Ca2+ | N86: Mg2+ | P86: Transparency | Q86: PO43- | R86: NO2- | S86: DOC | T86: COD
D87: mS/m | E87: meq/L | F87: (meq/L) | G87: mg/L | H87: mg/L | I87: mg/L | J87: mg/L | K87: mg/L | L87: mg/L | M87: mg/L | N87: mg/L | P87: m | Q87: mg/L | R87: mg/L | S87: mg/L | T87: mg/L
B88: 2001 | C88: 7.6181721 | D88: - | E88: - | F88: - | G88: 17.7 | H88: 0.625 | I88: 43.125 | J88: 0.2 | K88: - | L88: - | M88: - | N88: - | P88: - | Q88: - | R88: - | S88: - | T88: -
B89: 2002 | C89: 7.9251114 | D89: 6.6975 | E89: 0.96308036 | F89: - | G89: 19.8875 | H89: 0.8275 | I89: 23.8025 | J89: 0.23 | K89: 7.265 | L89: 1.57 | M89: 17 | N89: 2.495 | P89: - | Q89: - | R89: - | S89: - | T89: -
B90: 2003 | C90: 7.8214596 | D90: 7.535 | E90: 1.6025 | F90: - | G90: 17.5 | H90: 0.29 | I90: 19.5875 | J90: 0.17 | K90: 7.34 | L90: 1.955 | M90: 16.8 | N90: 2.3625 | P90: - | Q90: - | R90: 0.02875 | S90: - | T90: 1.675
B91: 2004 | C91: 7.1198404 | D91: 8.4925 | E91: 0.645 | F91: - | G91: 5.4675 | H91: 1.8975 | I91: 6.0325 | J91: *1 | K91: 8.95 | L91: 1.8825 | M91: 5.41 | N91: 2.8375 | P91: - | R91: *1 | S91: - | T91: 1.075
B92: 2005 | C92: 6.9717232 | D92: 9.525 | E92: 0.1325 | F92: - | G92: 5.825 | H92: 1.7 | I92: 6.725 | J92: *1 | K92: 8.9 | L92: 1.6 | M92: 4.625 | N92: 2.65 | P92: 1.275 | Q92: *1 | R92: *1 | S92: - | T92: 0.925
B93: 2006 | C93: 7.1809072 | D93: 7.35 | E93: 0.225 | F93: - | G93: 2.6 | H93: 1.15 | I93: 4.5 | J93: 1.1 | K93: 5.4 | L93: 1.125 | M93: 4.375 | N93: 1.575 | P93: 1.25 | Q93: *1 | R93: *1 | T93: 0.975
B94: 2007 | C94: 7.2791373 | D94: 7.795 | E94: 0.24025 | F94: - | G94: 3.61 | H94: 1.7675 | I94: 5.09 | J94: 0.0975 | K94: 6.005 | L94: 1.2225 | M94: 3.6525 | N94: 1.375 | P94: 1.25 | Q94: *1 | R94: *1 | S94: - | T94: 1.125
B95: 2008 | C95: 7.1822073 | D95: 7.5825 | E95: 0.165 | F95: - | G95: 2.9525 | H95: 2.355 | I95: 4.8975 | J95: 0.0475 | K95: 6.83 | L95: 1.3133333 | M95: 4.4033333 | N95: 1.7566667 | P95: 1.3 | Q95: *1 | R95: *1 | S95: - | T95: 1.125
B96: 2009 | C96: 7.1642321 | D96: 7.74 | E96: 0.3665 | F96: - | G96: 2.9725 | H96: 4.2 | I96: 6.3025 | J96: 0.0575 | K96: 7.86 | L96: 1.57 | M96: 2.7675 | N96: 1.96 | P96: 1.05 | Q96: *1 | R96: *1 | S96: - | T96: 1.275
B97: 2010 | C97: 7.22125 | D97: 6.86 | E97: 0.393 | F97: - | G97: 2.49 | H97: 2.495 | I97: 5.15 | J97: 0.08 | K97: 6.9775 | L97: 1.2275 | M97: 4.2975 | N97: 1.72 | P97: 1.1 | Q97: *1 | R97: *1 | S97: - | T97: 1.375
B98: 2011 | C98: 7.1605854 | D98: 7.42 | E98: 0.46725 | F98: - | G98: 1.95 | H98: 1.0025 | I98: 4.3275 | J98: 0.09 | K98: 7.7025 | L98: 1.15 | M98: 4.68 | N98: 1.6925 | P98: 1.05 | Q98: *1 | R98: *1 | S98: - | T98: 1.275
B99: 2012 | C99: 7.2553348 | D99: 7.6175 | E99: 0.49925 | F99: - | G99: 2.9825 | H99: 1.9975 | I99: 5.375 | J99: 0.09 | K99: 7.5025 | L99: 1.69 | M99: 4.8125 | N99: 1.88 | P99: 1.125 | Q99: *1 | R99: *1 | S99: - | T99: 1.15
B100: 2013 | C100: 7.2041842 | D100: 7.8675 | E100: 0.4995 | F100: - | G100: 3.8125 | H100: 4.11 | I100: 4.66 | J100: 0.0675 | K100: 6.945 | L100: 1.7725 | M100: 4.9125 | N100: 1.9075 | P100: 1.15 | Q100: *1 | R100: *1 | S100: - | T100: 1.125
B101: 2014 | C101: 7.1929785 | D101: 8.2675 | E101: 0.50225 | F101: - | G101: 4.6375 | H101: 4.795 | I101: 3.7475 | J101: 0.02 | K101: 6.4225 | L101: 1.6925 | M101: 5.22 | N101: 2.5325 | P101: - | Q101: - | R101: - | S101: - | T101: -
B102: 2015 | C102: 6.3752665 | D102: 6.73 | E102: 0.496 | F102: - | G102: 2.4725 | H102: 1.31 | I102: 2.495 | J102: 0.44 | K102: 7.4775 | L102: 1.84 | M102: 2.8375 | N102: 1.1425 | P102: - | Q102: - | R102: - | S102: - | T102: -
B103: 2016 | C103: 6.9938342 | D103: 7.45 | E103: 0.496 | F103: - | G103: 1.848875 | H103: 2.007625 | I103: 3.69145 | J103: 0.0275 | K103: 6.7 | L103: 1.525 | M103: 4.345 | N103: 1.6375 | P103: - | Q103: - | R103: - | S103: - | T103: -
B104: 2017 | C104: 7.2927065 | D104: 15.165 | E104: 0.492 | F104: - | G104: 8.1538921 | H104: 3.3272021 | I104: 14.380905 | J104: 0.15232818 | K104: 11.323677 | L104: 1.7565733 | M104: 14.028588 | N104: 2.8706412 | P104: - | Q104: - | R104: - | S104: - | T104: -
B105: 2018 | C105: 7.1947524 | D105: 8.63 | E105: 0.63 | F105: - | G105: 2.1125 | H105: 2.1125 | I105: 5.7975 | J105: 0.0275 | K105: 7.5825 | L105: 1.3825 | M105: 6.0475 | N105: 2.2525 | P105: - | Q105: *1 | R105: - | S105: - | T105: 8.5
...

Sheet Summary-2018_ﾌﾟﾚｾﾞﾝ用
E2: Mandatory Parameters : 4 times/year
B3: Country | C3: Location | D3: Site | E3: pH | F3: EC | G3: Alkalinity | H3: Gran's ANC | I3: SO42- | J3: NO3- | K3: Cl- | L3: NH4+ | M3: Na+ | N3: K+ | O3: Ca2+ | P3: Mg2+
F4: (mS/m) | G4: (meq/L) | H4: (meq/L) | I4: (mg/L) | J4: (mg/L) | K4: (mg/L) | L4: (mg/L) | M4: (mg/L) | N4: (mg/L) | O4: (mg/L) | P4: (mg/L)
B5: Cambodia | C5: Kampong Speu province | D5: Sras Srang Lake | E5: - | F5: - | G5: - | H5: - | I5: - | J5: - | K5: - | L5: - | M5: - | N5: - | O5: - | P5: -
B6: China | C6: Chongqing | D6: Jinyunshan Lake | E6: 6.736301 | F6: 10.9925 | G6: 0.22275 | H6: - | I6: 26.0375 | J6: 7.2475 | K6: 2.2775 | L6: 0.6175 | M6: 2.4825 | N6: 1.81 | O6: 9.955 | P6: 3.0025
C7: Xiamen | D7: Xiaoping Dam | E7: 7.3058514 | F7: 5.6775 | G7: 0.2865 | H7: - | I7: 2.1725 | J7: 2.5325 | K7: 2.3175 | L7: 0.285 | M7: 3.9925 | N7: 2.1875 | O7: 3.54 | P7: 0.5725
C8: Xi'an | D8: Jiwozi River | E8: 6.9539038 | F8: 6.33 | G8: 0.33 | H8: - | I8: 8.585575 | J8: 0.7708 | K8: 1.1995 | L8: 0.01925 | M8: 1.806625 | N8: 0.84725 | O8: 7.61665 | P8: 1.476925
C9: Zhuhai | D9: Zhuxiandong Stream | E9: 7.1947524 | F9: 8.63 | G9: 0.63 | H9: - | I9: 2.1125 | J9: 2.1125 | K9: 5.7975 | L9: 0.0275 | M9: 7.5825 | N9: 1.3825 | O9: 6.0475 | P9: 2.2525
B10: Indonesia | C10: Bandung | D10: Patengang Lake*3 | E10: 7.8097475 | F10: 6.385 | G10: 0.45920923 | H10: - | I10: 6.1084352 | J10: 0.7868708 | K10: 2.2180509 | L10: 0.020887509 | M10: 3.5702006 | N10: 1.3232001 | O10: 6.5709741 | P10: 1.8168797
C11: Sukabumi, West Java | D11: Gunung Lake*3 | E11: 6.9872695 | F11: 4.8708333 | G11: 0.48741667 | H11: - | I11: 0.84351667 | J11: 0.15332597 | K11: 1.1150112 | L11: 0.031424152 | M11: 2.3526631 | N11: 0.64921851 | O11: 6.3077019 | P11: 1.6087093
B12: Japan | C12: Gifu pref. | D12: Ijira Lake (Center, surface) | E12: 6.9531914 | F12: 3.59375 | G12: 0.161875 | H12: 0.143125 | I12: 4.53625 | J12: 0.74125 | K12: 1.8675 | L12: <0.01*1 | M12: 1.82375 | N12: 0.26125 | O12: 2.74625 | P12: 1.15625
C13: Shimane pref. | D13: Banryu Lake (Center, surface) | E13: 6.9235016 | F13: 9.6433333 | G13: 0.18508333 | H13: 0.147625 | I13: 3.9650417 | J13: 0.086666667 | K13: 21.345833 | L13: <0.05*1 | M13: 12.675833 | N13: 1.7841667 | O13: 1.5941667 | P13: 1.69625
B14: Lao PDR | C14: Vientiane province | D14: Nam Houm Lake | E14: 7.4335628 | F14: 4.1075 | G14: 0.39 | H14: - | I14: 2.2575 | J14: 0.4075 | K14: 0.3975 | L14: - | M14: - | N14: - | O14: - | P14: -
B15: note
B16: - : No analysis or measurement.
B17: *1: Less than determination/detection limit.
B18: *2: Surveyed three times a year.
E21: Mandatory Parameters : 4 times/year
B22: Country | C22: Location | D22: Site | E22: pH | F22: EC | G22: Alkalinity | H22: Gran's ANC | I22: SO42- | J22: NO3- | K22: Cl- | L22: NH4+ | M22: Na+ | N22: K+ | O22: Ca2+ | P22: Mg2+
F23: (mS/m) | G23: (meq/L) | H23: (meq/L) | I23: (mg/L) | J23: (mg/L) | K23: (mg/L) | L23: (mg/L) | M23: (mg/L) | N23: (mg/L) | O23: (mg/L) | P23: (mg/L)
B24: Malaysia | C24: Selangor | D24: Semenyih Dam | E24: - | F24: - | G24: - | H24: - | I24: - | J24: - | K24: - | L24: - | M24: - | N24: - | O24: - | P24: -
C25: Sabah | D25: Tembaling river | E25: - | F25: - | G25: - | H25: - | I25: - | J25: - | K25: - | L25: - | M25: - | N25: - | O25: - | P25: -
B26: Mongolia | C26: Terelj | D26: Terelj River*1 | E26: 6.7886457 | F26: 4.378 | G26: 0.2786 | H26: - | I26: 3.516 | J26: 0.828 | K26: 0.296 | L26: 0.00076 | M26: 1.9 | N26: 0.426 | O26: 5.72 | P26: 0.704
B27: Philippines | C27: San Pablo City | D27: Pandin Lake | E27: - | F27: - | G27: - | H27: - | I27: - | J27: - | K27: - | L27: - | M27: - | N27: - | O27: - | P27: -
C28: Benguet | D28: Ambulalakaw Lake | E28: - | F28: - | G28: - | H28: - | I28: - | J28: - | K28: - | L28: - | M28: - | N28: - | O28: - | P28: -
B29: Russia | C29: Southern Baikal | D29: Pereemnaya River | E29: 6.6795885 | F29: 4.30375 | G29: 0.10933333 | H29: - | I29: 11.204583 | J29: 0.73541667 | K29: 0.245 | L29: 0.010833333 | M29: 1.05875 | N29: 0.58666667 | O29: 4.4304167 | P29: 0.80125
C30: Primorskaya | D30: Komarovka River*1 | E30: 6.9838376 | F30: 8.5026667 | G30: 0.3826 | H30: - | I30: 12.783333 | J30: 3.7173333 | K30: 2.25 | L30: 0.076733333 | M30: 4.06 | N30: 1.0233333 | O30: 9.1966667 | P30: 2.5433333
B31: Thailand | C31: Kanchanaburi Province | D31: Vajiralongkorn Dam (Ban Pong Chang) | E31: 7.8761077 | F31: 12.3525 | G31: 1.13 | H31: - | I31: 1.11375 | J31: 0.1 | K31: 0.95375 | L31: 0.01 | M31: 1.23 | N31: 1.03625 | O31: 17.2125 | P31: 3.1625
D32: Vajiralongkorn Dam (Ban Pang Pueng) | E32: 7.9867803 | F32: 11.42 | G32: 1.10875 | H32: - | I32: 1.285 | J32: 0.1 | K32: 0.89375 | L32: 0.01 | M32: 1.205 | N32: 1.03 | O32: 16.9375 | P32: 2.69
B33: Vietnam | C33: Hoa Binh Province | D33: Hoa Binh Reservoir | E33: 7.8061855 | F33: 16.25 | G33: 1.32 | H33: - | I33: 4.5425 | J33: 2.125 | K33: 4.15 | L33: 0.161 | M33: 5.82 | N33: 1.601 | O33: 18.2575 | P33: 4.5575
B34: note
B35: - : No analysis or measurement.
B36: *1: Surveyed five times a year.

Sheet 経年_プレゼン用
A2: Sras Srang Lake | W2: Table 6.5(1) Annual mean values of each parameters of 2012 to 2017 at Sras Srang Lake (Cambodia)
X3: Mandatory Parameters : 4 times/year | AJ3: Mandatory Parameters : Once/year
X4: pH | Y4: EC | Z4: Alkalinity | AA4: SO42- | AB4: NO3- | AC4: Cl- | AD4: NH4+ | AE4: Na+ | AF4: K+ | AG4: Ca2+ | AH4: Mg2+ | AJ4: Transparency | AK4: PO43- | AL4: NO2- | AM4: DOC | AN4: COD
Y5: mS/m | Z5: meq/L | AA5: mg/L | AB5: mg/L | AC5: mg/L | AD5: mg/L | AE5: mg/L | AF5: mg/L | AG5: mg/L | AH5: mg/L | AJ5: m | AK5: mg/L | AL5: mg/L | AM5: mg/L | AN5: mg/L
W6: 2012 | X6: 6.4614287 | Y6: 0.88175 | Z6: 0.0365 | AA6: 0.08075 | AB6: 0.064125 | AC6: 1.6455 | AD6: 0.036 | AE6: 0.943 | AF6: 0.1345 | AG6: 0.271 | AH6: 0.161 | AJ6: 0.715 | AK6: - | AL6: - | AM6: - | AN6: -
W7: 2013 | X7: 5.7403887 | Y7: 0.92591667 | Z7: 0.033583333 | AA7: 0.054166667 | AB7: 0.27866667 | AC7: 1.3936667 | AD7: 0.020916667 | AE7: 0.9445 | AF7: 0.11841667 | AG7: 0.28508333 | AH7: 0.13133333 | AJ7: 0.745 | AK7: - | AL7: - | AM7: - | AN7: -
W8: 2014 | X8: 5.8430413 | Y8: 0.95791667 | Z8: 0.035166667 | AA8: 0.061758333 | AB8: 0.60333333 | AC8: 1.3794167 | AD8: 0.12158333 | AE8: 1.0274167 | AF8: 0.30858333 | AG8: 0.25641667 | AH8: 0.117 | AJ8: 0.7075 | AK8: - | AL8: - | AM8: - | AN8: -
W9: 2015 | X9: 5.8129524 | Y9: 0.9825 | Z9: 0.04 | AA9: 0.0895 | AB9: 0.217 | AC9: 1.1655 | AD9: 0.07125 | AE9: 0.803 | AF9: 0.194 | AG9: 0.372 | AH9: 0.2195 | AJ9: 0.7775 | AK9: - | AL9: - | AM9: - | AN9: -
W10: 2016 | X10: 5.9499488 | Y10: 0.916 | Z10: 0.0275 | AA10: 0.1045 | AB10: 0.3045 | AC10: 1.0995 | AD10: 0.0895 | AE10: 0.911 | AF10: 0.14 | AG10: 0.269 | AH10: 0.134 | AJ10: 0.714 | AK10: - | AL10: - | AM10: - | AN10: -
W11: 2017 | X11: 6.0441657 | Y11: 0.972 | Z11: 0.03375 | AA11: 0.069 | AB11: 0.05975 | AC11: 1.11875 | AD11: 0.0125 | AE11: 0.668 | AF11: 0.08475 | AG11: 0.16575 | AH11: 0.091 | AJ11: 0.78 | AK11: - | AL11: - | AM11: - | AN11: -
W13: Table 6.5(2) Annual mean values of each parameters from 2001 to 2017 at Jinyushan Lake (China)
X14: Mandatory Parameters : 4 times/year | AJ14: Mandatory Parameters : Once/year
X15: pH | Y15: EC | Z15: Alkalinity | AA15: SO42- | AB15: NO3- | AC15: Cl- | AD15: NH4+ | AE15: Na+ | AF15: K+ | AG15: Ca2+ | AH15: Mg2+ | AJ15: Transparency | AK15: PO43- | AL15: NO2- | AM15: DOC | AN15: COD
Y16: mS/m | Z16: meq/L | AA16: mg/L | AB16: mg/L | AC16: mg/L | AD16: mg/L | AE16: mg/L | AF16: mg/L | AG16: mg/L | AH16: mg/L | AJ16: m | AK16: mg/L | AL16: mg/L | AM16: mg/L | AN16: mg/L
W17: 2001 | X17: 7.4962158 | Y17: 9.0475 | Z17: - | AA17: 26.05 | AB17: 7.675 | AC17: 2.575 | AD17: 0.65 | AE17: 1.775 | AF17: 1.575 | AG17: 6.625 | AH17: 2.625 | AJ17: - | AK17: - | AL17: - | AM17: - | AN17: -
W18: 2002 | X18: 6.1193818 | Y18: 9.5175 | Z18: - | AA18: 26.355 | AB18: 7.9875 | AC18: 2.53 | AD18: 0.087 | AE18: 2.5 | AF18: 1.7875 | AG18: 9.075 | AH18: 3.2825 | AJ18: - | AK18: - | AL18: - | AM18: - | AN18: -
W19: 2003 | X19: 6.5535404 | Y19: 9.79 | Z19: 0.21 | AA19: 23.2075 | AB19: 5.1575 | AC19: 2.68 | AD19: 0.21 | AE19: 2.6025 | AF19: 1.7175 | AG19: 9.0275 | AH19: 3.295 | AJ19: 0.895 | AK19: - | AL19: - | AM19: - | AN19: -
A20: Jinyushan Lake | W20: 2004 | X20: 6.3388696 | Y20: 9.61 | Z20: 0.07525 | AA20: 25.72 | AB20: 7.9425 | AC20: 1.735 | AD20: 0.2975 | AE20: 1.9775 | AF20: 1.6475 | AG20: 9.6625 | AH20: 2.7075 | AJ20: 2.6425 | AK20: - | AL20: - | AM20: - | AN20: 7.6
W21: 2005 | X21: 6.0374398 | Y21: 10.21 | Z21: 0.07265 | AA21: 28.12 | AB21: 8.16 | AC21: 2.6325 | AD21: 0.04 | AE21: 2.695 | AF21: 1.82475 | AG21: 9.3625 | AH21: 3.22 | AJ21: 3.74 | AK21: *1 | AL21: *1 | AM21: - | AN21: 2.94
W22: 2006 | X22: 6.355885 | Y22: 11.92 | Z22: 0.11325 | AA22: 32.65 | AB22: 9.53 | AC22: 3.045 | AD22: 0.11 | AE22: 2.9625 | AF22: 2.265 | AG22: 11.0525 | AH22: 3.8175 | AJ22: 4.9775 | AK22: *1 | AL22: *1 | AM22: - | AN22: 3.2
W23: 2007 | X23: 6.2359176 | Y23: 12.35 | Z23: 0.08575 | AA23: 37.1875 | AB23: 10.21 | AC23: 3.115 | AD23: 0.11666667 | AE23: 2.81 | AF23: 2.18 | AG23: 11.2375 | AH23: 3.8125 | AJ23: 3.025 | AK23: *1 | AL23: *1 | AM23: - | AN23: 4.37
W24: 2008 | X24: 5.4179095 | Y24: 12.2 | Z24: 0.066333333 | AA24: 33.2575 | AB24: 12.7775 | AC24: 2.7675 | AD24: 0.16 | AE24: 2.65 | AF24: 1.975 | AG24: 11.335 | AH24: 3.765 | AJ24: 3.74 | AK24: *1 | AL24: *1 | AM24: - | AN24: 2.9
W25: 2009 | X25: 5.8357545 | Y25: 11.175 | Z25: 0.048 | AA25: 29.2725 | AB25: 8.2925 | AC25: 2.945 | AD25: 0.23075 | AE25: 2.5925 | AF25: 1.9625 | AG25: 10.1475 | AH25: 3.625 | AJ25: 2.2875 | AK25: *1 | AL25: *1 | AM25: - | AN25: <10*1
W26: 2010 | X26: 5.7599514 | Y26: 12.7875 | Z26: 0.156975 | AA26: 34.5475 | AB26: 10.62 | AC26: 3 | AD26: 0.14475 | AE26: 2.9 | AF26: 2.065 | AG26: 11.7175 | AH26: 3.9825 | AJ26: 3.4375 | AK26: *1 | AL26: *1 | AM26: - | AN26: <10*1
W27: 2011 | X27: 5.2474325 | Y27: 14.166667 | Z27: 0.063533333 | AA27: 39.63 | AB27: 15.153333 | AC27: 3.7633333 | AD27: 0.117 | AE27: 2.7066667 | AF27: 2.27 | AG27: 12.766667 | AH27: 3.9 | AJ27: 4.51 | AK27: *1 | AL27: *1 | AM27: - | AN27: <10*1
W28: 2012 | X28: 5.4681925 | Y28: 13.54 | Z28: 0.05175 | AA28: 40.785 | AB28: 9.88 | AC28: 3.7125 | AD28: 0.13525 | AE28: 3.08 | AF28: 2.3825 | AG28: 12.7925 | AH28: 3.975 | AJ28: 3.125 | AK28: *1 | AL28: *1 | AM28: - | AN28: <10*1
W29: 2013 | X29: 6.0272322 | Y29: 7.1225 | Z29: 0.0823 | AA29: 20.74 | AB29: 3.9325 | AC29: 0.6825 | AD29: 0.1175 | AE29: 0.75 | AF29: 0.765 | AG29: 8.75 | AH29: 0.9775 | AJ29: 3.5375 | AK29: *1 | AL29: *1 | AM29: - | AN29: <10*1
W30: 2014 | X30: 5.4069971 | Y30: 12.385 | Z30: 0.0403 | AA30: 34.935 | AB30: 14.2975 | AC30: 2.6525 | AD30: 0.09 | AE30: 2.54 | AF30: 2.1375 | AG30: 11.835 | AH30: 3.7675 | AJ30: 6.27 | AK30: *1 | AL30: *1 | AM30: - | AN30: -
W31: 2015 | X31: 6.4779485 | Y31: 11.35 | Z31: 0.14475 | AA31: 29.41 | AB31: 10.09 | AC31: 2.2425 | AD31: 0.24875 | AE31: 2.245 | AF31: 2.0075 | AG31: 11.6175 | AH31: 3.4575 | AJ31: 0.89 | AK31: *1 | AL31: *1 | AM31: - | AN31: <10*1
W32: 2016 | X32: 6.4915363 | Y32: 12.1675 | Z32: 0.266 | AA32: 28.5975 | AB32: 11.72 | AC32: 2.965 | AD32: *1 | AE32: 2.91 | AF32: 2.295 | AG32: 12.6575 | AH32: 3.5875 | AJ32: 2.45 | AK32: *1 | AL32: *1 | AM32: - | AN32: <10*1
W33: 2017 | X33: 6.4762912 | Y33: 11.155 | Z33: 0.122 | AA33: 27.27 | AB33: 11.835 | AC33: 2.7 | AD33: 0.0225 | AE33: 2.63 | AF33: 1.98 | AG33: 11.32 | AH33: 3.2425 | AJ33: 1.975 | AK33: *1 | AL33: *1 | AM33: - | AN33: <10*1
W35: Table 6.5(3) Annual mean values of each parameters from 2001 to 2017 at Xiaoping Dam (China)
X36: Mandatory Parameters : 4 times/year | AJ36: Mandatory Parameters : Once/year
X37: pH | Y37: EC | Z37: Alkalinity | AA37: SO42- | AB37: NO3- | AC37: Cl- | AD37: NH4+ | AE37: Na+ | AF37: K+ | AG37: Ca2+ | AH37: Mg2+ | AJ37: Transparency | AK37: PO43- | AL37: NO2- | AM37: DOC | AN37: COD
A38: Xiaoping Dam | Y38: mS/m | Z38: meq/L | AA38: mg/L | AB38: mg/L | AC38: mg/L | AD38: mg/L | AE38: mg/L | AF38: mg/L | AG38: mg/L | AH38: mg/L | AJ38: m | AK38: mg/L | AL38: mg/L | AM38: mg/L | AN38: mg/L
W39: 2001 | X39: 7.2101717 | Y39: - | Z39: - | AA39: 1.425 | AB39: 1.2975 | AC39: 2.175 | AD39: - | AE39: - | AF39: - | AG39: - | AH39: - | AJ39: - | AK39: - | AL39: - | AM39: - | AN39: -
W40: 2002 | X40: 7.3932118 | Y40: 7 | Z40: - | AA40: 4.665 | AB40: 6.655 | AC40: 2.8225 | AD40: 0.201 | AE40: 7.29 | AF40: 2.1404744 | AG40: 2.2932187 | AH40: 0.8150625 | AJ40: - | AK40: - | AL40: - | AM40: - | AN40: -
W41: 2003 | X41: 6.7348725 | Y41: 7.185 | Z41: 0.1925 | AA41: 2.68 | AB41: 5.0225 | AC41: 5.9125 | AD41: 0.17 | AE41: 6.5325 | AF41: 2.055 | AG41: 2.345 | AH41: 0.86 | AJ41: - | AK41: - | AL41: - | AM41: - | AN41: 1.8325
W42: 2004 | X42: 7.3434275 | Y42: 5.5675 | Z42: 0.24175 | AA42: 2.68 | AB42: 7.825 | AC42: 4.3525 | AD42: 0.1775 | AE42: 6.695 | AF42: 2.175 | AG42: 2.9175 | AH42: 0.6375 | AJ42: - | AK42: 0.02 | AL42: 0.008 | AM42: - | AN42: 2.115
W43: 2005 | X43: 6.7319847 | Y43: 4.62 | Z43: 0.2324 | AA43: 2.07 | AB43: 2.825 | AC43: 3.9425 | AD43: 0.0475 | AE43: 4.77 | AF43: 2.37 | AG43: 2.9475 | AH43: 0.61 | AJ43: 0.85 | AK43: 0.02 | AL43: 0.008 | AM43: - | AN43: 1.3325
W44: 2006 | X44: 6.8117782 | Y44: 5.265 | Z44: 0.189675 | AA44: 2.4575 | AB44: 2.5225 | AC44: 5.125 | AD44: 0.19325 | AE44: 6.015 | AF44: 2.3325 | AG44: 3.1925 | AH44: 0.6625 | AJ44: 0.85 | AK44: 0.02 | AL44: 0.008 | AM44: - | AN44: 0.66
W45: 2007 | X45: 7.0723542 | Y45: 7.32 | Z45: 0.110125 | AA45: 2.67 | AB45: 2.67 | AC45: 5.125 | AD45: 0.1475 | AE45: 3.6366667 | AF45: 1.6266667 | AG45: 2.8233333 | AH45: 0.54 | AJ45: - | AK45: - | AL45: 0.006 | AM45: - | AN45: 1.78
W46: 2008 | X46: 6.725256 | Y46: 5.66 | Z46: 0.12405 | AA46: 4.4902799 | AB46: 2.67 | AC46: 12.949612 | AD46: 0.14108849 | AE46: 4.9689743 | AF46: 2.4638833 | AG46: 3.9037662 | AH46: 0.56069278 | AJ46: - | AK46: 0.01 | AL46: 0.007 | AM46: - | AN46: 1.9325
W47: 2009 | X47: 6.7222718 | Y47: 7.525 | Z47: 0.1925 | AA47: 3.135 | AB47: 2.67 | AC47: 7.44 | AD47: 0.095 | AE47: 6.905 | AF47: 3.52 | AG47: 2.425 | AH47: 0.8225 | AJ47: - | AK47: 0.01 | AL47: 0.00825 | AM47: - | AN47: 3.5025
W48: 2010 | X48: 6.6295596 | Y48: 6.185 | Z48: 0.1895 | AA48: 2.7025 | AB48: 3.7 | AC48: 5.5425 | AD48: 0.105 | AE48: 5.795 | AF48: 2.5275 | AG48: 2.5075 | AH48: 0.6925 | AJ48: 1.1 | AK48: 0.02 | AL48: 0.01475 | AM48: - | AN48: 1.8575
W49: 2011 | X49: 6.7809892 | Y49: 4.8525 | Z49: 0.16825 | AA49: 2.595 | AB49: 2.8925 | AC49: 3.1375 | AD49: 0.08575 | AE49: 3.5 | AF49: 2.0975 | AG49: 2.57 | AH49: 0.5225 | AJ49: 0.725 | AK49: 0.05 | AL49: 0.022 | AM49: - | AN49: 1.83
W50: 2012 | X50: 6.938201 | Y50: 5.0775 | Z50: 0.15475 | AA50: 2.915 | AB50: 3.455 | AC50: 3.1025 | AD50: 0.05825 | AE50: 3.78 | AF50: 2.4975 | AG50: 2.505 | AH50: 0.6825 | AJ50: 1.175 | AK50: 0.03 | AL50: 0.03075 | AM50: - | AN50: 2.515
W51: 2013 | X51: 6.8038164 | Y51: 5.5225 | Z51: 0.2195 | AA51: 2.71 | AB51: 3.415 | AC51: 2.77 | AD51: 0.045 | AE51: 3.8025 | AF51: 2.8275 | AG51: 3.1975 | AH51: 0.7625 | AJ51: 0.925 | AK51: 0.024 | AL51: 0.02875 | AM51: - | AN51: 1.6575
W52: 2014 | X52: 7.1788924 | Y52: 5.785 | Z52: 0.219 | AA52: 3.7125 | AB52: 3.5325 | AC52: 2.6375 | AD52: 0.0475 | AE52: 3.085 | AF52: 2.61 | AG52: 3.7 | AH52: 0.8375 | AJ52: 0.9 | AK52: 0.041 | AL52: 0.0195 | AM52: - | AN52: 1.4675
W53: 2015 | X53: 7.0081211 | Y53: 6.0125 | Z53: 0.179 | AA53: 3.9875 | AB53: 3.1725 | AC53: 3.425 | AD53: 0.0525 | AE53: 3.645 | AF53: 2.635 | AG53: 3.60675 | AH53: 0.66 | AJ53: 0.725 | AK53: 0.045 | AL53: 0.014 | AM53: - | AN53: 1.23
W54: 2016 | X54: 6.6453397 | Y54: 5.9825 | Z54: 0.28025 | AA54: 2.385 | AB54: 2.6125 | AC54: 2.8725 | AD54: 0.11 | AE54: 4.43 | AF54: 2.36 | AG54: 3.52 | AH54: 0.6575 | AJ54: 1.225 | AK54: 0.042 | AL54: 0.0165 | AM54: - | AN54: 0.9225
W55: 2017 | X55: 7.0813354 | Y55: 5.76 | Z55: 0.259 | AA55: 3.1675 | AB55: 3.33 | AC55: 2.845 | AD55: 0.07875 | AE55: 4.555 | AF55: 2.4725 | AG55: 3.9625 | AH55: 0.6225 | AJ55: 1.45 | AK55: 0.032 | AL55: 0.0245 | AM55: - | AN55: 1.1
A56: Jiwozi River
W57: Table 6.5(4) Annual mean values of each parameters from 2001 to 2017 at Jiwozi River (China)
X58: Mandatory Parameters : 4 times/year | AJ58: Mandatory Parameters : Once/year
X59: pH | Y59: EC | Z59: Alkalinity | AA59: SO42- | AB59: NO3- | AC59: Cl- | AD59: NH4+ | AE59: Na+ | AF59: K+ | AG59: Ca2+ | AH59: Mg2+ | AJ59: Transparency | AK59: PO43- | AL59: NO2- | AM59: DOC | AN59: COD
Y60: mS/m | Z60: meq/L | AA60: mg/L | AB60: mg/L | AC60: mg/L | AD60: mg/L | AE60: mg/L | AF60: mg/L | AG60: mg/L | AH60: mg/L | AJ60: m | AK60: mg/L | AL60: mg/L | AM60: mg/L | AN60: mg/L
W61: 2001 | X61: 7.106222 | Y61: 4.5 | Z61: 0.225 | AA61: 10.02625 | AB61: 1.47 | AC61: 1.0585 | AD61: 0.03675 | AE61: 1.897 | AF61: 0.699 | AG61: 8.8285 | AH61: 1.378 | AJ61: - | AK61: - | AL61: - | AM61: - | AN61: -
W62: 2002 | X62: 7.6014264 | Y62: 8.4666667 | Z62: 0.11 | AA62: 12.155667 | AB62: 1.7033333 | AC62: 1.8046667 | AD62: *1 | AE62: 2.797 | AF62: 1.1953333 | AG62: 12.726667 | AH62: 1.715 | AJ62: - | AK62: - | AL62: - | AM62: - | AN62: -
W63: 2003 | X63: 7.5448205 | Y63: 7.825 | Z63: 0.14 | AA63: 11.4425 | AB63: 2.01 | AC63: 1.625 | AD63: *1 | AE63: 2.08 | AF63: 0.95 | AG63: 12.025 | AH63: 1.5945 | AJ63: - | AK63: - | AL63: - | AM63: - | AN63: -
W64: 2004 | X64: 7.2016387 | Y64: 6.6325 | Z64: 0.2425 | AA64: 11.68 | AB64: 2.3025 | AC64: 1.0625 | AD64: *1 | AE64: 1.79 | AF64: 0.6825 | AG64: 9.04 | AH64: 1.35 | AJ64: - | AK64: *1 | AL64: *1 | AM64: - | AN64: 3.2
W65: 2005 | X65: 6.98678 | Y65: 7.9925 | Z65: 0.2075 | AA65: 15.30925 | AB65: 0.8115 | AC65: 1.74475 | AD65: 0.05625 | AE65: 1.76675 | AF65: 0.71525 | AG65: 7.44225 | AH65: 1.3505 | AJ65: - | AK65: *1 | AL65: 0.09 | AM65: - | AN65: 1.6
W66: 2006 | X66: 6.7950931 | Y66: 7.5875 | Z66: 0.2375 | AA66: 11.8015 | AB66: 1.87225 | AC66: 1.2065 | AD66: 0.0705 | AE66: 1.93475 | AF66: 0.653 | AG66: 7.638 | AH66: 1.1095 | AJ66: - | AK66: 0.03 | AL66: 0.003 | AM66: - | AN66: 2.8
W67: 2007 | X67: 7.3156445 | Y67: 8.8575 | Z67: 0.25 | AA67: 16.675 | AB67: 3.46 | AC67: 1.3075 | AD67: 0.13 | AE67: 2.085 | AF67: 0.9575 | AG67: 11 | AH67: 0.9625 | AJ67: - | AK67: *1 | AL67: *1 | AM67: - | AN67: 2.2
W68: 2008 | X68: 7.0541451 | Y68: 8.4225 | Z68: 0.2475 | AA68: 13.91675 | AB68: 1.8935 | AC68: 1.51475 | AD68: 0.299 | AE68: 1.4285 | AF68: 1.05425 | AG68: 9.383 | AH68: 1.203 | AJ68: - | AK68: <0.01*1 | AL68: <0.003*1 | AM68: - | AN68: 2.5
W69: 2009 | X69: 6.983019 | Y69: 8.28 | Z69: 0.2775 | AA69: 15.5063 | AB69: 2.0658214 | AC69: 1.3385 | AD69: 0.13840833 | AE69: 1.8771 | AF69: 1.0375 | AG69: 9.850375 | AH69: 1.37925 | AJ69: - | AK69: <0.01*1 | AL69: <0.003*1 | AM69: - | AN69: 2.5
W70: 2010 | X70: 7.333049 | Y70: 8.1125 | Z70: 0.28 | AA70: 13.92175 | AB70: 2.83225 | AC70: 1.2705 | AD70: *1 | AE70: 1.224 | AF70: 0.8065 | AG70: 10.488 | AH70: 1.34525 | AJ70: - | AK70: <0.01*1 | AL70: <0.003*1 | AM70: - | AN70: 3
W71: 2011 | X71: 6.8495517 | Y71: 6.8325 | Z71: 0.275 | AA71: 12.894 | AB71: 0.8725 | AC71: 0.51075 | AD71: *1 | AE71: 0.73625 | AF71: 0.84075 | AG71: 8.0905 | AH71: 2.008 | AJ71: - | AK71: <0.01*1 | AL71: <0.003*1 | AM71: - | AN71: 3
W72: 2012 | X72: 6.8321986 | Y72: 6.9475 | Z72: 0.275 | AA72: 12.969 | AB72: 0.96025 | AC72: 0.56925 | AD72: *1 | AE72: 0.69625 | AF72: 0.82625 | AG72: 7.8015 | AH72: 2.014 | AJ72: - | AK72: <0.01*1 | AL72: <0.003*1 | AM72: - | AN72: 4
W73: 2013 | X73: 6.8628105 | Y73: 8.9175 | Z73: 0.3325 | AA73: 15.0075 | AB73: 2.389 | AC73: 3.15825 | AD73: *1 | AE73: 3.50125 | AF73: 1.3655 | AG73: 11.06975 | AH73: 1.68875 | AJ73: - | AK73: <0.01*1 | AL73: <0.003*1 | AM73: - | AN73: 5
A74: Zhuxiandong stream | W74: 2014 | X74: 7.0473841 | Y74: 8.2375 | Z74: 0.2725 | AA74: 15.84875 | AB74: 1.2795 | AC74: 1.3155 | AD74: 0.2705 | AE74: 1.929 | AF74: 1.05575 | AG74: 9.15325 | AH74: 1.61425 | AJ74: - | AK74: <0.01*1 | AL74: <0.003*1 | AM74: - | AN74: 4
W75: 2015 | X75: 7.0933189 | Y75: 7.27 | Z75: 0.2625 | AA75: 11.3215 | AB75: 6.44675 | AC75: 1.55 | AD75: *1 | AE75: 4.12025 | AF75: 0.95475 | AG75: 9.191 | AH75: 1.28075 | AJ75: - | AK75: <0.01*1 | AL75: <0.003*1 | AM75: - | AN75: 3
W76: 2016 | X76: 7.0984339 | Y76: 7.6 | Z76: 0.295 | AA76: 11.69725 | AB76: 2.857 | AC76: 0.81975 | AD76: *1 | AE76: 2.29025 | AF76: 0.64775 | AG76: 10.06875 | AH76: 1.1135 | AJ76: - | AK76: <0.01*1 | AL76: <0.003*1 | AN76: *1
W77: 2017 | X77: 6.9867812 | Y77: 6.87 | Z77: 0.335 | AA77: 9.02275 | AB77: 2.092 | AC77: 1.0165 | AD77: 0.0255 | AE77: 2.02175 | AF77: 0.8155 | AG77: 8.6015 | AH77: 1.41275 | AJ77: - | AK77: <0.01*1 | AL77: <0.003*1 | AM77: - | AN77: *1
W79: Table 6.5(5) Annual mean values of each parameters from 2004 to 2017 at Zhuxiandong stream and from 2001 to 2003 at Zhuxiandong resorvoir(China)
X80: Mandatory Parameters : 4 times/year | AJ80: Mandatory Parameters : Once/year
X81: pH | Y81: EC | Z81: Alkalinity | AA81: SO42- | AB81: NO3- | AC81: Cl- | AD81: NH4+ | AE81: Na+ | AF81: K+ | AG81: Ca2+ | AH81: Mg2+ | AJ81: Transparency | AK81: PO43- | AL81: NO2- | AM81: DOC | AN81: COD
Y82: mS/m | Z82: meq/L | AA82: mg/L | AB82: mg/L | AC82: mg/L | AD82: mg/L | AE82: mg/L | AF82: mg/L | AG82: mg/L | AH82: mg/L | AJ82: m | AK82: mg/L | AL82: mg/L | AM82: mg/L | AN82: mg/L
W83: 2001 | X83: 7.6181721 | Y83: - | Z83: - | AA83: 17.7 | AB83: 0.625 | AC83: 43.125 | AD83: 0.2 | AE83: - | AF83: - | AG83: - | AH83: - | AJ83: - | AK83: - | AL83: - | AM83: - | AN83: -
W84: 2002 | X84: 7.9251114 | Y84: 6.6975 | Z84: 0.96308036 | AA84: 19.8875 | AB84: 0.8275 | AC84: 23.8025 | AD84: 0.23 | AE84: 7.265 | AF84: 1.57 | AG84: 17 | AH84: 2.495 | AJ84: - | AK84: - | AL84: - | AM84: - | AN84: -
W85: 2003 | X85: 7.8214596 | Y85: 7.535 | Z85: 1.6025 | AA85: 17.5 | AB85: 0.29 | AC85: 19.5875 | AD85: 0.17 | AE85: 7.34 | AF85: 1.955 | AG85: 16.8 | AH85: 2.3625 | AJ85: - | AK85: - | AL85: 0.02875 | AM85: - | AN85: 1.675
W86: 2004 | X86: 7.1198404 | Y86: 8.4925 | Z86: 0.645 | AA86: 5.4675 | AB86: 1.8975 | AC86: 6.0325 | AD86: *1 | AE86: 8.95 | AF86: 1.8825 | AG86: 5.41 | AH86: 2.8375 | AJ86: - | AL86: *1 | AM86: - | AN86: 1.075
W87: 2005 | X87: 6.9717232 | Y87: 9.525 | Z87: 0.1325 | AA87: 5.825 | AB87: 1.7 | AC87: 6.725 | AD87: *1 | AE87: 8.9 | AF87: 1.6 | AG87: 4.625 | AH87: 2.65 | AJ87: 1.275 | AK87: *1 | AL87: *1 | AM87: - | AN87: 0.925
W88: 2006 | X88: 7.1809072 | Y88: 7.35 | Z88: 0.225 | AA88: 2.6 | AB88: 1.15 | AC88: 4.5 | AD88: 1.1 | AE88: 5.4 | AF88: 1.125 | AG88: 4.375 | AH88: 1.575 | AJ88: 1.25 | AK88: *1 | AL88: *1 | AN88: 0.975
W89: 2007 | X89: 7.2791373 | Y89: 7.795 | Z89: 0.24025 | AA89: 3.61 | AB89: 1.7675 | AC89: 5.09 | AD89: 0.0975 | AE89: 6.005 | AF89: 1.2225 | AG89: 3.6525 | AH89: 1.375 | AJ89: 1.25 | AK89: *1 | AL89: *1 | AM89: - | AN89: 1.125
W90: 2008 | X90: 7.1822073 | Y90: 7.5825 | Z90: 0.165 | AA90: 2.9525 | AB90: 2.355 | AC90: 4.8975 | AD90: 0.0475 | AE90: 6.83 | AF90: 1.3133333 | AG90: 4.4033333 | AH90: 1.7566667 | AJ90: 1.3 | AK90: *1 | AL90: *1 | AM90: - | AN90: 1.125
W91: 2009 | X91: 7.1642321 | Y91: 7.74 | Z91: 0.3665 | AA91: 2.9725 | AB91: 4.2 | AC91: 6.3025 | AD91: 0.0575 | AE91: 7.86 | AF91: 1.57 | AG91: 2.7675 | AH91: 1.96 | AJ91: 1.05 | AK91: *1 | AL91: *1 | AM91: - | AN91: 1.275
A92: Patenggang Lake | W92: 2010 | X92: 7.22125 | Y92: 6.86 | Z92: 0.393 | AA92: 2.49 | AB92: 2.495 | AC92: 5.15 | AD92: 0.08 | AE92: 6.9775 | AF92: 1.2275 | AG92: 4.2975 | AH92: 1.72 | AJ92: 1.1 | AK92: *1 | AL92: *1 | AM92: - | AN92: 1.375
W93: 2011 | X93: 7.1605854 | Y93: 7.42 | Z93: 0.46725 | AA93: 1.95 | AB93: 1.0025 | AC93: 4.3275 | AD93: 0.09 | AE93: 7.7025 | AF93: 1.15 | AG93: 4.68 | AH93: 1.6925 | AJ93: 1.05 | AK93: *1 | AL93: *1 | AM93: - | AN93: 1.275
W94: 2012 | X94: 7.2553348 | Y94: 7.6175 | Z94: 0.49925 | AA94: 2.9825 | AB94: 1.9975 | AC94: 5.375 | AD94: 0.09 | AE94: 7.5025 | AF94: 1.69 | AG94: 4.8125 | AH94: 1.88 | AJ94: 1.125 | AK94: *1 | AL94: *1 | AM94: - | AN94: 1.15
W95: 2013 | X95: 7.2041842 | Y95: 7.8675 | Z95: 0.4995 | AA95: 3.8125 | AB95: 4.11 | AC95: 4.66 | AD95: 0.0675 | AE95: 6.945 | AF95: 1.7725 | AG95: 4.9125 | AH95: 1.9075 | AJ95: 1.15 | AK95: *1 | AL95: *1 | AM95: - | AN95: 1.125
W96: 2014 | X96: 7.1929785 | Y96: 8.2675 | Z96: 0.50225 | AA96: 4.6375 | AB96: 4.795 | AC96: 3.7475 | AD96: 0.02 | AE96: 6.4225 | AF96: 1.6925 | AG96: 5.22 | AH96: 2.5325 | AJ96: - | AK96: - | AL96: - | AM96: - | AN96: -
W97: 2015 | X97: 6.3752665 | Y97: 6.73 | Z97: 0.496 | AA97: 2.4725 | AB97: 1.31 | AC97: 2.495 | AD97: 0.44 | AE97: 7.4775 | AF97: 1.84 | AG97: 2.8375 | AH97: 1.1425 | AJ97: - | AK97: - | AL97: - | AM97: - | AN97: -
W98: 2016 | X98: 6.9938342 | Y98: 7.45 | Z98: 0.496 | AA98: 1.848875 | AB98: 2.007625 | AC98: 3.69145 | AD98: 0.0275 | AE98: 6.7 | AF98: 1.525 | AG98: 4.345 | AH98: 1.6375 | AJ98: - | AK98: - | AL98: - | AM98: - | AN98: -
W99: 2017 | X99: 7.2927065 | Y99: 15.165 | Z99: 0.492 | AA99: 8.1538921 | AB99: 3.3272021 | AC99: 14.380905 | AD99: 0.15232818 | AE99: 11.323677 | AF99: 1.7565733 | AG99: 14.028588 | AH99: 2.8706412 | AJ99: - | AK99: - | AL99: - | AM99: - | AN99: -
W101: Table 6.5(6) Annual mean values of each parameters from 2001 to 2017 at Patenggang Lake (Indonesia)
X102: Mandatory Parameters : 4 times/year | AJ102: Mandatory Parameters : Once/year
X103: pH | Y103: EC | Z103: Alkalinity | AA103: SO42- | AB103: NO3- | AC103: Cl- | AD103: NH4+ | AE103: Na+ | AF103: K+ | AG103: Ca2+ | AH103: Mg2+ | AJ103: Transparency | AK103: PO43- | AL103: NO2- | AM103: DOC | AN103: COD
Y104: mS/m | Z104: meq/L | AA104: mg/L | AB104: mg/L | AC104: mg/L | AD104: mg/L | AE104: mg/L | AF104: mg/L | AG104: mg/L | AH104: mg/L | AJ104: m | AK104: mg/L | AL104: mg/L | AM104: mg/L | AN104: mg/L
W105: 2001 | X105: 7.9045784 | Y105: 7.28 | Z105: 0.4884 | AA105: 4.33 | AB105: 0.067 | AC105: 8.19 | AD105: 0.134 | AE105: 4.9 | AF105: 0.538 | AG105: 6.32 | AH105: 2.18 | AJ105: - | AK105: - | AL105: - | AM105: - | AN105: -
...

Sheet 伊自良湖(表層)経年_ﾌﾟﾚｾﾞﾝ用
C2: 地点 ： 岐阜県 伊自良湖（湖心表層） | S2: 注）2006年に浚渫工事（水抜きのみ）を実施
T4: 分析項目 | CD4: 9 | CE4: 10 | CF4: 11 | CG4: 12 | CH4: 13 | CI4: 14 | CJ4: 15 | CK4: 16 | CL4: 17 | CM4: 18 | CN4: 19 | CO4: 20 | CP4: 21 | CQ4: 22 | CR4: 23 | CS4: 24 | CT4: 25 | CU4: 26 | CV4: 27 | CW4: 28 | CX4: 29 | CY4: 30 | CZ4: 31 | DA4: 32 | DB4: 33 | DC4: 34 | DD4: 35 | DE4: 36 | DF4: 37 | DG4: 38 | DH4: 39 | DI4: 40 | DJ4: 41 | DK4: 42 | DL4: 43 | DM4: 44 | DN4: 45 | DO4: 46 | DP4: 47 | DQ4: 48 | DR4: 49 | DS4: 50 | DT4: 51 | DU4: 52 | DV4: 53 | DW4: 54 | DX4: 55 | DY4: 56 | DZ4: 57 | EA4: 58 | EB4: 60 | EC4: 61
CD5: 採取年月日 | CE5: 採取年月日 | CF5: 採取年月日 | CG5: 採取年月日 | CH5: 採取年月日 | CI5: 採取年月日 | CJ5: 採取年月日 | CK5: 採取年月日 | CL5: 採取年月日 | CM5: 採取年月日 | CN5: 採取年月日 | CO5: 採取年月日 | CP5: 採取年月日 | CQ5: 採取年月日 | CR5: 採取年月日 | CS5: 採取年月日 | CT5: 採取年月日 | CU5: 採取年月日 | CV5: 採取年月日 | CW5: 採取年月日 | CX5: 採取年月日 | CY5: 採取年月日 | CZ5: 採取年月日 | DA5: 採取年月日 | DB5: 採取年月日 | DC5: 採取年月日 | DD5: 採取年月日 | DE5: 採取年月日 | DF5: 採取年月日 | DG5: 採取年月日 | DH5: 採取年月日 | DI5: 採取年月日 | DJ5: 採取年月日 | DK5: 採取年月日 | DL5: 採取年月日 | DM5: 採取年月日 | DN5: 採取年月日 | DO5: 採取年月日 | DP5: 採取年月日 | DQ5: 採取年月日 | DR5: 採取年月日 | DS5: 採取年月日 | DT5: 採取年月日 | DU5: 採取年月日 | DV5: 採取年月日 | DW5: 採取年月日 | DX5: 採取年月日 | DY5: 採取年月日 | DZ5: 採取年月日 | EA5: 採取年月日 | EB5: 採取年月日 | EC5: 採取年月日
V6: 88 | W6: 88 | X6: 88 | Y6: 89 | Z6: 89 | AA6: 89 | AB6: 89 | AC6: 90 | AD6: 90 | AE6: 90 | AF6: 90 | AG6: 91 | AH6: 91 | AI6: 91 | AJ6: 91 | AK6: 92 | AL6: 92 | AM6: 92 | AN6: 92 | AO6: 93 | AP6: 93 | AQ6: 93 | AR6: 93 | AS6: 94 | AT6: 94 | AU6: 94 | AV6: 94 | AW6: 95 | AX6: 95 | AY6: 95 | AZ6: 95 | BA6: 96 | BB6: 96 | BC6: 96 | BD6: 96 | BE6: 97 | BF6: 97 | BG6: 97 | BH6: 97 | BI6: 98 | BJ6: 98 | BK6: 98 | BL6: 98 | BM6: 99 | BN6: 99 | BO6: 99 | BP6: 99 | BQ6: 00 | BR6: 00 | BS6: 00 | BT6: 00 | BU6: 01 | BV6: 01 | BW6: 01 | BX6: 01 | BY6: 02 | BZ6: 02 | CA6: 02 | CB6: 02 | CC6: 03 | CD6: 03 | CE6: 03 | CF6: 03 | CG6: 04 | CH6: 04 | CI6: 04 | CJ6: 04 | CK6: 05 | CL6: 05 | CM6: 05 | CN6: 05 | CO6: 06 | CP6: 06 | CQ6: 06 | CR6: 06 | CS6: 07 | CT6: 07 | CU6: 07 | CV6: 07 | CW6: 08 | CX6: 08 | CY6: 08 | CZ6: 08 | DA6: 09 | DB6: 09 | DC6: 09 | DD6: 09 | DE6: 10 | DF6: 10 | DG6: 10 | DH6: 10
V7: 32441 | W7: 32496 | X7: 32566 | Y7: 32615 | Z7: 32713 | AA7: 32811 | AB7: 32881 | AC7: 32975 | AD7: 33080 | AE7: 33158 | AF7: 33249 | AG7: 33340 | AH7: 33445 | AI7: 33522 | AJ7: 33616 | AK7: 33707 | AL7: 33767 | AM7: 33834 | AN7: 33889 | AO7: 34115 | AP7: 34193 | AQ7: 34299 | AR7: 34375 | AS7: 34480 | AT7: 34572 | AU7: 34663 | AV7: 34757 | AW7: 34845 | AX7: 34922 | AY7: 35016 | AZ7: 35108 | BA7: 35198 | BB7: 35289 | BC7: 35381 | BD7: 35487 | BE7: 35562 | BF7: 35654 | BG7: 35746 | BH7: 35839 | BI7: 35962 | BJ7: 36013 | BK7: 36055 | BL7: 36193 | BM7: 36320 | BN7: 36382 | BO7: 36514 | BP7: 36579 | BQ7: 36766 | BR7: 36797 | BS7: 36846 | BT7: 36907 | BU7: 37103 | BV7: 37159 | BW7: 37224 | BX7: 37287 | BY7: 37424 | BZ7: 37526 | CA7: 37592 | CB7: 37325 | CC7: 37768 | CD7: 37858 | CE7: 37960 | CF7: 38049 | CG7: 38156 | CH7: 38251 | CI7: 38343 | CJ7: 38427 | CK7: 38502 | CL7: 38595 | CM7: 38672 | CN7: 38779 | CO7: 38887 | CP7: 38957 | CQ7: 38985 | CS7: 39246 | CT7: 39330 | CU7: 39413 | CV7: 39472 | CW7: 39581 | CX7: 39658 | CY7: 39756 | CZ7: 39853 | DA7: 39927 | DB7: 40009 | DC7: 40108 | DD7: 40196 | DE7: 40289 | DF7: 40387 | DG7: 40471 | DH7: 40550 | DI7: 40654 | DJ7: 40752 | DK7: 40833 | DL7: 40931 | DM7: 41015 | DN7: 41113 | DO7: 41186 | DP7: 41285 | DQ7: 41386 | DR7: 41467 | DS7: 41578 | DT7: 41646 | DU7: 41752 | DV7: 41836 | DW7: 41920 | DX7: 42011 | DY7: 42110 | DZ7: 42212 | EA7: 42262 | EB7: 42472 | EC7: 42570
U8: 水温 | BI8: 22 | BJ8: 26.2 | BK8: 24.5 | BL8: 6.1 | BM8: 21.1 | BN8: 28.8 | BO8: 8.4 | BP8: 5.4 | BQ8: 29 | BR8: 24.2 | BS8: 15.5 | BT8: 5.1 | BU8: 30.7 | BV8: 23 | BW8: 11.3 | BX8: 6.8 | BY8: 26 | BZ8: 24.3 | CA8: 11.9 | CC8: 21 | CD8: 26.6 | CE8: 12.8 | CF8: 7.1 | CG8: 25.4 | CH8: 26.4 | CI8: 11.9 | CJ8: 11.1 | CK8: 21.5 | CL8: 25.3 | CM8: 15.2 | CN8: 7.5 | CO8: 22.3 | CP8: 26.3 | CQ8: 23.8 | CS8: 23.4 | CT8: 29 | CU8: 12.5 | CV8: 5.1 | CW8: 18 | CX8: 28.2 | CY8: 16.1 | CZ8: 7.1 | DA8: 15.6 | DB8: 24.3 | DC8: 18.8 | DD8: 5.2 | DE8: 13.4 | DF8: 28.1 | DG8: 18.6 | DH8: 6.3 | DI8: 15.1 | DJ8: 22.2 | DK8: 18.5 | DL8: 6.6 | DM8: 13.4 | DN8: 23.1 | DO8: 21.9 | DP8: 5.4 | DQ8: 14.8 | DR8: 27.6 | DS8: 17 | DT8: 6.6 | DU8: 15.1 | DV8: 24.3 | DW8: 20.1 | DX8: 6.1 | DY8: 13.5 | DZ8: 24.1 | EA8: 21.6 | EB8: 12.6 | EC8: 24.2
T9: 1 | U9: ｐH | V9: 6.6 | W9: 6.8 | X9: 6.5 | Y9: 7.8 | Z9: 8.7 | AA9: 6.7 | AB9: 6.8 | AC9: 7.1 | AD9: 7.2 | AE9: 6.8 | AF9: 6.8 | AG9: 7 | AH9: 8 | AI9: 7.2 | AJ9: 7.1 | AK9: 7.3 | AL9: 7.1 | AM9: 8.9 | AN9: 6.8 | AO9: 7.1 | AP9: 7 | AQ9: 7.1 | AR9: 7 | AS9: 7.3 | AT9: 7.7 | AU9: 7.5 | AV9: 7 | AW9: 7.3 | AX9: 8.4 | AY9: 6.7 | AZ9: 7.1 | BA9: 8 | BB9: 8.4 | BC9: 6.8 | BD9: 6.9 | BE9: 7.3 | BF9: 7.4 | BG9: 6.6 | BH9: 6.6 | BI9: 7.7 | BJ9: 8.3 | BK9: 7.4 | BL9: 7.2 | BM9: 7.5 | BN9: 7.5 | BO9: 6.8 | BP9: 6.8 | BQ9: 7.5 | BR9: 6.8 | BS9: 6.8 | BT9: 6.59 | BU9: 8.1 | BV9: 8.9 | BW9: 6.4 | BX9: 6.8 | BY9: 7.9 | BZ9: 6.8 | CA9: 6.4 | CB9: 6.7 | CC9: 6.6 | CD9: 8.1 | CE9: 6.6 | CF9: 6.7 | CG9: 7.52 | CH9: 7.05 | CI9: 7.03 | CJ9: 7.26 | CK9: 6.9842808 | CL9: 7.1698849 | CM9: 6.8395396 | CN9: 6.8349712 | CO9: 6.954741 | CP9: 6.5945951 | CQ9: 6.9836281 | CS9: 7.1681605 | CT9: 7.1426728 | CU9: 7.174741 | CV9: 6.9289647 | CW9: 7.1377931 | CX9: 8.3648599 | CY9: 6.9627447 | CZ9: 7.1274098 | DA9: 7.0982534 | DB9: 6.9077931 | DC9: 7.0944275 | DD9: 7.102873 | DE9: 6.9819954 | DF9: 7.2516328 | DG9: 7.1196904 | DH9: 6.8205731 | DI9: 7.1911168 | DJ9: 7.1099616 | DK9: 6.928279 | DL9: 7.3148945 | DM9: 7.1214617 | DN9: 7.0506081 | DO9: 7.0999616 | DP9: 7.176564 | DQ9: 7.2364497 | DR9: 7.2665259 | DS9: 7.0966029 | DT9: 7.1224655 | DU9: 7.094584 | DV9: 6.9684476 | DW9: 7.2677742 | DX9: 6.9856398 | DY9: 7.2845073 | DZ9: 7.034198 | EA9: 7.1909531 | EB9: 6.909391 | EC9: 7.3151496
T10: 2 | U10: EC(mS/m) | V10: 3.22 | W10: 3.26 | X10: 3.59 | Y10: 3.12 | Z10: 2.95 | AA10: 3.52 | AB10: 3.73 | AC10: 3.29 | AD10: 3.27 | AE10: 3.19 | AF10: 3.22 | AG10: 3.36 | AH10: 2.96 | AI10: 3.46 | AJ10: 3.65 | AK10: 3.64 | AL10: 3.37 | AM10: 3.42 | AN10: 3.84 | AO10: 4.13 | AP10: 3.72 | AQ10: 4.08 | AR10: 4.18 | AS10: 3.94 | AT10: 4.21 | AU10: 4.27 | AV10: 4.14 | AW10: 3.56 | AX10: 3.55 | AY10: 4.63 | AZ10: 4.49 | BA10: 4.45 | BB10: 4.4 | BC10: 4.81 | BD10: 4.35 | BE10: 4.13 | BF10: 3.69 | BG10: 4.6 | BH10: 3.78 | BI10: 3.57 | BJ10: 3.73 | BK10: 4.08 | BL10: 4.4 | BM10: 3.96 | BN10: 3.98 | BO10: 4.22 | BP10: 4.22 | BQ10: 4.07 | BR10: 3.95 | BS10: 4.24 | BT10: 4.27 | BU10: 4.17 | BV10: 4.5866667 | BW10: 4.5533333 | BX10: 3.9933333 | BY10: 4.2816667 | BZ10: 4.655 | CA10: 4.83 | CB10: 4.3233333 | CC10: 3.92 | CD10: 3.61 | CE10: 4.3 | CF10: 4.56 | CG10: 3.92 | CH10: 3.98 | CI10: 4.16 | CJ10: 4.135 | CK10: 4.515 | CL10: 4.92 | CM10: 4.445 | CN10: 3.995 | CO10: 3.565 | CP10: 4.03 | CQ10: 4.215 | CS10: 4.57 | CT10: 4.185 | CU10: 4.77 | CV10: 4.805 | CW10: 4.325 | CX10: 3.9333333 | CY10: 4.4083333 | CZ10: 4.7633333 | DA10: 4.235 | DB10: 3.8366667 | DC10: 4.3733333 | DD10: 4.585 | DE10: 3.7816667 | DF10: 3.3416667 | DG10: 3.845 | DH10: 3.98 | DI10: 4.10589 | DJ10: 3.724275 | DK10: 3.5028 | DL10: 4.060875 | DM10: 3.615 | DN10: 3.4 | DO10: 3.93 | DP10: 4.09 | DQ10: 4.1 | DR10: 3.695 | DS10: 3.89 | DT10: 4.09 | DU10: 3.87 | DV10: 3.45 | DW10: 3.755 | DX10: 3.86 | DY10: 3.85 | DZ10: 3.31 | EA10: 3.535 | EB10: 3.745 | EC10: 3.715
T11: 3 | U11: アルカリ度（pH4.8）(meq/L) | V11: 0.13788004 | W11: 0.12389221 | X11: 0.1039096 | Y11: 0.12389221 | Z11: 0.12389221 | AA11: 0.10990438 | AB11: 0.13788004 | AC11: 0.1039096 | AD11: 0.12788874 | AE11: 0.10191134 | AF11: 0.1039096 | AG11: 0.11589917 | AH11: 0.11789743 | AI11: 0.11589917 | AJ11: 0.11989569 | AK11: 0.11989569 | AL11: 0.12389221 | AM11: 0.11989569 | AN11: 0.13388352 | AO11: 0.11989569 | AP11: 0.10990438 | AQ11: 0.11589917 | AR11: 0.12189395 | AS11: 0.11390091 | AT11: 0.14787135 | AU11: 0.13588178 | AV11: 0.10590786 | AW11: 0.11589917 | AX11: 0.14187657 | AY11: 0.13987831 | AZ11: 0.12589048 | BA11: 0.17984354 | BB11: 0.17185049 | BC11: 0.22380529 | BD11: 0.14986961 | BE11: 0.15386614 | BF11: 0.15186787 | BG11: 0.20582094 | BH11: 0.129887 | BI11: 0.1588 | BJ11: 0.1548 | BK11: 0.1772 | BL11: 0.1716 | BM11: 0.149 | BN11: 0.142 | BO11: 0.136 | BP11: 0.135 | BQ11: 0.15126 | BR11: 0.1264 | BS11: 0.1482 | BT11: 0.1492 | BU11: 0.14057742 | BV11: 0.15463183 | BW11: 0.14677201 | BX11: 0.10883843 | BY11: 0.1275 | BZ11: 0.211 | CA11: 0.197 | CB11: 0.155 | CC11: 0.148 | CD11: 0.121 | CE11: 0.154 | CF11: 0.162 | CG11: 0.147 | CH11: 0.141 | CI11: 0.15 | CJ11: 0.14 | CK11: 0.164 | CL11: 0.16 | CM11: 0.172 | CN11: 0.1175 | CO11: 0.1315 | CP11: 0.188 | CQ11: 0.171 | CS11: 0.176 | CT11: 0.1987008 | CU11: 0.245 | CV11: 0.205 | CW11: 0.17329337 | CX11: 0.17106227 | CY11: 0.18328338 | CZ11: 0.2045954 | DA11: 0.16866667 | DB11: 0.15820846 | DC11: 0.197003 | DD11: 0.18131868 | DE11: 0.14618715 | DF11: 0.14330919 | DG11: 0.17549118 | DH11: 0.16550117 | DI11: 0.16883117 | DJ11: 0.15151515 | DK11: 0.14252414 | DL11: 0.17216117 | DM11: 0.136 | DN11: 0.135 | DO11: 0.178 | DP11: 0.165 | DQ11: 0.1665 | DR11: 0.1555 | DS11: 0.1685 | DT11: 0.1685 | DU11: 0.142 | DV11: 0.123 | DW11: 0.1485 | DX11: 0.1465 | DY11: 0.156 | DZ11: 0.1385 | EA11: 0.152 | EB11: 0.1175 | EC11: 0.165
T12: 4 | U12: 硫酸イオン(mg/L) | V12: 4.36 | W12: 5.14 | X12: 5.41 | Y12: 5.61 | Z12: 4.82 | AA12: 4.4 | AB12: 5.07 | AC12: 4.83 | AD12: 4.57 | AE12: 4.29 | AF12: 5.2 | AG12: 4.77 | AH12: 3.88 | AI12: 3.85 | AJ12: 4.82 | AK12: 5.33 | AL12: 4.32 | AM12: 3.91 | AN12: 4.13 | AO12: 5.62 | AP12: 4.22 | AQ12: 5.78 | AR12: 6.34 | AS12: 5.92 | AT12: 7.8 | AU12: 7.31 | AV12: 7.56 | AW12: 5.32 | AX12: 4.94 | AY12: 7.29 | AZ12: 7.29 | BA12: 6.16 | BB12: 6.02 | BC12: 6.09 | BD12: 7.13 | BE12: 5.42 | BF12: 4.15 | BG12: 5.18 | BH12: 5.6 | BI12: 4.46 | BJ12: 4.37 | BK12: 4.54 | BL12: 5.99 | BM12: 4.98 | BN12: 4.97 | BO12: 5.25 | BP12: 6.21 | BQ12: 4.93 | BR12: 4.42 | BS12: 5.21 | BT12: 5.51 | BU12: 4.6583333 | BV12: 3.2033333 | BW12: 5.7166667 | BX12: 5.08 | BY12: 5.4666667 | BZ12: 5.2266667 | CA12: 6.0483333 | CB12: 5.76 | CC12: 4.86 | CD12: 4.305 | CE12: 5.31 | CF12: 6.075 | CG12: 4.56 | CH12: 4.53 | CI12: 4.735 | CJ12: 5.35 | CK12: 6.5 | CL12: 5.81 | CM12: 5.35 | CN12: 5.265 | CO12: 4.29 | CP12: 4.58 | CQ12: 4.72 | CS12: 6.58 | CT12: 4.81 | CU12: 5.46 | CV12: 6.22 | CW12: 5.6443333 | CX12: 4.8256667 | CY12: 4.9183333 | CZ12: 6.0773333 | DA12: 5.4268333 | DB12: 4.645 | DC12: 4.7771667 | DD12: 5.8605 | DE12: 4.818 | DF12: 3.9445 | DG12: 4.3356667 | DH12: 5.2075 | DI12: 5.5306667 | DJ12: 4.159 | DK12: 4.0908333 | DL12: 5.31 | DM12: 4.69 | DN12: 4.17 | DO12: 4.45 | DP12: 5.31 | DQ12: 5.625 | DR12: 4.595 | DS12: 4.51 | DT12: 5.345 | DU12: 5.14 | DV12: 4.2 | DW12: 4.18 | DX12: 5.15 | DY12: 5.08 | DZ12: 4.085 | EA12: 3.965 | EB12: 6.12 | EC12: 4.615
T13: 5 | U13: 硝酸イオン(mg/L) | V13: 1.08 | W13: 1.06 | X13: 1.54 | Y13: 0.72 | Z13: 0.08 | AA13: 0.65 | AB13: 1.12 | AC13: 1.25 | AD13: 0.54 | AE13: 1.38 | AF13: 0.9 | AG13: 0.85 | AH13: 0.51 | AI13: 2.11 | AJ13: 1.68 | AK13: 1.6 | AL13: 0.99 | AM13: 1.13 | AN13: 1.31 | AO13: 1.47 | AP13: 1.48 | AQ13: 1.12 | AR13: 1.01 | AS13: 0.79 | AT13: 1.27 | AU13: 1.03 | AV13: 1.43 | AW13: 1.12 | AX13: 0.48 | AY13: 1.36 | AZ13: 1.75 | BA13: 1.01 | BB13: 0.92 | BC13: 1.05 | BD13: 1.54 | BE13: 2.15 | BF13: 1.6 | BG13: 1.81 | BH13: 1.25 | BI13: 0.86 | BJ13: 1.68 | BK13: 2.06 | BL13: 1.92 | BM13: 1.86 | BN13: 1.33 | BO13: 1.95 | BP13: 1.85 | BQ13: 2.26 | BR13: 3.36 | BS13: 2.75 | BT13: 2.99 | BU13: 2.522877 | BV13: 1.858962 | BW13: 2.2720647 | BX13: 2.5892685 | BY13: 1.58 | BZ13: 2.04 | CA13: 2.3166667 | CB13: 2.1016667 | CC13: 1.55 | CD13: 1.885 | CE13: 2.63 | CF13: 2.23 | CG13: 1.54 | CH13: 2.345 | CI13: 1.85 | CJ13: 1.77 | CK13: 1.81 | CL13: 3.01 | CM13: 2.435 | CN13: 2.235 | CO13: 2.345 | CP13: 1.07 | CQ13: 2.92 | CS13: 1.77 | CT13: 0.75 | CU13: 0.71 | CV13: 1.665 | CW13: 1.6961667 | CX13: 1.0491667 | CY13: 2.7216667 | CZ13: 1.6593333 | DA13: 1.562 | DB13: 1.6523333 | DC13: 1.2098333 | DD13: 1.4561667 | DE13: 1.2843333 | DF13: 0.59616667 | DG13: 1.2095 | DH13: 1.2935 | DI13: 0.69266667 | DJ13: 1.7 | DK13: 1.793 | DL13: 1.166 | DM13: 1.32 | DN13: 1.245 | DO13: 1.48 | DP13: 1.21 | DQ13: 0.84 | DR13: 1.22 | DS13: 1.265 | DT13: 0.92 | DU13: 0.865 | DV13: 1.475 | DW13: 1.355 | DX13: 1.16 | DY13: 0.715 | DZ13: 0.955 | EA13: 1.51 | EB13: 1.67 | EC13: 1.11
T14: 6 | U14: 塩化物イオン(mg/L) | V14: 1.93 | W14: 2.39 | X14: 1.99 | Y14: 2.11 | Z14: 2.28 | AA14: 2.13 | AB14: 2.2 | AC14: 2.18 | AD14: 1.95 | AE14: 1.82 | AF14: 2.14 | AG14: 2.06 | AH14: 2 | AI14: 1.98 | AJ14: 2.37 | AK14: 1.93 | AL14: 1.84 | AM14: 1.79 | AN14: 1.96 | AO14: 2.21 | AP14: 1.9 | AQ14: 1.88 | AR14: 1.98 | AS14: 1.74 | AT14: 2.65 | AU14: 2.55 | AV14: 2.35 | AW14: 2.29 | AX14: 2.21 | AY14: 2.55 | AZ14: 2.93 | BA14: 2.41 | BB14: 2.5 | BC14: 2.4 | BD14: 2.58 | BE14: 2.55 | BF14: 2.29 | BG14: 3 | BH14: 2.58 | BI14: 2.14 | BJ14: 2.05 | BK14: 2.02 | BL14: 3.11 | BM14: 2.34 | BN14: 2.36 | BO14: 2.74 | BP14: 2.9 | BQ14: 2.45 | BR14: 2.14 | BS14: 2.48 | BT14: 2.81 | BU14: 2.41 | BV14: 1.4383333 | BW14: 2.4316667 | BX14: 2.46 | BY14: 2.3216667 | BZ14: 2.34 | CA14: 2.2316667 | CB14: 2.1916667 | CC14: 2.3 | CD14: 2.565 | CE14: 2.235 | CF14: 2.515 | CG14: 2.3 | CH14: 2.355 | CI14: 2.265 | CJ14: 2.42 | CK14: 2.545 | CL14: 2.325 | CM14: 2.165 | CN14: 2.255 | CO14: 2 | CP14: 2.215 | CQ14: 2.05 | CS14: 2.265 | CT14: 2.25 | CU14: 2.25 | CV14: 2.31 | CW14: 2.2491667 | CX14: 2.1685 | CY14: 1.98 | CZ14: 2.2436667 | DA14: 2.181 | DB14: 1.9836667 | DC14: 2.092 | DD14: 2.2606667 | DE14: 2.0735 | DF14: 1.9708333 | DG14: 1.8038333 | DH14: 1.9896667 | DI14: 2.0683333 | DJ14: 1.6398333 | DK14: 1.7701667 | DL14: 1.9466667 | DM14: 1.95 | DN14: 1.735 | DO14: 1.79 | DP14: 2.07 | DQ14: 2.14 | DR14: 1.86 | DS14: 1.83 | DT14: 2.03 | DU14: 1.925 | DV14: 1.74 | DW14: 1.74 | DX14: 2.035 | DY14: 1.94 | DZ14: 1.88 | EA14: 1.78 | EB14: 1.805 | EC14: 1.75
T15: 7 | U15: アンモニウムイオン(mg/L) | V15: 0.09 | W15: 0.1 | X15: 0.01 | Y15: 0.01 | Z15: 0.04 | AA15: 0.03 | AB15: 0.02 | AC15: 0.01 | AD15: 0.03 | AE15: 0.01 | AF15: 0.05 | AG15: 0.01 | AH15: 0.02 | AI15: 0.02 | AL15: 0.01 | AM15: 0.02 | AN15: 0.03 | AO15: 0.07 | AP15: 0.03 | AQ15: 0.01 | AR15: 0.02 | AS15: 0.06 | AT15: 0.03 | AU15: 0.09 | AV15: 0.01 | AW15: 0.06 | AX15: 0.03 | AY15: 0.02 | AZ15: 0.02 | BA15: 0.02 | BB15: 0.06 | BC15: 0.06 | BD15: 0.06 | BE15: 0.02 | BF15: 0.03 | BG15: 0.05 | BH15: 0.01 | BI15: 0.04 | BJ15: 0.05 | BK15: 0.04 | BL15: 0.04 | BM15: 0.01 | BN15: 0.07 | BO15: 0.03 | BP15: 0.03 | BQ15: 0.06 | BR15: 0.013 | BS15: 0.042 | BT15: 0.019 | BU15: 0.071666667 | BV15: 0.125 | BW15: 0.038333333 | BX15: 0.038333333 | BY15: 0.10166667 | BZ15: 0.15333333 | CA15: 0.08 | CB15: 0.005 | CC15: 0.06 | CD15: <0.02*4 | CE15: 0.085 | CF15: 0.085 | CG15: 0.135 | CH15: 0.145 | CI15: 0.155 | CJ15: 0.055 | CK15: 0.075 | CL15: 0.18 | CM15: 0.03 | CN15: 0.02 | CO15: 0.03 | CP15: 0.03 | CQ15: <0.02*3 | CS15: 0.075 | CT15: 0.045 | CU15: <0.02*1 | CV15: <0.02*1 | CW15: 0.054833333 | CX15: 0.013333333 | CY15: 0.065 | CZ15: 0.0155 | DA15: <0.01*1 | DB15: 0.01 | DC15: 0.037083333 | DD15: <0.01*1 | DE15: <0.01 | DF15: <0.01 | DG15: <0.01 | DH15: <0.01 | DI15: 0.0205 | DJ15: <0.01 | DK15: 0.01 | DL15: <0.01 | DM15: <0.01 | DN15: <0.01 | DO15: <0.01 | DP15: <0.01 | DQ15: <0.01 | DR15: 0.02 | DS15: <0.01 | DT15: <0.01 | DU15: <0.01*1 | DV15: <0.01*1 | DW15: <0.01*1 | DX15: <0.01*1 | DY15: <0.01 | DZ15: <0.01 | EA15: 0.015 | EB15: <0.01 | EC15: <0.01
T16: 8 | U16: ナトリウムイオン(mg/L) | V16: 2.44 | W16: 2.22 | X16: 2.2 | Y16: 1.88 | Z16: 1.72 | AA16: 1.89 | AB16: 1.98 | AC16: 1.71 | AD16: 1.69 | AE16: 1.55 | AF16: 1.74 | AG16: 1.7 | AH16: 1.46 | AI16: 1.59 | AJ16: 2.03 | AK16: 1.93 | AL16: 1.86 | AM16: 1.99 | AN16: 1.99 | AO16: 2.08 | AP16: 1.7 | AQ16: 2.64 | AR16: 2.67 | AS16: 2.67 | AT16: 3 | AU16: 3.03 | AV16: 2.83 | AW16: 2.11 | AX16: 2.5 | AY16: 3 | AZ16: 2.75 | BA16: 2.54 | BB16: 2.8 | BC16: 2.8 | BD16: 2.98 | BE16: 2.4 | BF16: 2.09 | BG16: 2.3 | BH16: 2.13 | BI16: 1.88 | BJ16: 2 | BK16: 2.08 | BL16: 2.28 | BM16: 1.9 | BN16: 1.99 | BO16: 2.5 | BP16: 2.49 | BQ16: 2.68 | BR16: 2.2 | BS16: 2.32 | BT16: 2.25 | BU16: 2.3316667 | BV16: 2.45 | BW16: 2.61 | BX16: 2.09 | BY16: 2.3166667 | BZ16: 2.305 | CA16: 2.295 | CB16: 2.0216667 | CC16: 1.875 | CD16: 1.785 | CE16: 1.89 | CF16: 1.895 | CG16: 2.23 | CH16: 2.135 | CI16: 2.16 | CJ16: 2.06 | CK16: 2.555 | CL16: 2.43 | CM16: 2.195 | CN16: 1.975 | CO16: 1.815 | CP16: 2.075 | CQ16: 2.1 | CS16: 2.22 | CT16: 2.115 | CU16: 2.33 | CV16: 2.305 | CW16: 2.096 | CX16: 2.0778333 | CY16: 2.06 | CZ16: 2.1758333 | DA16: 2.0625 | DB16: 1.9823333 | DC16: 2.1218333 | DD16: 2.1406667 | DE16: 1.8573333 | DF16: 1.8053333 | DG16: 1.8878333 | DH16: 1.9578333 | DI16: 2.011 | DJ16: 1.8361667 | DK16: 1.7671667 | DL16: 1.9478333 | DM16: 1.81 | DN16: 1.72 | DO16: 1.91 | DP16: 1.94 | DQ16: 2.09 | DR16: 1.84 | DS16: 1.935 | DT16: 2.01 | DU16: 1.88 | DV16: 1.675 | DW16: 1.84 | DX16: 1.9 | DY16: 1.84 | DZ16: 1.73 | EA16: 1.795 | EB16: 1.87 | EC16: 1.9
T17: 9 | U17: カリウムイオン(mg/L) | V17: 0.28 | W17: 0.29 | X17: 0.23 | Y17: 0.22 | Z17: 0.23 | AA17: 0.41 | AB17: 0.29 | AC17: 0.28 | AD17: 0.32 | AE17: 0.28 | AF17: 0.23 | AG17: 0.25 | AH17: 0.23 | AI17: 0.32 | AJ17: 0.34 | AK17: 0.2 | AL17: 0.29 | AM17: 0.3 | AN17: 0.29 | AO17: 0.34 | AP17: 0.34 | AQ17: 0.57 | AR17: 0.63 | AS17: 0.58 | AT17: 0.72 | AU17: 0.7 | AV17: 0.52 | AW17: 0.42 | AX17: 0.71 | AY17: 0.59 | AZ17: 0.61 | BA17: 0.63 | BB17: 0.81 | BC17: 0.67 | BD17: 0.49 | BE17: 0.58 | BF17: 0.38 | BG17: 0.34 | BH17: 0.23 | BI17: 0.25 | BJ17: 0.38 | BK17: 0.34 | BL17: 0.31 | BM17: 0.46 | BN17: 0.79 | BO17: 0.41 | BP17: 0.34 | BQ17: 0.49 | BR17: 0.313 | BS17: 0.318 | BT17: 0.294 | BU17: 0.47833333 | BV17: 0.615 | BW17: 0.38833333 | BX17: 0.12 | BY17: 0.41 | BZ17: 0.51166667 | CA17: 0.35833333 | CB17: 0.23666667 | CC17: 0.315 | CD17: 0.285 | CE17: 0.315 | CF17: 0.285 | CG17: 0.28 | CH17: 0.24 | CI17: 0.205 | CJ17: 0.18 | CK17: 0.375 | CL17: 0.58 | CM17: 0.385 | CN17: 0.22 | CO17: 0.37 | CP17: 0.305 | CQ17: 0.32 | CS17: 0.29 | CT17: 0.3 | CU17: 0.33 | CV17: 0.28 | CW17: 0.266 | CX17: 0.28466667 | CY17: 0.325 | CZ17: 0.25616667 | DA17: 0.2645 | DB17: 0.253 | DC17: 0.30283333 | DD17: 0.23933333 | DE17: 0.227 | DF17: 0.24783333 | DG17: 0.30633333 | DH17: 0.2175 | DI17: 0.19916667 | DJ17: 0.26066667 | DK17: 0.256 | DL17: 0.2055 | DM17: 0.195 | DN17: 0.24 | DO17: 0.265 | DP17: 0.21 | DQ17: 0.22 | DR17: 0.27 | DS17: 0.27 | DT17: 0.215 | DU17: 0.23 | DV17: 0.325 | DW17: 0.29 | DX17: 0.22 | DY17: 0.22 | DZ17: 0.285 | EA17: 0.295 | EB17: 0.25 | EC17: 0.28
T18: 10 | U18: カルシウムイオン(mg/L) | V18: 1.99 | W18: 2.06 | X18: 2.08 | Y18: 1.35 | Z18: 1.69 | AA18: 2.34 | AB18: 1.72 | AC18: 2.18 | AD18: 2.17 | AE18: 2.16 | AF18: 2.44 | AG18: 2.44 | AH18: 1.89 | AI18: 2.36 | AJ18: 2.82 | AK18: 2.78 | AL18: 2.67 | AM18: 2.81 | AN18: 3.06 | AO18: 3.07 | AP18: 2.24 | AQ18: 3.18 | AR18: 2.37 | AS18: 1.55 | AT18: 2.9 | AU18: 3.54 | AV18: 2.69 | AW18: 4.64 | AX18: 2.74 | AY18: 5.08 | AZ18: 9.36 | BA18: 8.04 | BB18: 6.67 | BC18: 7.62 | BD18: 6.18 | BE18: 3.54 | BF18: 3.04 | BG18: 4.1 | BH18: 2.96 | BI18: 3.04 | BJ18: 3.26 | BK18: 3.57 | BL18: 3.94 | BM18: 3.2 | BN18: 3.33 | BO18: 3.8 | BP18: 3.31 | BQ18: 3.55 | BR18: 2.8 | BS18: 3.14 | BT18: 3.26 | BU18: 3.1916667 | BV18: 3.5766667 | BW18: 4.05 | BX18: 3.2216667 | BY18: 3.1383333 | BZ18: 3.5766667 | CA18: 3.7133333 | CB18: 3.1233333 | CC18: 2.86 | CD18: 2.43 | CE18: 3.24 | CF18: 3.24 | CG18: 2.485 | CH18: 2.63 | CI18: 2.715 | CJ18: 3 | CK18: 3.215 | CL18: 3.66 | CM18: 3.37 | CN18: 2.82 | CO18: 2.32 | CP18: 3.085 | CQ18: 3 | CS18: 3.39 | CT18: 3.12 | CU18: 3.895 | CV18: 3.875 | CW18: 3.0986667 | CX18: 2.7331667 | CY18: 3.345 | CZ18: 3.8013333 | DA18: 2.9765 | DB18: 2.6498333 | DC18: 3.0943333 | DD18: 3.3943333 | DE18: 2.5338333 | DF18: 2.1621667 | DG18: 2.7285 | DH18: 3.0075 | DI18: 3.218 | DJ18: 2.6841667 | DK18: 2.703 | DL18: 3.598 | DM18: 2.66 | DN18: 2.385 | DO18: 2.695 | DP18: 3.39 | DQ18: 2.905 | DR18: 2.425 | DS18: 2.58 | DT18: 3.025 | DU18: 2.505 | DV18: 2.01 | DW18: 2.38 | DX18: 2.45 | DY18: 2.415 | DZ18: 1.825 | EA18: 2.11 | EB18: 2.365 | EC18: 2.405
T19: 11 | U19: マグネシウムイオン(mg/L) | V19: 1.16 | W19: 1.21 | X19: 1.27 | Y19: 1.19 | Z19: 0.96 | AA19: 1.14 | AB19: 1.11 | AC19: 1.15 | AD19: 1.11 | AE19: 1.12 | AF19: 1.14 | AG19: 1.15 | AH19: 0.97 | AI19: 1.17 | AJ19: 1.29 | AK19: 1.41 | AL19: 1.34 | AM19: 1.31 | AN19: 1.37 | AO19: 1.43 | AP19: 1.21 | AQ19: 1.45 | AR19: 1.48 | AS19: 1.45 | AT19: 1.48 | AU19: 1.29 | AV19: 1.48 | AW19: 1.27 | AX19: 1.27 | AY19: 1.7 | AZ19: 1.65 | BA19: 1.66 | BB19: 1.54 | BC19: 1.56 | BD19: 1.71 | BE19: 1.41 | BF19: 1.26 | BG19: 1.45 | BH19: 1.31 | BI19: 1.27 | BJ19: 1.28 | BK19: 1.38 | BL19: 1.41 | BM19: 1.38 | BN19: 1.42 | BO19: 1.34 | BP19: 1.38 | BQ19: 1.54 | BR19: 1.58 | BS19: 1.65 | BT19: 1.62 | BU19: 1.5083333 | BV19: 1.7066667 | BW19: 1.64 | BX19: 1.5683333 | BY19: 1.3033333 | BZ19: 1.4316667 | CA19: 1.4333333 | CB19: 1.32 | CC19: 1.36 | CD19: 1.245 | CE19: 1.42 | CF19: 1.425 | CG19: 1.215 | CH19: 1.2 | CI19: 1.215 | CJ19: 1.3 | CK19: 1.39 | CL19: 1.655 | CM19: 1.415 | CN19: 1.23 | CO19: 1.11 | CP19: 1.22 | CQ19: 1.36 | CS19: 1.485 | CT19: 1.34 | CU19: 1.505 | CV19: 1.49 | CW19: 1.4441667 | CX19: 1.3493333 | CY19: 1.4983333 | CZ19: 1.4995 | DA19: 1.3813333 | DB19: 1.3056667 | DC19: 1.3326667 | DD19: 1.381 | DE19: 1.201 | DF19: 1.0658333 | DG19: 1.2128333 | DH19: 1.23 | DI19: 1.2258333 | DJ19: 1.2253333 | DK19: 1.1518333 | DL19: 1.264 | DM19: 1.225 | DN19: 1.095 | DO19: 1.27 | DP19: 1.345 | DQ19: 1.27 | DR19: 1.195 | DS19: 1.27 | DT19: 1.25 | DU19: 1.17 | DV19: 1.035 | DW19: 1.115 | DX19: 1.17 | DY19: 1.11 | DZ19: 0.985 | EA19: 1.065 | EB19: 1.195 | EC19: 1.205
T20: 12 | U20: Chl-a (μg/L) | V20: 2.1 | W20: 2.2 | X20: 3.9 | Y20: 6.5 | Z20: 2.6 | AA20: 2.2 | AB20: 1.9 | AC20: 3.6 | AD20: 3.5 | AE20: 8.6 | AF20: 5.3 | AG20: 2.2 | AH20: 8 | AI20: 10.7 | AJ20: 11.7 | AK20: 6.6 | AL20: 2.3 | AM20: 8.7 | AN20: 5.2 | AO20: 2.1 | AP20: 5.8 | AQ20: 5.8 | AR20: 4.5 | AS20: 6.5 | AT20: 10 | AU20: 15.2 | AV20: 9.1 | AW20: 3.1 | AX20: 5.8 | AY20: 12.5 | AZ20: 7.3 | BA20: 7.5 | BB20: 3.1 | BC20: 8.5 | BD20: 3.6 | BE20: 3.9 | BF20: 5.7 | BG20: 3.1 | BH20: 4.4 | BI20: 3.7 | BJ20: 5.1 | BK20: 5.8 | BL20: 4.9 | BM20: 2.2 | BN20: 3.2 | BO20: 3.3 | BP20: 3.3 | BQ20: 2.2 | BR20: 3.2 | BS20: 3.3 | BT20: 3.3 | CC20: 0.8 | CD20: 0.5 | CE20: 0.6 | CF20: 0.7 | CG20: 1.6 | CH20: 1.25 | CI20: 3.7 | CJ20: 3.15 | CK20: 1.65 | CL20: 2.95 | CM20: 3.1 | CN20: 2.6 | CO20: 1.2 | CP20: 1.75 | CQ20: 0.9 | CS20: 1.9666667 | CT20: 3.55 | CU20: 14.9 | CV20: 4.75 | CW20: 1.6636333 | CX20: 4.45975 | CY20: 10.921483 | CZ20: 7.95925 | DA20: 1.0460667 | DB20: 0.7889 | DC20: 6.19805 | DD20: 6.75665 | DE20: 3.5050833 | DF20: 2.6416167 | DG20: 13.415967 | DH20: 10.726333 | DI20: 2.0053167 | DJ20: 5.5093 | DK20: 4.6379167 | DL20: 8.0420167 | DM20: 3.7 | DN20: 3.15 | DO20: 6.7 | DP20: 6.7 | DQ20: 4 | DR20: 4 | DS20: 5.75 | DT20: 4 | EB20: 2.6 | EC20: 0.33186667
T21: 13 | U21: 透明度(m) | BZ21: 2.2 | CC21: 3.01 | CH21: 2.82 | CK21: 3.7 | CL21: 3.5 | CM21: 1.6 | CN21: 3.2 | CO21: 3.4 | CP21: 1.5 | CQ21: 2.3 | CS21: 2.34 | CT21: 2.58 | CU21: 2.39 | CV21: 3.35 | CW21: 3.3 | CX21: 2.38 | CY21: 2.6 | CZ21: 2.6 | DA21: 2.87 | DC21: 2.17 | DD21: 3.08 | DE21: 2.9 | DF21: 2.9 | DG21: 1.4 | DH21: 1.9 | DI21: 1.99 | DJ21: 1.2 | DK21: 2.1 | DL21: 1.95 | DM21: 1.95 | DN21: 2.26 | DO21: 2.5 | DP21: 2.46 | DQ21: 2.78 | DR21: 3 | DS21: 2.18 | DT21: 1.55 | EB21: 2.15 | EC21: 7.35
T22: 14 | U22: 水色（外観） | BY22: 無色透明 | BZ22: 無色透明 | CA22: 無色透明 | CB22: 無色透明 | CC22: 無色透明 | CD22: 無色透明 | CE22: 無色透明 | CF22: 無色透明 | CG22: 無色透明 | CH22: 無色透明 | CI22: 無色透明 | CJ22: 無色透明 | CK22: 無色透明 | CL22: 無色透明 | CM22: 無色透明 | CN22: 無色透明 | CO22: 無色透明 | CP22: 無色透明 | CQ22: 無色透明 | CS22: 無色透明 | CT22: 無色透明 | CU22: 無色透明 | CV22: 無色透明 | CW22: 無色透明 | CX22: 無色透明 | CY22: 無色透明 | CZ22: 無色透明 | DA22: 無色透明 | DB22: 無色透明 | DC22: 無色透明 | DD22: 無色透明 | DE22: - | DF22: - | DG22: - | DH22: - | DQ22: 無色透明 | DR22: 無色透明 | DS22: 無色透明 | DT22: 無色透明 | EB22: 無色透明 | EC22: 無色透明
T23: 15 | U23: DOC (mg/L) | V23: 1 | W23: 1.2 | X23: 1.1 | Y23: 1.2 | Z23: 1 | AA23: 2.1 | AB23: 1.4 | AC23: 0.7 | AD23: 1 | AE23: 1.2 | AF23: 1 | AG23: 1 | AH23: 1.2 | AI23: 1 | AJ23: 1.5 | AK23: 1.2 | AL23: 1.2 | AM23: 1.4 | AN23: 1.1 | AO23: 1.6 | AP23: 1.1 | AQ23: 1.1 | AR23: 0.7 | AS23: 1.6 | AT23: 1.7 | AU23: 0.9 | AV23: 1.2 | AW23: 1.1 | AX23: 1.6 | AY23: 1.8 | AZ23: 1.7 | BA23: 1.7 | BB23: 2 | BC23: 1.7 | BD23: 1.4 | BE23: 1.6 | BF23: 3.6 | BG23: 2.3 | BH23: 1.6 | BI23: 1.2 | BJ23: 1.5 | BK23: 1.8 | BL23: 1.5 | BZ23: 3.18 | CC23: 1.3 | CD23: 2.05 | CE23: 1.2 | CF23: 1.05 | CG23: 1.55 | CH23: 1 | CI23: 0.95 | CJ23: 1 | CK23: 0.65 | CL23: 0.7 | CM23: 0.7 | CN23: 0.9 | CO23: 0.7 | CP23: 0.75 | CQ23: 0.4 | CS23: 1 | CW23: 0.78019173 | DA23: 0.72705865 | DE23: 0.48871447 | DI23: 0.82522556 | DM23: 0.5 | DQ23: 0.5 | EB23: 0.6
T24: 16 | U24: NO2- (mg/L) | BI24: 0 | BJ24: 0 | BK24: 0 | BL24: 0 | BY24: <0.01*4 | BZ24: <0.01*4 | CA24: <0.01*4 | CB24: <0.01*4 | CC24: <0.03*4 | CD24: <0.03*4 | CE24: <0.03*4 | CF24: <0.03*4 | CG24: <0.02*4 | CH24: <0.02*4 | CI24: <0.02*4 | CJ24: <0.02*4 | CK24: 0.065 | CL24: 0.1 | CM24: 0.105 | CN24: <0.02*3 | CO24: <0.02*3 | CP24: <0.02*3 | CQ24: <0.02*3 | CS24: 0.02 | CT24: <0.02*1 | CU24: <0.02*1 | CV24: <0.02*1 | CW24: 0.0098333333 | CX24: 0.0096666667 | CY24: 0.01 | CZ24: <0.01*1 | DA24: 0.0083333333 | DB24: 0.0105 | DC24: <0.01*1 | DD24: <0.01*1 | DE24: <0.01 | DF24: <0.01 | DG24: <0.01 | DH24: <0.01 | DI24: <0.01 | DJ24: <0.01 | DK24: <0.01 | DL24: <0.01 | DM24: <0.01 | DN24: <0.01 | DO24: <0.01 | DP24: <0.01 | DQ24: <0.01 | DR24: 0.01 | DS24: <0.01 | DT24: <0.01 | EB24: <0.01 | EC24: <0.01
T25: 17 | U25: PO43- (mg/L) | V25: 0.02 | W25: 0.01 | Y25: 0.01 | AB25: 0.01 | AP25: 0.02 | BB25: 0.01 | BF25: 0.01 | BI25: 0.001 | BJ25: 0.005 | BK25: 0.004 | BL25: 0.005 | BM25: 0.008 | BN25: 0.004 | BO25: 0.003 | BP25: 0.003 | BQ25: <0.01 | BR25: <0.01 | BS25: <0.01 | BT25: <0.01 | BV25: <0.01 | BY25: <0.066*4 | BZ25: <0.066*4 | CA25: <0.066*4 | CB25: <0.066*4 | CC25: <0.01*4 | CD25: <0.01*4 | CE25: <0.01*4 | CF25: <0.01*4 | CG25: <0.03*4 | CH25: <0.03*4 | CI25: <0.03*4 | CJ25: <0.03*4 | CK25: <0.03*3 | CL25: <0.03*3 | CM25: <0.03*3 | CN25: <0.03*3 | CO25: <0.1*3 | CP25: <0.1*3 | CQ25: <0.1*3 | CS25: <0.1*1 | CW25: <0.1*1 | DA25: <0.1*1 | DE25: <0.1 | DI25: <0.1 | DM25: <0.1 | DQ25: <0.1 | EB25: <0.1
T26: 18 | U26: 動物プランクトン
T27: 19 | U27: 植物プランクトン
T28: 20 | U28: Al３+ (mg/L) | BI28: 0.003 | BJ28: <0 | BK28: 0.003 | BL28: <0 | BM28: 0.002 | BN28: 0.002 | BO28: 0.008 | BP28: 0.009 | BQ28: <0.01 | BR28: <0.01 | BS28: <0.01 | BT28: <0.01
T29: 21 | U29: COD (mg/L) | BI29: 1.3 | BJ29: 1.8 | BK29: 1.7 | BL29: 1.1 | BM29: 1.5 | BN29: 1.8 | BO29: 2.6 | BP29: 2.7 | BQ29: 1.8 | BR29: 2.3 | BS29: 2.6 | BT29: 2.6
T30: 22 | U30: Fe3+ (mg/L)
T31: 23 | U31: Mn2+ (mg/L)
T32: 24 | U32: TOC (mg/L)
T33: 25 | U33: TN (mg/L)
T34: 26 | U34: TP (mg/L)
T35: 27 | U35: DO (mg/L) | CO35: 13.02 | CP35: 8.35 | CQ35: 9.53 | CS35: 9.44 | CT35: 9.52 | CU35: 10.8 | CV35: 12 | CW35: 10.53 | CX35: 10.0562 | CY35: 10.56 | CZ35: 13.34081 | DA35: 10.613333 | DB35: 9.09 | DC35: 8.387616 | DD35: 12.328834 | DE35: 11.594 | DF35: 8.65 | DG35: 9.8527333 | DH35: 11.864133 | DI35: 10.586 | DJ35: 9.4266667 | DK35: 8.9553333 | DL35: 12.7866 | DM35: 11.5 | DN35: 9.23 | DO35: 9.79 | DP35: 9.79 | DQ35: 10.55 | DR35: 9.01 | DS35: 9.2 | DT35: 11.43 | EB35: 11.12 | EC35: 11.13
EB38: 10.29 | EC38: 8.22
EB39: 108.06608 | EC39: 135.40146
EB44: 0.01 | EC44: 0.01
EB45: 0.1

Sheet (9)Phi-2016 (2)
B1: Table 6.4.9 Result of Inland Aquatic Environment Monitoring
B3: Duration: | C3: 2019.4.-2019.12
B4: Country: | C4: Philippines
B5: Lake/Stream: | C5: (See below)
D7: Mandatory Parameters: 4 times/year
B8: Site | C8: Sampling | D8: Temp. | E8: pH | F8: EC | G8: Alkalinity | H8: SO42- | I8: NO3- | J8: Cl- | K8: NH4+ | L8: Na+ | M8: K+ | N8: Ca2+ | O8: Mg2+
C9: Date | D9: (oC) | F9: (mS/m) | G9: (meq/L) | H9: (mg/L) | I9: (mg/L) | J9: (mg/L) | K9: (mg/L) | L9: (mg/L) | M9: (mg/L) | N9: (mg/L) | O9: (mg/L)
B10: Ambulalakaw Lake | C10: - | D10: - | E10: - | F10: - | G10: - | H10: - | I10: - | J10: - | K10: - | L10: - | M10: - | N10: - | O10: -
C11: - | D11: - | E11: - | F11: - | G11: - | H11: - | I11: - | J11: - | K11: - | L11: - | M11: - | N11: - | O11: -
C12: - | D12: - | E12: - | F12: - | G12: - | H12: - | I12: - | J12: - | K12: - | L12: - | M12: - | N12: - | O12: -
C13: - | D13: - | E13: - | F13: - | G13: - | H13: - | I13: - | J13: - | K13: - | L13: - | M13: - | N13: - | O13: -
C14: mean*1 | D14: - | E14: - | F14: - | G14: - | H14: - | I14: - | J14: - | K14: - | L14: - | M14: - | N14: - | O14: -
B15: Pandin Lake | C15: 43581 | D15: - | E15: 9.34 | F15: 18.3 | G15: 1.79 | H15: 0.68567305 | I15: 0.035083604 | J15: 4.1112795 | K15: 0 | L15: 8.2407902 | M15: 4.51521 | N15: 23.107925 | O15: 6.5788409
C16: 43727 | D16: - | E16: 8.34 | F16: 17.6 | G16: 1.66 | H16: 0.97169649 | I16: 0.029989449 | J16: 3.9084219 | K16: 0 | L16: 7.6805563 | M16: 3.6957588 | N16: 10.353993 | O16: 7.079729
C17: 43825 | D17: 17.1 | E17: 8.41 | F17: 18.2 | G17: 1.65 | H17: 0.88367504 | I17: 0.022224067 | J17: 3.7449099 | K17: 0.0082257649 | L17: 8.2264809 | M17: 3.8445133 | N17: 17.486329 | O17: 7.2084475
C18: mean*1 | D18: - | E18: =-LOG((10^(-E15)+10^(-E16)+10^(-E17)+10^(-#REF!))/4) -> #REF! | F18: =AVERAGE(F15:F17) -> 18.033333 | G18: =AVERAGE(G15:G17) -> 1.79 | H18: =AVERAGEA(H15:H17) -> 0.84701486 | I18: =AVERAGEA(I15:I17) -> 0.02909904 | J18: =AVERAGE(J15:J17) -> 3.9215371 | K18: =AVERAGE(K15:K17) -> 0.0027419216 | L18: =AVERAGE(L15:L17) -> 8.0492758 | M18: =AVERAGE(M15:M17) -> 4.018494 | N18: =AVERAGE(N15:N17) -> 16.982749 | O18: =AVERAGE(O15:O17) -> 6.9556725
D20: Mandatory Parameters: Once/year | G20: Optional Parameters
B21: Site | C21: Sampling | D21: Transparency | E21: PO43- | F21: NO2- | G21: DO
C22: Date | D22: (m) | E22: (mg/L) | F22: (mg/L) | G22: (mg/L)
B23: Ambulalakaw Lake | C23: - | D23: - | E23: - | F23: - | G23: -
C24: - | D24: - | E24: - | F24: - | G24: -
C25: - | D25: - | E25: - | F25: - | G25: -
C26: - | D26: - | E26: - | F26: - | G26: -
C27: mean*1 | D27: - | E27: - | F27: - | G27: -
B28: Pandin Lake | C28: =C15 -> 43581 | E28: 0.2544962 | F28: 0 | G28: -
C29: =C16 -> 43727 | E29: 0.36456837 | F29: 0 | G29: -
C30: =C17 -> 43825 | E30: 0.11383711 | F30: 0 | G30: -
C31: mean*1 | D31: - | E31: =AVERAGE(E28:E30) -> 0.24430056 | F31: =AVERAGE(F28:F30) -> 0 | G31: -
B32: note
B33: - : No analysis or measurement.
B34: *1: Mean of pH takes an average of hydrogen ion.
D38: Anion | E38: Cation | F38: R1 | G38: Judge | I38: Λcalc | J38: R2 | K38: Judge
B39: Ambulalakaw Lake | C39: =C10 -> - | D39: =+(N(H10)/48.03+N(I10)/62.01+J10/35.45+N(G10)+N(E23)/31.66+N(F23)/46.01)*1000 -> #VALUE! | E39: =10^(6-E10)+(N(K10)/18.04+L10/22.99+M10/39.1+N(N10)/20.04+N(O10)/12.16)*1000 -> #VALUE! | F39: =100*(E39-D39)/(E39+D39) -> #VALUE! | G39: × | I39: =(349.7*10^(3-E10)+(80*N(H10)/48.03+71.5*N(I10)/62.01+76.3*J10/35.45+73.5*N(K10)/18.04+50.1*L10/22.99+73.5*M10/39.1+59.8*N(N10)/20.04+53.3*N(O10)/12.16+44.5*N(G10)+69*N(E23)/31.66+71.8*N(F23)/46.01))*1/10 -> #VALUE! | J39: =100*(I39-F10)/(I39+F10) -> #VALUE! | K39: Օ
C40: =C11 -> - | D40: =+(N(H11)/48.03+N(I11)/62.01+J11/35.45+N(G11)+N(E24)/31.66+N(F24)/46.01)*1000 -> #VALUE! | E40: =10^(6-E11)+(N(K11)/18.04+L11/22.99+M11/39.1+N(N11)/20.04+N(O11)/12.16)*1000 -> #VALUE! | F40: =100*(E40-D40)/(E40+D40) -> #VALUE! | G40: × | I40: =(349.7*10^(3-E11)+(80*N(H11)/48.03+71.5*N(I11)/62.01+76.3*J11/35.45+73.5*N(K11)/18.04+50.1*L11/22.99+73.5*M11/39.1+59.8*N(N11)/20.04+53.3*N(O11)/12.16+44.5*N(G11)+69*N(E24)/31.66+71.8*N(F24)/46.01))*1/10 -> #VALUE! | J40: =100*(I40-F11)/(I40+F11) -> #VALUE! | K40: Օ
C41: =C12 -> - | D41: =+(N(H12)/48.03+N(I12)/62.01+J12/35.45+N(G12)+N(E25)/31.66+N(F25)/46.01)*1000 -> #VALUE! | E41: =10^(6-E12)+(N(K12)/18.04+L12/22.99+M12/39.1+N(N12)/20.04+N(O12)/12.16)*1000 -> #VALUE! | F41: =100*(E41-D41)/(E41+D41) -> #VALUE! | G41: × | I41: =(349.7*10^(3-E12)+(80*N(H12)/48.03+71.5*N(I12)/62.01+76.3*J12/35.45+73.5*N(K12)/18.04+50.1*L12/22.99+73.5*M12/39.1+59.8*N(N12)/20.04+53.3*N(O12)/12.16+44.5*N(G12)+69*N(E25)/31.66+71.8*N(F25)/46.01))*1/10 -> #VALUE! | J41: =100*(I41-F12)/(I41+F12) -> #VALUE! | K41: Օ
C42: =C13 -> - | D42: =+(N(H13)/48.03+N(I13)/62.01+J13/35.45+N(G13)+N(E26)/31.66+N(F26)/46.01)*1000 -> #VALUE! | E42: =10^(6-E13)+(N(K13)/18.04+L13/22.99+M13/39.1+N(N13)/20.04+N(O13)/12.16)*1000 -> #VALUE! | F42: =100*(E42-D42)/(E42+D42) -> #VALUE! | G42: × | I42: =(349.7*10^(3-E13)+(80*N(H13)/48.03+71.5*N(I13)/62.01+76.3*J13/35.45+73.5*N(K13)/18.04+50.1*L13/22.99+73.5*M13/39.1+59.8*N(N13)/20.04+53.3*N(O13)/12.16+44.5*N(G13)+69*N(E26)/31.66+71.8*N(F26)/46.01))*1/10 -> #VALUE! | J42: =100*(I42-F13)/(I42+F13) -> #VALUE! | K42: Օ
B43: Pandin Lake | C43: =C15 -> 43581 | D43: =+(N(H15)/48.03+N(I15)/62.01+J15/35.45+N(G15)+N(E28)/31.66+N(F28)/46.01)*1000 -> 1928.8542 | E43: =10^(6-E15)+(N(K15)/18.04+L15/22.99+M15/39.1+N(N15)/20.04+N(O15)/12.16)*1000 -> 2168.0432 | F43: =100*(E43-D43)/(E43+D43) -> 5.8382972 | G43: Օ | I43: =(349.7*10^(3-E15)+(80*N(H15)/48.03+71.5*N(I15)/62.01+76.3*J15/35.45+73.5*N(K15)/18.04+50.1*L15/22.99+73.5*M15/39.1+59.8*N(N15)/20.04+53.3*N(O15)/12.16+44.5*N(G15)+69*N(E28)/31.66+71.8*N(F28)/46.01))*1/10 -> 21.447854 | J43: =100*(I43-F15)/(I43+F15) -> 7.9195577 | K43: Օ
C44: =C16 -> 43727 | D44: =+(N(H16)/48.03+N(I16)/62.01+J16/35.45+N(G16)+N(E29)/31.66+N(F29)/46.01)*1000 -> 142.48144 | E44: =10^(6-E16)+(N(K16)/18.04+L16/22.99+M16/39.1+N(N16)/20.04+N(O16)/12.16)*1000 -> 1527.4886 | F44: =100*(E44-D44)/(E44+D44) -> 82.936049 | G44: Օ | I44: =(349.7*10^(3-E16)+(80*N(H16)/48.03+71.5*N(I16)/62.01+76.3*J16/35.45+73.5*N(K16)/18.04+50.1*L16/22.99+73.5*M16/39.1+59.8*N(N16)/20.04+53.3*N(O16)/12.16+44.5*N(G16)+69*N(E29)/31.66+71.8*N(F29)/46.01))*1/10 -> 9.647489 | J44: =100*(I44-F16)/(I44+F16) -> -29.186216 | K44: Օ
C45: =C17 -> 43825 | D45: =+(N(H17)/48.03+N(I17)/62.01+J17/35.45+N(G17)+N(E30)/31.66+N(F30)/46.01)*1000 -> 127.99161 | E45: =10^(6-E17)+(N(K17)/18.04+L17/22.99+M17/39.1+N(N17)/20.04+N(O17)/12.16)*1000 -> 1921.9849 | F45: =100*(E45-D45)/(E45+D45) -> 87.51287 | G45: Օ | I45: =(349.7*10^(3-E17)+(80*N(H17)/48.03+71.5*N(I17)/62.01+76.3*J17/35.45+73.5*N(K17)/18.04+50.1*L17/22.99+73.5*M17/39.1+59.8*N(N17)/20.04+53.3*N(O17)/12.16+44.5*N(G17)+69*N(E30)/31.66+71.8*N(F30)/46.01))*1/10 -> 11.877086 | J45: =100*(I45-F17)/(I45+F17) -> -21.022364 | K45: Օ
B47: note
B48: # Concerning "×" judging, it was not able to specify the main reasons.
