Workbook

Sheet (1)Chi-2024
B1: Table 6.4.1 Result of Inland Aquatic Environment Monitoring
B3: Duration: | C3: 2024.1-2024.12
B4: Country: | C4: China
B5: Lake/Stream: | C5: (See below)
H7: Mandatory Parameters : 4 times/year
B8: Site | C8: Sampling | D8: Temp. | E8: pH | F8: EC | G8: Alkalinity | H8: SO42- | I8: NO3- | J8: Cl- | K8: NH4+ | L8: Na+ | M8: K+ | N8: Ca2+ | O8: Mg2+
C9: Date | D9: (oC) | F9: (mS/m) | G9: (meq/L) | H9: (mg/L) | I9: (mg/L) | J9: (mg/L) | K9: (mg/L) | L9: (mg/L) | M9: (mg/L) | N9: (mg/L) | O9: (mg/L)
B10: Chongqing | C10: 23-Mar-24*3 | S10: 23-Mar-24*3
B11: -Jinyunshan Lake | C11: 45450 | D11: 20 | E11: 6.28 | F11: 9.98 | G11: 0.1069 | H11: 22.21 | I11: 11.08 | J11: 1.58 | K11: 0.01 | L11: 2.16 | M11: 1.97 | N11: 9.29 | O11: 3.01
C12: 45551 | D12: 29 | E12: 6.39 | F12: 10.04 | G12: 0.1079 | H12: 21.06 | I12: 7.64 | J12: 1.7 | K12: 0.09 | L12: 2.09 | M12: 2.21 | N12: 8.87 | O12: 2.98 | S12: 45290
C13: 45624 | D13: 15 | E13: 6.59 | F13: 10.12 | G13: 0.3124 | H13: 21.93 | I13: 4.88 | J13: 1.84 | K13: 0.18 | L13: 2.2 | M13: 2.27 | N13: 10.01 | O13: 3.65
C14: mean*2 | D14: =AVERAGEA(D10:D13) -> 21.333333 | E14: =-LOG((10^(-E11)+10^(-E12)+10^(-E13))/3) -> 6.4018564 | F14: =AVERAGEA(F10:F13) -> 10.046667 | G14: =AVERAGEA(G10:G13) -> 0.17573333 | H14: =AVERAGEA(H10:H13) -> 21.733333 | I14: =AVERAGEA(I10:I13) -> 7.8666667 | J14: =AVERAGEA(J10:J13) -> 1.7066667 | K14: =AVERAGEA(K10:K13) -> 0.093333333 | L14: =AVERAGEA(L10:L13) -> 2.15 | M14: =AVERAGEA(M10:M13) -> 2.15 | ... O14: =AVERAGEA(O10:O13) -> 3.2133333
B15: Xiamen | C15: 45295 | D15: 15.2 | E15: 7.41 | F15: 4.78 | G15: 0.233 | H15: 2.52 | I15: 3.16 | J15: 2.1 | K15: 0.033 | L15: 3.55 | M15: 2.76 | N15: 3.33 | O15: 0.571
B16: -Xiaoping Dam | C16: 45385 | D16: 21.6 | E16: 7.69 | F16: 6.23 | G16: 0.252 | H16: 2.29 | I16: 2.99 | J16: 3.78 | K16: 0.02 | L16: 4.52 | M16: 3.09 | N16: 3.54 | O16: 0.779
C17: 45481 | D17: 28.5 | E17: 7.63 | F17: 5.36 | G17: 0.196 | H17: 2.56 | I17: 3.36 | J17: 3.86 | K17: 0.12 | L17: 4.96 | M17: 1.89 | N17: 2.42 | O17: 0.52
C18: 45601 | D18: 21.8 | E18: 7.52 | F18: 5.21 | G18: 0.207 | H18: 1.67 | I18: 2.65 | J18: 2.83 | K18: 0.02 | L18: 3.92 | M18: 2.69 | N18: 2.82 | O18: 0.48
C19: mean*2 | D19: =AVERAGEA(D15:D18) -> 21.775 | E19: =-LOG((10^(-E15)+10^(-E16)+10^(-E17)+10^(-E18))/4) -> 7.5491211 | F19: =AVERAGEA(F15:F18) -> 5.395 | G19: =AVERAGEA(G15:G18) -> 0.222 | H19: =AVERAGEA(H15:H18) -> 2.26 | I19: =AVERAGEA(I15:I18) -> 3.04 | J19: =AVERAGEA(J15:J18) -> 3.1425 | K19: =AVERAGEA(K15:K18) -> 0.04825 | L19: =AVERAGEA(L15:L18) -> 4.2375 | M19: =AVERAGEA(M15:M18) -> 2.6075 | ... O19: =AVERAGEA(O15:O18) -> 0.5875
B20: Xi'an | C20: 45368 | D20: 6 | E20: 7.43 | F20: 6.24 | G20: 0.31 | H20: 5.338 | I20: 2.21 | J20: 0.718 | K20: 0.798 | L20: 1.879 | M20: 0.507 | N20: 7.131 | O20: 0.497
B21: -Jiwozi River | C21: 45406 | D21: 7 | E21: 7.35 | F21: 5.39 | G21: 0.36 | H21: 4.441 | I21: 3.967 | J21: 0.624 | K21: 0.046 | L21: 1.799 | M21: 0.972 | N21: 7.49 | O21: 1.121
C22: 45481 | D22: 19 | E22: 6.85 | F22: 4.63 | G22: 0.15 | H22: 6.476 | I22: 2.583 | J22: 0.482 | K22: 0.147 | L22: 0.411 | M22: 0.517 | N22: 5.387 | O22: 0.284
C23: 45636 | D23: 6 | E23: 7.01 | F23: 6.63 | G23: 0.2 | H23: 6.046 | I23: 5.294 | J23: 1.298 | K23: 4.453 | L23: 0.918 | M23: 0.494 | N23: 3.441 | O23: 0.291
C24: mean*2 | D24: =AVERAGEA(D20:D23) -> 9.5 | E24: =-LOG((10^(-E20)+10^(-E21)+10^(-E22)+10^(-E23))/4) -> 7.0958265 | F24: =AVERAGEA(F20:F23) -> 5.7225 | G24: =AVERAGEA(G20:G23) -> 0.255 | H24: =AVERAGEA(H20:H23) -> 5.57525 | I24: =AVERAGEA(I20:I23) -> 3.5135 | J24: =AVERAGEA(J20:J23) -> 0.7805 | K24: =AVERAGEA(K20:K23) -> 1.361 | L24: =AVERAGEA(L20:L23) -> 1.25175 | M24: =AVERAGEA(M20:M23) -> 0.6225 | ... O24: =AVERAGEA(O20:O23) -> 0.54825
B25: Zhuhai | C25: 45294 | D25: 18.4 | E25: 7.7 | F25: 7.17 | G25: 0.48 | H25: 1.96 | I25: 2.36 | J25: 5.73 | K25: <0.02*1 | L25: 7.98 | M25: 1.23 | N25: 4.12 | O25: 1.62
B26: -Zhuxiandong | C26: 45384 | D26: 24.6 | E26: 6.85 | F26: 7.44 | G26: 0.474 | H26: 1.43 | I26: 1.35 | J26: 5.2 | K26: <0.02*1 | L26: 9.59 | M26: 1.35 | N26: 3.88 | O26: 1.27
B27: Stream | C27: 45475 | D27: 26.2 | E27: 7.42 | F27: 7.46 | G27: 0.413 | H27: 1.84 | I27: 2.67 | J27: 5.7 | K27: <0.02*1 | L27: 7.83 | M27: 1.49 | N27: 4.22 | O27: 1.85
C28: 45600 | D28: 22 | E28: 7.29 | F28: 6.66 | G28: 0.42 | H28: 1.58 | I28: 2.42 | J28: 6.56 | K28: <0.02*1 | L28: 7.74 | M28: 1.12 | N28: 3.6 | O28: 1.62
C29: mean*2 | D29: =AVERAGEA(D25:D28) -> 22.8 | E29: =-LOG((10^(-E25)+10^(-E26)+10^(-E27)+10^(-E28))/4) -> 7.2032324 | F29: =AVERAGEA(F25:F28) -> 7.1825 | G29: =AVERAGEA(G25:G28) -> 0.44675 | H29: =AVERAGEA(H25:H28) -> 1.7025 | I29: =AVERAGEA(I25:I28) -> 2.2 | J29: =AVERAGEA(J25:J28) -> 5.7975 | K29: <0.02*1 | L29: =AVERAGEA(L25:L28) -> 8.285 | M29: =AVERAGEA(M25:M28) -> 1.2975 | N29: =AVERAGEA(N25:N28) -> 3.955 | O29: =AVERAGEA(O25:O28) -> 1.59
D31: Mandatory Parameters : Once /year
B32: Site | C32: Sampling | D32: Transparency | E32: Water Color | F32: PO43- | G32: NO2- | H32: COD
C33: Date | D33: (m) | F33: (mg/l) | G33: (mg/l) | H33: (mg/l)
B34: Chongqing | C34: =C10 -> 23-Mar-24*3 | D34: - | E34: - | F34: - | G34: - | H34: -
B35: -Jinyunshan Lake | C35: =C11 -> 45450 | D35: 1.5 | E35: - | F35: - | G35: - | H35: -
C36: =C12 -> 45551 | D36: 2.6 | E36: - | F36: - | G36: - | H36: -
C37: =C13 -> 45624 | D37: 0.72 | E37: - | F37: - | G37: - | H37: -
C38: mean | D38: =AVERAGEA(D35:D37) -> 1.6066667 | E38: - | F38: - | G38: - | H38: -
B39: Xiamen | C39: =C15 -> 45295 | D39: 1.7 | E39: - | F39: - | G39: 0.039 | H39: 4
B40: -Xiaoping Dam | C40: =C16 -> 45385 | D40: 0.8 | E40: - | F40: - | G40: 0.036 | H40: 4
C41: =C17 -> 45481 | D41: 0.9 | E41: - | F41: - | G41: 0.018 | H41: 6
C42: =C18 -> 45601 | D42: 1.2 | E42: - | F42: 0.007 | G42: 0.012 | H42: 9
C43: mean | D43: =AVERAGEA(D39:D42) -> 1.15 | E43: - | F43: 0.007 | G43: =AVERAGEA(G39:G42) -> 0.02625 | H43: =AVERAGEA(H39:H42) -> 5.75
...

Sheet (2)Iji-2024
B1: Table 6.4.2 Result of Inland Aquatic Environment Monitoring
B3: Duration: | C3: 2024.5-2025.1
B4: Country: | C4: Japan
B5: Lake/Stream: | C5: Ijira Lake
D7: Mandatory Parameters : 4times/year
C8: Sampling | D8: Temp. | E8: pH | F8: EC | G8: Alkalinity | H8: Gran's ANC | I8: SO42- | J8: NO3- | K8: Cl- | L8: NH4+ | M8: Na+ | N8: K+ | O8: Ca2+ | P8: Mg2+
C9: Date | D9: (℃) | F9: (mS/m) | G9: (meq/L) | H9: (meq/L) | I9: (mg/L) | J9: (mg/L) | K9: (mg/L) | L9: (mg/L) | M9: (mg/L) | N9: (mg/L) | O9: (mg/L) | P9: (mg/L)
B10: Center | C10: 45434 | D10: 19 | E10: 7.1216345 | F10: 3.47 | G10: 0.161 | H10: 0.1465 | I10: 4.52 | J10: 0.425 | K10: 1.665 | L10: <0.01*1 | M10: 1.84 | N10: 0.255 | O10: 2.515 | P10: 1.195
B11: (Surface) | C11: 45497 | D11: 25.5 | E11: 7.3816281 | F11: 3.29 | G11: 0.1605 | H11: 0.1475 | I11: 4.11 | J11: 0.35 | K11: 1.53 | L11: <0.01*1 | M11: 1.76 | N11: 0.245 | O11: 2.375 | P11: 1.14
C12: 45587 | D12: 20.9 | E12: 6.9513366 | F12: 3.685 | G12: 0.1775 | H12: 0.1635 | I12: 4.3 | J12: 0.83 | K12: 1.57 | L12: <0.01*1 | M12: 1.88 | N12: 0.27 | O12: 2.78 | P12: 1.23
C13: 45679 | D13: 6.8 | E13: 7.1381191 | F13: 3.885 | G13: 0.1705 | H13: 0.1635 | I13: 5.135 | J13: 0.74 | K13: 1.795 | L13: <0.01*1 | M13: 1.91 | N13: 0.22 | O13: 3.05 | P13: 1.21
C14: mean*2 | D14: 18.05 | E14: 7.1224576 | F14: 3.5825 | G14: 0.167375 | H14: 0.15525 | I14: 4.51625 | J14: 0.58625 | K14: 1.64 | L14: <0.01*1 | M14: 1.8475 | N14: 0.2475 | O14: 2.68 | P14: 1.19375
B15: Center | C15: =C10 -> 45434 | D15: 15.4 | E15: 6.7052498 | F15: 3.555 | G15: 0.1625 | H15: 0.145 | I15: 4.465 | J15: 0.615 | K15: 1.65 | L15: 0.025 | M15: 1.83 | N15: 0.25 | O15: 2.59 | P15: 1.23
B16: (near bottom) | C16: =C11 -> 45497 | D16: 18.7 | E16: 6.4924507 | F16: 3.495 | G16: 0.188 | H16: 0.173 | I16: 3.465 | J16: 0.18 | K16: 1.54 | L16: 0.05 | M16: 1.705 | N16: 0.32 | O16: 2.575 | P16: 1.2
C17: =C12 -> 45587 | D17: 19.7 | E17: 6.7628387 | F17: 3.91 | G17: 0.1975 | H17: 0.1785 | I17: 4.29 | J17: 0.815 | K17: 1.6 | L17: 0.11 | M17: 1.895 | N17: 0.305 | O17: 2.895 | P17: 1.325
C18: =C13 -> 45679 | D18: 6.4 | E18: 7.127822 | F18: 3.9 | G18: 0.1685 | H18: 0.1785 | I18: 5.135 | J18: 0.74 | K18: 1.79 | L18: <0.01*1 | M18: 1.91 | N18: 0.22 | O18: 3.06 | P18: 1.21
C19: mean*2 | D19: 15.05 | E19: 6.717801 | F19: 3.715 | G19: 0.179125 | H19: 0.16875 | I19: 4.33875 | J19: 0.5875 | K19: 1.645 | L19: 0.04625 | M19: 1.835 | N19: 0.27375 | O19: 2.78 | P19: 1.24125
B20: Kamagatani River | C20: =C10 -> 45434 | D20: 15.6 | E20: 7.0860025 | F20: 3.76 | G20: 0.1535 | H20: 0.1345 | I20: 5.565 | J20: 0.89 | K20: 1.68 | L20: <0.01*1 | M20: 1.945 | N20: 0.25 | O20: 2.605 | P20: 1.35
B21: (Input) | C21: =C11 -> 45497 | D21: 20.8 | E21: 7.1429634 | F21: 3.67 | G21: 0.155 | H21: 0.1405 | I21: 4.835 | J21: 1.115 | K21: 1.62 | L21: <0.01*1 | M21: 1.85 | N21: 0.285 | O21: 2.53 | P21: 1.285
C22: =C12 -> 45587 | D22: 20.8 | E22: 7.1260424 | F22: 3.975 | G22: 0.1545 | H22: 0.14 | I22: 5.745 | J22: 1.45 | K22: 1.69 | L22: <0.01*1 | M22: 2 | N22: 0.27 | O22: 2.765 | P22: 1.37
C23: =C13 -> 45679 | D23: 8 | E23: 7.1290507 | F23: 3.99 | G23: 0.1345 | H23: 0.14 | I23: 6.62 | J23: 1.17 | K23: 1.74 | L23: <0.01*1 | M23: 1.95 | N23: 0.2 | O23: 2.71 | P23: 1.395
C24: mean*2 | D24: 16.3 | E24: 7.1204905 | F24: 3.84875 | G24: 0.149375 | H24: 0.13875 | I24: 5.69125 | J24: 1.15625 | K24: 1.6825 | L24: <0.01*1 | M24: 1.93625 | N24: 0.25125 | O24: 2.6525 | P24: 1.35
B25: Kobora River | C25: =C10 -> 45434 | D25: 16.5 | E25: 7.0293154 | F25: 3.305 | G25: 0.1415 | H25: 0.111 | I25: 4.42 | J25: 0.6 | K25: 1.72 | L25: <0.01*1 | M25: 2.175 | N25: 0.245 | O25: 1.79 | P25: 1.25
B26: (Input) | C26: =C11 -> 45497 | D26: 21.4 | E26: 7.0190544 | F26: 3.17 | G26: 0.132 | H26: 0.112 | I26: 3.72 | J26: 1.09 | K26: 1.66 | L26: <0.01*1 | M26: 2.085 | N26: 0.28 | O26: 1.675 | P26: 1.15
C27: =C12 -> 45587 | D27: 21.4 | E27: 6.9755647 | F27: 3.395 | G27: 0.132 | H27: 0.1135 | I27: 4.36 | J27: 1.33 | K27: 1.75 | L27: <0.01*1 | M27: 2.205 | N27: 0.25 | O27: 1.82 | P27: 1.235
C28: =C13 -> 45679 | D28: 7.4 | E28: 7.0029727 | F28: 3.45 | G28: 0.126 | H28: 0.1135 | I28: 4.95 | J28: 0.925 | K28: 1.81 | L28: <0.01*1 | M28: 2.17 | N28: 0.18 | O28: 1.835 | P28: 1.28
C29: mean*2 | D29: 16.675 | E29: 7.006249 | F29: 3.33 | G29: 0.132875 | H29: 0.1125 | I29: 4.3625 | J29: 0.98625 | K29: 1.735 | L29: <0.01*1 | M29: 2.15875 | N29: 0.23875 | O29: 1.78 | P29: 1.22875
D31: Mandatory Parameters : Once/year | K31: Optional Parameters
B32: Site | C32: Sampling | D32: Transparency | E32: Water Color | F32: Water Color | H32: PO43- | I32: NO2- | J32: DOC | K32: Chl-a
C33: Date | D33: (m) | E33: (Forel-Ule Scale) | F33: (sample) | H33: (mg/L) | I33: (mg/L) | J33: (mg/L) | K33: (μg/L)
B34: Center | C34: =C10 -> 45434 | D34: 3.15 | E34: 16 | F34: clear, colorless | H34: <0.02*1 | I34: <0.01*1 | J34: 0.535 | K34: 3.965
B35: (Surface) | C35: =C11 -> 45497 | D35: 2.75 | E35: 16 | F35: clear, colorless | H35: - | I35: <0.01*1 | J35: - | K35: 4.585
C36: =C12 -> 45587 | D36: 2.65 | E36: 12 | F36: clear, colorless | H36: - | I36: <0.01*1 | J36: - | K36: 5.77
C37: =C13 -> 45679 | D37: 3.3 | E37: 16 | F37: clear, colorless | H37: - | I37: <0.01*1 | J37: - | K37: 4.82
C38: mean | D38: 2.9625 | E38: - | F38: - | H38: <0.02*1 | I38: <0.01*1 | J38: 0.535 | K38: 4.785
B39: Center | C39: =C10 -> 45434 | D39: - | E39: - | F39: clear, colorless | H39: <0.02*1 | I39: <0.01*1 | J39: 0.5 | K39: 6.42
B40: (near bottom) | C40: =C11 -> 45497 | D40: - | E40: - | F40: clear, colorless | H40: - | I40: <0.01*1 | J40: - | K40: 16.09
C41: =C12 -> 45587 | D41: - | E41: - | F41: clear, colorless | H41: - | I41: <0.01*1 | J41: - | K41: 6.27
C42: =C13 -> 45679 | D42: - | E42: - | F42: clear, colorless | H42: - | I42: <0.01*1 | J42: - | K42: 7.235
C43: mean | D43: - | E43: - | F43: - | H43: <0.02*1 | I43: <0.01*1 | J43: 0.5 | K43: 9.00375
...

Sheet (3)Ftg-2024
B1: Table 6.4.3 Result of Inland Aquatic Environment Monitoring
B3: Duration: | C3: 2024.6-2024.10
B4: Country: | C4: Japan
B5: Lake/Stream: | C5: Futago-ike Lake (Oike and Meike)
D7: Mandatory Parameters : 3 times/year
B8: Site | C8: Sampling | D8: Temp. | E8: pH | F8: EC | G8: Alkalinity | H8: Gran's ANC | I8: SO42- | J8: NO3- | K8: Cl- | L8: NH4+ | M8: Na+ | N8: K+ | O8: Ca2+ | P8: Mg2+
C9: Date | D9: (oC) | F9: (mS/m) | G9: (meq/L) | H9: (meq/L) | I9: (mg/L) | J9: (mg/L) | K9: (mg/L) | L9: (mg/L) | M9: (mg/L) | N9: (mg/L) | O9: (mg/L) | P9: (mg/L)
B10: Oike (center) | C10: 45469 | D10: 12.8 | E10: 6.9215768 | F10: 1.745 | G10: 0.1255 | H10: 0.116 | I10: 0.95 | J10: 0.8235 | K10: 0.345 | L10: <0.02*1 | M10: 1.015 | N10: 0.245 | O10: 1.59 | P10: 0.175
B11: surface | C11: 45531 | D11: 16.9 | E11: 6.9905594 | F11: 1.85 | G11: 0.1395 | H11: 0.12 | I11: 0.945 | J11: 0.91 | K11: 0.34 | L11: <0.02*1 | M11: 1.225 | N11: 0.265 | O11: 1.94 | P11: 0.19
C12: 45593 | D12: 9.8 | E12: 7.1081261 | F12: 1.97 | G12: 0.1485 | H12: 0.134 | I12: 0.985 | J12: 0.76 | K12: 0.345 | L12: <0.02*1 | M12: 1.26 | N12: 0.285 | O12: 2.06 | P12: 0.19
C13: mean*2 | D13: 13.166667 | E13: 7.0000743 | F13: 1.855 | G13: 0.13783333 | H13: 0.12333333 | I13: 0.96 | J13: 0.83116667 | K13: 0.34333333 | L13: <0.02*1 | M13: 1.1666667 | N13: 0.265 | O13: 1.8633333 | P13: 0.185
B14: Oike (center) | C14: =$C$10 -> 45469 | D14: 6.5 | E14: 6.9609576 | F14: 2.01 | G14: 0.148 | H14: 0.1385 | I14: 1.045 | J14: 1.0935 | K14: 0.395 | L14: <0.02*1 | M14: 1.195 | N14: 0.28 | O14: 1.925 | P14: 0.21
B15: near bottom | C15: =$C$11 -> 45531 | D15: 6.9 | E15: 6.9844288 | F15: 2.135 | G15: 0.155 | H15: 0.1375 | I15: 1.045 | J15: 1.1 | K15: 0.385 | L15: <0.02*1 | M15: 1.445 | N15: 0.29 | O15: 2.25 | P15: 0.225
C16: =$C$12 -> 45593 | D16: 7.2 | E16: 7.0495396 | F16: 2.12 | G16: 0.155 | H16: 0.1415 | I16: 1.005 | J16: 0.9 | K16: 0.375 | L16: <0.02*1 | M16: 1.365 | N16: 0.3 | O16: 2.205 | P16: 0.215
C17: mean*2 | D17: 6.8666667 | E17: 6.996717 | F17: 2.0883333 | G17: 0.15266667 | H17: 0.13916667 | I17: 1.0316667 | J17: 1.0311667 | K17: 0.385 | L17: <0.02*1 | M17: 1.335 | N17: 0.29 | O17: 2.1266667 | P17: 0.21666667
B18: Meike (center) | C18: =$C$10 -> 45469 | D18: 16.2 | E18: 5.8215513 | F18: 0.49 | G18: 0.0265 | H18: 0.009 | I18: 0.57 | J18: <0.1*1 | K18: 0.365 | L18: <0.02*1 | M18: 0.39 | N18: 0.135 | O18: 0.26 | P18: 0.07
B19: surface | C19: =$C$11 -> 45531 | D19: 20.7 | E19: 6.0524355 | F19: 0.44 | G19: 0.0275 | H19: 0.01 | I19: 0.46 | J19: <0.1*1 | K19: 0.335 | L19: <0.02*1 | M19: 0.565 | N19: 0.095 | O19: 0.255 | P19: 0.065
C20: =$C$12 -> 45593 | D20: 11.4 | E20: 5.7743539 | F20: 0.405 | G20: 0.024 | H20: 0.01 | I20: 0.34 | J20: <0.1*1 | K20: 0.365 | L20: <0.02*1 | M20: 0.63 | N20: 0 | O20: 0.21 | P20: 0
C21: mean*2 | D21: 16.1 | E21: 5.8669154 | F21: 0.445 | G21: 0.026 | H21: 0.0096666667 | I21: 0.45666667 | J21: <0.1*1 | K21: 0.355 | L21: <0.02*1 | M21: 0.52833333 | N21: 0.076666667 | O21: 0.24166667 | P21: 0.045
B22: Meike (center) | C22: =$C$10 -> 45469 | D22: 12.9 | E22: 5.6464135 | F22: 0.56 | G22: 0.025 | H22: 0.011 | I22: 0.615 | J22: <0.1*1 | K22: 0.345 | L22: <0.02*1 | M22: 0.37 | N22: 0.18 | O22: 0.28 | P22: 0.07
B23: near bottom | C23: =$C$11 -> 45531 | D23: 17.5 | E23: 6.0827234 | F23: 0.48 | G23: 0.029 | H23: 0.011 | I23: 0.48 | J23: <0.1*1 | K23: 0.42 | L23: <0.02*1 | M23: 0.79 | N23: 0.06 | O23: 0.255 | P23: 0.065
C24: =$C$12 -> 45593 | D24: 11.4 | E24: 5.8405396 | F24: 0.43 | G24: 0.0275 | H24: 0.01 | I24: 0.345 | J24: <0.1*1 | K24: 0.39 | L24: <0.02*1 | M24: 0.64 | N24: 0.06 | O24: 0.21 | P24: 0
C25: mean*2 | D25: 13.933333 | E25: 5.8212633 | F25: 0.49 | G25: 0.027166667 | H25: 0.010666667 | I25: 0.48 | J25: <0.1*1 | K25: 0.385 | L25: <0.02*1 | M25: 0.6 | N25: 0.1 | O25: 0.24833333 | P25: 0.045
D27: Mandatory Parameters : Once/year | J27: Optional Parameters
B28: Site | C28: Sampling | D28: Transparency | E28: Water Color | F28: Water Color | G28: PO43- | H28: NO2- | I28: DOC | J28: COD | K28: D-Al | L28: Chl-a
C29: Date | D29: (m) | E29: (Lake) | F29: (Sample) | G29: (mg/L) | H29: (mg/L) | I29: (mg/L) | J29: (mg/L) | K29: (mg/L) | L29: (μg/L)
B30: Oike (center) | C30: =$C$10 -> 45469 | D30: 9 | E30: pale blue-green | F30: clear, colorless | G30: <0.01*1 | H30: <0.01*1 | I30: 0.7 | J30: 1.95 | K30: 0.0245 | L30: 0.2
B31: surface | C31: =$C$11 -> 45531 | D31: 8.8 | E31: clear, colorless | F31: clear, colorless | G31: <0.01*1 | H31: <0.01*1 | I31: 1 | J31: 1.9 | K31: 0.014 | L31: 0.6
C32: =$C$12 -> 45593 | D32: 7.8 | E32: clear, colorless | F32: clear, colorless | G32: <0.01*1 | H32: <0.01*1 | I32: 0.925 | J32: 2 | K32: 0.015 | L32: 1.25
C33: mean | D33: 8.5333333 | E33: - | F33: - | G33: <0.01*1 | H33: <0.01*1 | I33: 0.875 | J33: 1.95 | K33: 0.017833333 | L33: 0.68333333
B34: Oike (center) | C34: =$C$10 -> 45469 | D34: - | E34: - | F34: clear, colorless | G34: <0.01*1 | H34: <0.01*1 | I34: 0.7 | J34: 2.05 | K34: 0.019 | L34: 0.3
B35: near bottom | C35: =$C$11 -> 45531 | D35: - | E35: - | F35: clear, colorless | G35: <0.01*1 | H35: <0.01*1 | I35: 1.1 | J35: 2.1 | K35: 0.015 | L35: 0.85
C36: =$C$12 -> 45593 | D36: - | E36: - | F36: clear, colorless | G36: <0.01*1 | H36: <0.01*1 | I36: 1.125 | J36: 2.4 | K36: 0.0155 | L36: 2.6
C37: mean | D37: - | E37: - | F37: - | G37: <0.01*1 | H37: <0.01*1 | I37: 0.975 | J37: 2.1833333 | K37: 0.0165 | L37: 1.25
B38: Meike (center) | C38: =$C$10 -> 45469 | D38: 1.7 | E38: pale green | F38: clear, colorless | G38: <0.01*1 | H38: <0.01*1 | I38: 2.35 | J38: 8.1 | K38: 0.058 | L38: 22.3
B39: surface | C39: =$C$11 -> 45531 | D39: 1.8 | E39: green | F39: clear, colorless | G39: <0.01*1 | H39: <0.01*1 | I39: 5.35 | J39: 11.6 | K39: 0.0175 | L39: 38.8
C40: =$C$12 -> 45593 | D40: 1.75 | E40: green | F40: clear, colorless | G40: <0.01*1 | H40: <0.01*1 | I40: 7.28 | J40: 16.7 | K40: 0.0125 | L40: 48.8
C41: mean | D41: 1.75 | E41: - | F41: - | G41: <0.01*1 | H41: <0.01*1 | I41: 4.9933333 | J41: 12.133333 | K41: 0.029333333 | L41: 36.633333
B42: Meike (center) | C42: =$C$10 -> 45469 | D42: - | E42: - | F42: clear, colorless | G42: <0.01*1 | H42: <0.01*1 | I42: 2.5 | J42: 8.7 | K42: 0.1345 | L42: 24
B43: near bottom | C43: =$C$11 -> 45531 | D43: - | E43: - | F43: clear, colorless | G43: <0.01*1 | H43: <0.01*1 | I43: 5.5 | J43: 13.65 | K43: 0.0255 | L43: 62.6
...

Sheet (4)Lao-2024
B1: Table 6.4.4 Result of Inland Aquatic Environment Monitoring
B3: Duration: | C3: 2024.3-2024.11
B4: Country: | C4: Lao PDR
B5: Lake/Stream: | C5: Nam Houm Lake
D7: Mandatory Parameters: 4 times/year
B8: Site | C8: Sampling | D8: Temp. | E8: pH*2 | F8: EC*2 | G8: Alkalinity | H8: SO42- | I8: NO3- | J8: Cl- | K8: NH4+ | L8: Na+ | M8: K+ | N8: Ca2+ | O8: Mg2+
C9: Date | D9: (oC) | F9: (mS/m) | G9: (meq/L) | H9: (mg/L) | I9: (mg/L) | J9: (mg/L) | K9: (mg/L) | L9: (mg/L) | M9: (mg/L) | N9: (mg/L) | O9: (mg/L)
B10: Nam Houm Lake | C10: 45364 | D10: 26.5 | E10: 6.401 | F10: 31 | G10: 0.849 | H10: 2.46 | I10: 0.24 | J10: 0.24 | K10: 0.03 | L10: 2.4 | M10: 2.28 | N10: 11.96 | O10: 1.38
C11: 45463 | D11: 26.7 | E11: 6.394 | F11: 35 | G11: 0.652 | H11: 1.55 | I11: 0.17 | J11: 1.66 | K11: 0.02 | L11: 1.92 | M11: 1.9 | N11: 8.75 | O11: 1.34
C12: 45547 | D12: 26.7 | E12: 6.412 | F12: 34 | G12: 0.659 | H12: 1.76 | I12: 0.21 | J12: 1.45 | K12: 0.02 | L12: 3.88 | M12: 1.72 | N12: 7.72 | O12: 0.98
C13: 45620 | D13: 26.7 | E13: 6.412 | F13: 36 | G13: 0.737 | H13: 0.63 | I13: 0.03 | J13: 4.34 | K13: 0.07 | L13: 11.95 | M13: 1.03 | N13: 4.59 | O13: 0.73
C14: mean*1 | D14: =AVERAGE(D10:D13) -> 26.65 | E14: =-LOG((10^(-E10)+10^(-E11)+10^(-E12)+10^(-E13))/4) -> 6.4046823 | F14: =AVERAGE(F10:F13) -> 34 | G14: =AVERAGE(G10:G13) -> 0.72425 | H14: =AVERAGE(H10:H13) -> 1.6 | I14: =AVERAGE(I10:I13) -> 0.1625 | J14: =AVERAGE(J10:J13) -> 1.9225 | K14: =AVERAGE(K10:K13) -> 0.035 | L14: =AVERAGE(L10:L13) -> 5.0375 | M14: =AVERAGE(M10:M13) -> 1.7325 | ... O14: =AVERAGE(O10:O13) -> 1.1075
D16: Mandatory Parameters: Once/year | I16: Optional Parameters
B17: Site | C17: Sampling | D17: Transparency | E17: Water Color | F17: PO43- | G17: NO2- | H17: COD | I17: DO*2 | J17: T-P
C18: Date | D18: (m) | F18: (mg/L) | G18: (mg/L) | H18: (mg/L) | I18: (mg/L) | J18: (mg/L)
B19: Nam Houm Lake | C19: =C10 -> 45364 | D19: - | E19: - | F19: 0.001 | G19: 1.25 | H19: 17.12 | I19: 7.24 | J19: 0.02
C20: =C11 -> 45463 | D20: - | E20: - | F20: 0.001 | G20: 1.26 | H20: 18.63 | I20: 7.56 | J20: 0.01
C21: =C12 -> 45547 | D21: - | E21: - | F21: 0.001 | G21: 1.24 | H21: 17.64 | I21: 7.86 | J21: 0.02
C22: =C13 -> 45620 | D22: - | E22: - | F22: 0.001 | G22: 1.24 | H22: 17.06 | I22: 7.61 | J22: 0.03
C23: mean | D23: - | E23: - | F23: =AVERAGE(F19:F22) -> 0.001 | G23: =AVERAGE(G19:G22) -> 1.2475 | H23: =AVERAGE(H19:H22) -> 17.6125 | I23: =AVERAGE(I19:I22) -> 7.5675 | J23: =AVERAGE(J19:J22) -> 0.02
B24: - : No analysis or measurement.
B25: *1 : Mean of pH takes an average of hydrogen ion.
B26: *2 : Measured on-site
D28: Anion | E28: Cation | F28: R1 | G28: Judge | I28: Λcalc | J28: R2 | K28: Judge
B29: Nam Houm Lake | C29: =C10 -> 45364 | D29: =+(H10/48.03+N(I10)/62.01+J10/35.45+G10+N(F19)/31.66+N(G19)/46.01)*1000 -> 938.05802 | E29: =10^(6-E10)+(N(K10)/18.04+L10/22.99+M10/39.1+N10/20.04+O10/12.16)*1000 -> 875.05863 | F29: =100*(E29-D29)/(E29+D29) -> -3.4746466 | G29: Օ | I29: =(349.7*10^(3-E10)+(80*H10/48.03+71.5*N(I10)/62.01+76.3*J10/35.45+73.5*N(K10)/18.04+50.1*L10/22.99+73.5*M10/39.1+59.8*N10/20.04+53.3*O10/12.16+44.5*G10+69*N(F19)/31.66+71.8*N(G19)/46.01))*0.1 -> 9.61391 | J29: =100*(I29-F10)/(I29+F10) -> -52.657058 | K29: ×
C30: =C11 -> 45463 | D30: =+(H11/48.03+N(I11)/62.01+J11/35.45+G11+N(F20)/31.66+N(G20)/46.01)*1000 -> 761.25644 | E30: =10^(6-E11)+(N(K11)/18.04+L11/22.99+M11/39.1+N11/20.04+O11/12.16)*1000 -> 680.44433 | F30: =100*(E30-D30)/(E30+D30) -> -5.6053319 | G30: Օ | I30: =(349.7*10^(3-E11)+(80*H11/48.03+71.5*N(I11)/62.01+76.3*J11/35.45+73.5*N(K11)/18.04+50.1*L11/22.99+73.5*M11/39.1+59.8*N11/20.04+53.3*O11/12.16+44.5*G11+69*N(F20)/31.66+71.8*N(G20)/46.01))*0.1 -> 7.7295178 | J30: =100*(I30-F11)/(I30+F11) -> -63.821179 | K30: ×
C31: =C12 -> 45547 | D31: =+(H12/48.03+N(I12)/62.01+J12/35.45+G12+N(F21)/31.66+N(G21)/46.01)*1000 -> 766.91524 | E31: =10^(6-E12)+(N(K12)/18.04+L12/22.99+M12/39.1+N12/20.04+O12/12.16)*1000 -> 680.07635 | F31: =100*(E31-D31)/(E31+D31) -> -6.0013405 | G31: Օ | I31: =(349.7*10^(3-E12)+(80*H12/48.03+71.5*N(I12)/62.01+76.3*J12/35.45+73.5*N(K12)/18.04+50.1*L12/22.99+73.5*M12/39.1+59.8*N12/20.04+53.3*O12/12.16+44.5*G12+69*N(F21)/31.66+71.8*N(G21)/46.01))*0.1 -> 7.6795023 | J31: =100*(I31-F12)/(I31+F12) -> -63.149741 | K31: ×
C32: =C13 -> 45620 | D32: =+(H13/48.03+N(I13)/62.01+J13/35.45+G13+N(F22)/31.66+N(G22)/46.01)*1000 -> 900.0088 | E32: =10^(6-E13)+(N(K13)/18.04+L13/22.99+M13/39.1+N13/20.04+O13/12.16)*1000 -> 839.47626 | F32: =100*(E32-D32)/(E32+D32) -> -3.4799113 | G32: Օ | I32: =(349.7*10^(3-E13)+(80*H13/48.03+71.5*N(I13)/62.01+76.3*J13/35.45+73.5*N(K13)/18.04+50.1*L13/22.99+73.5*M13/39.1+59.8*N13/20.04+53.3*O13/12.16+44.5*G13+69*N(F22)/31.66+71.8*N(G22)/46.01))*0.1 -> 9.0453585 | J32: =100*(I32-F13)/(I32+F13) -> -59.838888 | K32: ×

Sheet (5)Mal-2024
B1: Table 6.4.5 Result of Inland Aquatic Environment Monitoring
B3: Duration: | C3: 2024.2.-2024.12.
B4: Country: | C4: Malaysia
B5: Lake/Stream: | C5: (See below)
D7: Mandatory Parameters: 6 times/year
B8: Site | C8: Sampling | D8: Temp. | E8: pH | F8: EC | G8: Alkalinity | H8: SO42- | I8: NO3- | J8: Cl- | K8: NH4+ | L8: Na+ | M8: K+ | N8: Ca2+ | O8: Mg2+ | T8: NH4+ | V8: NH4+
C9: Date | D9: (oC) | F9: (mS/m) | G9: (meq/L) | H9: (mg/L) | I9: (mg/L) | J9: (mg/L) | K9: (mg/L) | L9: (mg/L) | M9: (mg/L) | N9: (mg/L) | O9: (mg/L) | T9: (mg/L) | V9: (mg/L)
B10: Baru | C10: 45328 | D10: 24.6 | E10: 7.4249712 | F10: 4.16 | G10: 0.357 | H10: 1.386 | I10: 0.494 | J10: 1.7035 | K10: 0.005 | L10: 4.551 | M10: 0.347 | N10: 2.9705 | O10: 1.534 | P10: 0.005 | T10: 0 | V10: 0 | X10: 44964 | Y10: 25.9 | Z10: 7.4062158 | AA10: 5.69 | AB10: 0.5 | AC10: 2.169 | AD10: 1.436 | AE10: 0.358 | AF10: <0.003*1 | AG10: 4.334 | AH10: 0.4465 | AI10: 5.2405 | AJ10: 2.0845
B11: River | C11: 45391 | D11: 25 | E11: 7.7889647 | F11: 9.105 | G11: 0.8045 | H11: 1.9145 | I11: 0.6855 | J11: 3.422 | K11: 0.021 | L11: 6.7065 | M11: 1.0425 | N11: 6.5615 | O11: 3.136 | P11: 0.021 | T11: 0.009 | V11: 0.009 | X11: 45020 | Y11: 24.9 | Z11: 7.5507405 | AA11: 5.965 | AB11: 0.477 | AC11: 2.211 | AD11: 1.9105 | AE11: 0.4375 | AF11: 0.009 | AG11: 5.238 | AH11: 0.4585 | AI11: 4.747 | AJ11: 1.901
C12: 45447 | D12: 24.8 | E12: 7.5754895 | F12: 4.965 | G12: 0.4 | H12: 2.404 | I12: 0.4765 | J12: 1.7135 | K12: 0.0275 | L12: 4.6755 | M12: 0.7 | N12: 2.8435 | O12: 1.5385 | P12: 0.0275 | T12: 0.0185 | V12: 0.0185 | X12: 45083 | Y12: 25.8 | Z12: 7.4599488 | AA12: 6.035 | AB12: 0.4825 | AC12: 2.01 | AD12: 1.1755 | AE12: 0.2785 | AF12: 0.0185 | AG12: 4.2895 | AH12: 0.5975 | AI12: 4.9 | AJ12: 2.007
C13: 45517 | D13: 25.7 | E13: 7.5489647 | F13: 4.58 | G13: 0.401 | H13: 1.438 | I13: 0.6225 | J13: 2.46 | K13: 0.01 | L13: 4.908 | M13: 0.3835 | N13: 3.2405 | O13: 1.6945 | P13: 0.01 | T13: 0.005 | V13: 0.005 | X13: 45139 | Y13: 26.2 | Z13: 7.9442808 | AA13: 9.08 | AB13: 0.8895 | AC13: 1.4755 | AD13: 2.27 | AE13: 0.37 | AF13: 0.005 | AG13: 6.401 | AH13: 0.591 | AI13: 7.688 | AJ13: 2.964
C14: 45566 | D14: 25.8 | E14: 7.4679082 | F14: 4.85 | G14: 0.431 | H14: 1.486 | I14: 0.4205 | J14: 1.535 | K14: <0.003*1 | L14: 4.388 | M14: 0.362 | N14: 3.1875 | O14: 1.6725 | P14: 0 | T14: 0.02 | V14: 0.02 | X14: 45202 | Y14: 25.4 | Z14: 6.7531252 | AA14: 4.61 | AB14: 0.4145 | AC14: 1.6095 | AD14: 1.3155 | AE14: 0.223 | AF14: 0.02 | AG14: 4.378 | AH14: 0.385 | AI14: 3.23 | AJ14: 1.652
C15: 45629 | D15: 24.9 | E15: 6.9635912 | F15: 2.51 | G15: 0.205 | H15: 0.7935 | I15: 0.954 | J15: 1.5915 | K15: <0.003*1 | L15: 3.429 | M15: 0.299 | N15: 1.3475 | O15: 0.712 | P15: 0 | T15: 0.015 | V15: 0.015 | X15: 45265 | Y15: 24.8 | Z15: 7.7449712 | AA15: 5.18 | AB15: 0.467 | AC15: 1.7035 | AD15: 1.609 | AE15: 0.578 | AF15: 0.015 | AG15: 4.671 | AH15: 0.4455 | AI15: 3.0965 | AJ15: 1.935
C16: mean*2 | D16: =AVERAGEA(D10:D15) -> 25.133333 | E16: =-LOG((10^(-E10)+10^(-E11)+10^(-E12)+10^(-E13)+10^(-E14)+10^(-E15))/6) -> 7.3776749 | F16: =AVERAGE(F10:F15) -> 5.0283333 | G16: =AVERAGEA(G10:G15) -> 0.43308333 | H16: =AVERAGEA(H10:H15) -> 1.5703333 | I16: =AVERAGEA(I10:I15) -> 0.60883333 | J16: =AVERAGEA(J10:J15) -> 2.0709167 | K16: =AVERAGEA(K10:K15) -> 0.010583333 | L16: =AVERAGEA(L10:L15) -> 4.7763333 | M16: =AVERAGEA(M10:M15) -> 0.52233333 | N16: =AVERAGEA(N10:N15) -> 3.3585 | O16: =AVERAGEA(O10:O15) -> 1.7145833 | P16: =AVERAGE(P10:P15) -> 0.010583333 | T16: =AVERAGE(T10:T15) -> 0.01125 | V16: =AVERAGE(V10:V15) -> 0.01125 | X16: mean*2 | Y16: =AVERAGEA(Y10:Y15) -> 25.5 | Z16: =-LOG((10^(-Z10)+10^(-Z11)+10^(-Z12)+10^(-Z13)+10^(-Z14)+10^(-Z15))/6) -> 7.2896425 | AA16: =AVERAGE(AA10:AA15) -> 6.0933333 | AB16: =AVERAGEA(AB10:AB15) -> 0.53841667 | AC16: =AVERAGEA(AC10:AC15) -> 1.8630833 | AD16: =AVERAGEA(AD10:AD15) -> 1.6194167 | AE16: =AVERAGEA(AE10:AE15) -> 0.37416667 | AF16: 0.01125 | AG16: =AVERAGEA(AG10:AG15) -> 4.88525 | AH16: =AVERAGEA(AH10:AH15) -> 0.48733333 | AI16: =AVERAGEA(AI10:AI15) -> 4.817 | AJ16: =AVERAGEA(AJ10:AJ15) -> 2.0905833
D18: Mandatory Parameters: 6times/year
B19: Site | C19: Sampling | D19: PO43- | E19: TOC | F19: T-P | G19: COD | T19: T-P | V19: T-P
C20: Date | D20: (mg/L) | E20: (mg/L) | F20: (mg/L) | G20: (mg/L) | T20: (mg/L) | V20: (mg/L)
B21: Baru | C21: =$C$10 -> 45328 | D21: <0.10*1 | E21: 2.8565 | F21: 0.512 | G21: 8.05 | T21: 0 | V21: 0 | X21: =$C$10 -> 45328 | Y21: <0.10*1 | Z21: 1.35 | AA21: <0.2*1 | AB21: 4.6
B22: River | C22: =$C$11 -> 45391 | D22: <0.10*1 | E22: 5.6 | F22: 0.23 | G22: 16.6 | T22: 0.31 | V22: 0.31 | X22: =$C$11 -> 45391 | Y22: <0.10*1 | Z22: 2.145 | AA22: 0.31 | AB22: 3.55
C23: =$C$12 -> 45447 | D23: <0.10*1 | E23: 3.15 | F23: 0.252 | G23: 11.85 | T23: 0.335 | V23: 0.335 | X23: =$C$12 -> 45447 | Y23: <0.10*1 | Z23: 0.975 | AA23: 0.335 | AB23: 4.85
C24: =$C$13 -> 45517 | D24: <0.10*1 | E24: 1.35 | F24: 0.395 | G24: 5.3 | T24: 0.305 | V24: 0.305 | X24: =$C$13 -> 45517 | Y24: <0.10*1 | Z24: 1.435 | AA24: 0.305 | AB24: 3.75
C25: =$C$14 -> 45566 | D25: <0.10*1 | E25: 1.75 | F25: 0.96 | G25: 5.65 | T25: 0.365 | V25: 0.365 | X25: =$C$14 -> 45566 | Y25: <0.10*1 | Z25: 1.335 | AA25: 0.365 | AB25: 3
C26: =$C$15 -> 45629 | D26: <0.10*1 | E26: 1.15 | F26: 0.815 | G26: 3.6 | T26: 0.75 | V26: 0.75 | X26: =$C$15 -> 45629 | Y26: <0.10*1 | Z26: 2.3 | AA26: 0.75 | AB26: 4.25
C27: mean | D27: <0.10*1 | E27: =AVERAGEA(E21:E26) -> 2.64275 | F27: =AVERAGEA(F21:F26) -> 0.52733333 | G27: =AVERAGEA(G21:G26) -> 8.5083333 | T27: =AVERAGE(T21:T26) -> 0.34416667 | V27: =AVERAGE(V21:V26) -> 0.34416667 | X27: mean | Y27: <0.10*1 | Z27: =AVERAGEA(Z21:Z26) -> 1.59 | AA27: 0.34416667 | AB27: =AVERAGEA(AB21:AB26) -> 4
B28: - : No analysis or measurement.
B29: *1: Less than determination limit.
B30: *2: Mean of pH takes an average of hydrogen ion.
B31: # When the value is under detection limit, it is considered as "0". Then the average and R1R2 were calculated by using it.
D34: Anion | E34: Cation | F34: R1 | G34: Judge | I34: Λcalc | J34: R2 | K34: Judge
B35: Baru | C35: =$C$10 -> 45328 | D35: =+(H10/48.03+N(I10)/62.01+J10/35.45+G10+N(D21)/31.66)*1000 -> 441.87702 | E35: =10^(6-E10)+(N(K10)/18.04+L10/22.99+M10/39.1+N10/20.04+O10/12.16)*1000 -> 481.52492 | F35: =100*(E35-D35)/(E35+D35) -> 4.2936776 | G35: Օ | I35: =(349.7*10^(3-E10)+(80*H10/48.03+71.5*N(I10)/62.01+76.3*J10/35.45+73.5*N(K10)/18.04+50.1*L10/22.99+73.5*M10/39.1+59.8*N10/20.04+53.3*O10/12.16+44.5*G10+69*N(D21)/31.66))*1/10 -> 4.8622462 | J35: =100*(I35-F10)/(I35+F10) -> 7.7834961 | K35: Օ
B36: River | C36: =$C$11 -> 45391 | D36: =+(H11/48.03+N(I11)/62.01+J11/35.45+G11+N(D22)/31.66)*1000 -> 951.9455 | E36: =10^(6-E11)+(N(K11)/18.04+L11/22.99+M11/39.1+N11/20.04+O11/12.16)*1000 -> 904.87143 | F36: =100*(E36-D36)/(E36+D36) -> -2.5352026 | G36: Օ | I36: =(349.7*10^(3-E11)+(80*H11/48.03+71.5*N(I11)/62.01+76.3*J11/35.45+73.5*N(K11)/18.04+50.1*L11/22.99+73.5*M11/39.1+59.8*N11/20.04+53.3*O11/12.16+44.5*G11+69*N(D22)/31.66))*1/10 -> 9.713607 | J36: =100*(I36-F11)/(I36+F11) -> 3.2340705 | K36: Օ
C37: =$C$12 -> 45447 | D37: =+(H12/48.03+N(I12)/62.01+J12/35.45+G12+N(D23)/31.66)*1000 -> 506.07198 | E37: =10^(6-E12)+(N(K12)/18.04+L12/22.99+M12/39.1+N12/20.04+O12/12.16)*1000 -> 491.23741 | F37: =100*(E37-D37)/(E37+D37) -> -1.487459 | G37: Օ | I37: =(349.7*10^(3-E12)+(80*H12/48.03+71.5*N(I12)/62.01+76.3*J12/35.45+73.5*N(K12)/18.04+50.1*L12/22.99+73.5*M12/39.1+59.8*N12/20.04+53.3*O12/12.16+44.5*G12+69*N(D23)/31.66))*1/10 -> 5.2896367 | J37: =100*(I37-F12)/(I37+F12) -> 3.1657551 | K37: Օ
C38: =$C$13 -> 45517 | D38: =+(H13/48.03+N(I13)/62.01+J13/35.45+G13+N(D24)/31.66)*1000 -> 510.37184 | E38: =10^(6-E13)+(N(K13)/18.04+L13/22.99+M13/39.1+N13/20.04+O13/12.16)*1000 -> 524.92681 | F38: =100*(E38-D38)/(E38+D38) -> 1.4058718 | G38: Օ | I38: =(349.7*10^(3-E13)+(80*H13/48.03+71.5*N(I13)/62.01+76.3*J13/35.45+73.5*N(K13)/18.04+50.1*L13/22.99+73.5*M13/39.1+59.8*N13/20.04+53.3*O13/12.16+44.5*G13+69*N(D24)/31.66))*1/10 -> 5.4816368 | J38: =100*(I38-F13)/(I38+F13) -> 8.9611347 | K38: Օ
C39: =$C$14 -> 45566 | D39: =+(H14/48.03+N(I14)/62.01+J14/35.45+G14+N(D25)/31.66)*1000 -> 512.02058 | E39: =10^(6-E14)+(N(K14)/18.04+L14/22.99+M14/39.1+N14/20.04+O14/12.16)*1000 -> 496.75596 | F39: =100*(E39-D39)/(E39+D39) -> -1.513182 | G39: Օ | I39: =(349.7*10^(3-E14)+(80*H14/48.03+71.5*N(I14)/62.01+76.3*J14/35.45+73.5*N(K14)/18.04+50.1*L14/22.99+73.5*M14/39.1+59.8*N14/20.04+53.3*O14/12.16+44.5*G14+69*N(D25)/31.66))*1/10 -> 5.2540597 | J39: =100*(I39-F14)/(I39+F14) -> 3.9989841 | K39: Օ
C40: =$C$15 -> 45629 | D40: =+(H15/48.03+N(I15)/62.01+J15/35.45+G15+N(D26)/31.66)*1000 -> 281.79976 | E40: =10^(6-E15)+(N(K15)/18.04+L15/22.99+M15/39.1+N15/20.04+O15/12.16)*1000 -> 282.70076 | F40: =100*(E40-D40)/(E40+D40) -> 0.15961055 | G40: Օ | I40: =(349.7*10^(3-E15)+(80*H15/48.03+71.5*N(I15)/62.01+76.3*J15/35.45+73.5*N(K15)/18.04+50.1*L15/22.99+73.5*M15/39.1+59.8*N15/20.04+53.3*O15/12.16+44.5*G15+69*N(D26)/31.66))*1/10 -> 3.0184033 | J40: =100*(I40-F15)/(I40+F15) -> 9.1962056 | K40: ×
C312: 6.6135912 | G312: 0.921 | H312: 0.374

Sheet (6)Mon-2024
B1: Table 6.4.6 Result of Inland Aquatic Environment Monitoring
B3: Duration: | C3: 2024.5-2024.10
B4: Country: | C4: Mongolia
B5: Lake/Stream: | C5: Terelj River
D7: Mandatory Parameters: 4 times/year
B8: Site | C8: Sampling | D8: Temp. | E8: pH | F8: EC | G8: Alkalinity | H8: SO42- | I8: NO3- | J8: Cl- | K8: NH4+ | L8: Na+ | M8: K+ | N8: Ca2+ | O8: Mg2+
C9: Date | D9: (oC) | F9: (mS/m) | G9: (meq/L) | H9: (mg/L) | I9: (mg/L) | J9: (mg/L) | K9: (mg/L) | L9: (mg/L) | M9: (mg/L) | N9: (mg/L) | O9: (mg/L)
B10: Terelj River | C10: 45420 | D10: 11.5 | E10: 7.36 | F10: 3.36 | G10: 0.248 | H10: 3 | I10: 0.01 | J10: 0.45 | K10: 0.01 | L10: 1.46 | M10: 0.61 | N10: 5.2 | O10: 0.7
C11: 45448 | D11: 9.9 | E11: 7.47 | F11: 4.92 | G11: 0.361 | H11: 3.8 | I11: 0.01 | J11: 0.48 | K11: 0.01 | L11: 1.84 | M11: 0.58 | N11: 7.3 | O11: 0.95
C12: 45476 | D12: 14.6 | E12: 7.54 | F12: 3.42 | G12: 0.248 | H12: 2.86 | I12: 0.01 | J12: 0.25 | K12: 0.01 | L12: 1.51 | M12: 0.55 | N12: 5.64 | O12: 0.73
C13: 45518 | D13: 14 | E13: 7.49 | F13: 4.28 | G13: 0.372 | H13: 3.62 | I13: 0.16 | J13: 0.3 | K13: 0.01 | L13: 1.89 | M13: 0.61 | N13: 7.16 | O13: 0.93
C14: 45539 | D14: 10.2 | E14: 7.51 | F14: 4.74 | G14: 0.361 | H14: 3.51 | I14: 0.31 | J14: 0.39 | K14: 0.01 | L14: 1.79 | M14: 0.62 | N14: 7.14 | O14: 0.93
C15: 45574 | D15: 4.3 | E15: 7.69 | F15: 5.65 | G15: 0.423 | H15: 4.62 | I15: 0.94 | J15: 0.5 | K15: 0.02 | L15: 2.06 | M15: 0.57 | N15: 8.36 | O15: 1.1
C16: mean*1 | D16: =AVERAGE(D12:D15) -> 10.775 | E16: =-LOG((10^(-E10)+10^(-E11)+10^(-E12)+10^(-E13)+10^(-E14)+10^(-E15))/6) -> 7.4992696 | F16: =AVERAGEA(F10:F15) -> 4.395 | G16: =AVERAGEA(G10:G15) -> 0.3355 | H16: =AVERAGEA(H10:H15) -> 3.5683333 | I16: =AVERAGEA(I10:I15) -> 0.24 | J16: =AVERAGEA(J10:J15) -> 0.395 | K16: =AVERAGEA(K10:K15) -> 0.011666667 | L16: =AVERAGEA(L10:L15) -> 1.7583333 | M16: =AVERAGEA(M10:M15) -> 0.59 | ... O16: =AVERAGEA(O10:O15) -> 0.89
D18: Mandatory Parameters : Once/year
B19: Site | C19: Sampling | D19: PO43- | E19: NO2-
C20: Date | D20: (mg/L) | E20: (mg/L)
B21: Terelj River | C21: =C10 -> 45420 | D21: - | E21: -
C22: =C11 -> 45448 | D22: - | E22: -
C23: =C12 -> 45476 | D23: - | E23: -
C24: =C13 -> 45518 | D24: - | E24: -
C25: =C14 -> 45539 | D25: - | E25: -
C26: =C15 -> 45574 | D26: - | E26: -
C27: mean | D27: - | E27: -
B28: note
B29: - : No analysis or measurement.
B30: *1: Mean of pH takes an average of hydrogen ion.
D33: Anion | E33: Cation | F33: R1 | G33: Judge | I33: Λcalc | J33: R2 | K33: Judge
B34: Terelj River*2 | C34: =C10 -> 45420 | D34: =+(H10/48.03+N(I10)/62.01+J10/35.45+G10+N(D21)/31.66)*1000 -> 323.31616 | E34: =10^(6-E10)+(N(K10)/18.04+L10/22.99+M10/39.1+N10/20.04+O10/12.16)*1000 -> 396.7517 | F34: =100*(E34-D34)/(E34+D34) -> 10.198419 | G34: × | I34: =(349.7*10^(3-E10)+(80*H10/48.03+71.5*N(I10)/62.01+76.3*J10/35.45+73.5*N(K10)/18.04+50.1*L10/22.99+73.5*M10/39.1+59.8*N10/20.04+53.3*O10/12.16+44.5*G10+69*N(D21)/31.66))*1/10 -> 3.9982504 | J34: =100*(I34-F10)/(I34+F10) -> 8.6739429 | K34: Օ
C35: =C11 -> 45448 | D35: =+(H11/48.03+N(I11)/62.01+J11/35.45+G11+N(D22)/31.66)*1000 -> 453.81868 | E35: =10^(6-E11)+(N(K11)/18.04+L11/22.99+M11/39.1+N11/20.04+O11/12.16)*1000 -> 537.85322 | F35: =100*(E35-D35)/(E35+D35) -> 8.4740268 | G35: × | I35: =(349.7*10^(3-E11)+(80*H11/48.03+71.5*N(I11)/62.01+76.3*J11/35.45+73.5*N(K11)/18.04+50.1*L11/22.99+73.5*M11/39.1+59.8*N11/20.04+53.3*O11/12.16+44.5*G11+69*N(D22)/31.66))*1/10 -> 5.4538637 | J35: =100*(I35-F11)/(I35+F11) -> 5.1462383 | K35: Օ
C36: =C12 -> 45476 | D36: =+(H12/48.03+N(I12)/62.01+J12/35.45+G12+N(D23)/31.66)*1000 -> 314.75957 | E36: =10^(6-E12)+(N(K12)/18.04+L12/22.99+M12/39.1+N12/20.04+O12/12.16)*1000 -> 421.80041 | F36: =100*(E36-D36)/(E36+D36) -> 14.532536 | G36: × | I36: =(349.7*10^(3-E12)+(80*H12/48.03+71.5*N(I12)/62.01+76.3*J12/35.45+73.5*N(K12)/18.04+50.1*L12/22.99+73.5*M12/39.1+59.8*N12/20.04+53.3*O12/12.16+44.5*G12+69*N(D23)/31.66))*1/10 -> 4.0754315 | J36: =100*(I36-F12)/(I36+F12) -> 8.7444136 | K36: Օ
C37: =C13 -> 45518 | D37: =+(H13/48.03+N(I13)/62.01+J13/35.45+G13+N(D24)/31.66)*1000 -> 458.41241 | E37: =10^(6-E13)+(N(K13)/18.04+L13/22.99+M13/39.1+N13/20.04+O13/12.16)*1000 -> 532.16305 | F37: =100*(E37-D37)/(E37+D37) -> 7.445232 | G37: Օ | I37: =(349.7*10^(3-E13)+(80*H13/48.03+71.5*N(I13)/62.01+76.3*J13/35.45+73.5*N(K13)/18.04+50.1*L13/22.99+73.5*M13/39.1+59.8*N13/20.04+53.3*O13/12.16+44.5*G13+69*N(D24)/31.66))*1/10 -> 5.4173254 | J37: =100*(I37-F13)/(I37+F13) -> 11.728238 | K37: ×
C38: =C14 -> 45539 | D38: =+(H14/48.03+N(I14)/62.01+J14/35.45+G14+N(D25)/31.66)*1000 -> 450.07993 | E38: =10^(6-E14)+(N(K14)/18.04+L14/22.99+M14/39.1+N14/20.04+O14/12.16)*1000 -> 527.06963 | F38: =100*(E38-D38)/(E38+D38) -> 7.879009 | G38: Օ | I38: =(349.7*10^(3-E14)+(80*H14/48.03+71.5*N(I14)/62.01+76.3*J14/35.45+73.5*N(K14)/18.04+50.1*L14/22.99+73.5*M14/39.1+59.8*N14/20.04+53.3*O14/12.16+44.5*G14+69*N(D25)/31.66))*1/10 -> 5.3607888 | J38: =100*(I38-F14)/(I38+F14) -> 6.1459435 | K38: Օ
C39: =C15 -> 45574 | D39: =+(H15/48.03+N(I15)/62.01+J15/35.45+G15+N(D26)/31.66)*1000 -> 548.4531 | E39: =10^(6-E15)+(N(K15)/18.04+L15/22.99+M15/39.1+N15/20.04+O15/12.16)*1000 -> 612.93744 | F39: =100*(E39-D39)/(E39+D39) -> 5.5523392 | G39: Օ | I39: =(349.7*10^(3-E15)+(80*H15/48.03+71.5*N(I15)/62.01+76.3*J15/35.45+73.5*N(K15)/18.04+50.1*L15/22.99+73.5*M15/39.1+59.8*N15/20.04+53.3*O15/12.16+44.5*G15+69*N(D26)/31.66))*1/10 -> 6.4096043 | J39: =100*(I39-F15)/(I39+F15) -> 6.2987496 | K39: Օ
C312: 6.6135912 | G312: 0.921 | H312: 0.374

Sheet (7)Phi-2024
B1: Table 6.4.7 Result of Inland Aquatic Environment Monitoring
B3: Duration: | C3: 2024.2-2024.11 | T3: 2024.2-2024.11
B4: Country: | C4: Philippines
B5: Lake/Stream: | C5: (See below)
D7: Mandatory Parameters: 4 times/year
B8: Site | C8: Sampling | D8: Temp. | E8: pH | F8: EC | G8: Alkalinity | H8: SO42- | I8: NO3- | J8: Cl- | K8: NH4+ | L8: Na+ | M8: K+ | N8: Ca2+ | O8: Mg2+ | T8: pH | U8: EC | V8: Alkalinity | W8: SO42- | X8: NO3- | Y8: Cl- | Z8: NH4+ | AA8: Na+ | AB8: K+ | AC8: Ca2+ | AD8: Mg2+
C9: Date | D9: (oC) | F9: (mS/m) | G9: (meq/L) | H9: (mg/L) | I9: (mg/L) | J9: (mg/L) | K9: (mg/L) | L9: (mg/L) | M9: (mg/L) | N9: (mg/L) | O9: (mg/L) | U9: (mS/m) | V9: (meq/L) | W9: (mg/L) | X9: (mg/L) | Y9: (mg/L) | Z9: (mg/L) | AA9: (mg/L) | AB9: (mg/L) | AC9: (mg/L) | AD9: (mg/L)
B10: Pandin Lake | C10: 45344 | D10: - | E10: 7.83 | F10: 19.11 | G10: 1.9831 | H10: 1.6753251 | I10: 0.84666027 | J10: 3.6625494 | K10: <0.03*1 | L10: 9.051 | M10: 4.705 | N10: 17.785 | O10: 9.285 | T10: 7.68 | U10: 19.42 | V10: 1.133 | W10: 1.174 | X10: 0 | Y10: 3.388 | Z10: 0.029 | AA10: 8.634 | AB10: 4.293 | AC10: 9.554 | AD10: 9.255
C11: 45428 | D11: - | E11: 7.38 | F11: 19.35 | G11: 1.8641 | H11: 1.6618359 | I11: 0.082155045 | J11: 3.5449612 | K11: <0.03*1 | L11: 9.332 | M11: 4.323 | N11: 16.307 | O11: 9.086 | T11: 9.375 | U11: 19.28 | V11: 1.769 | W11: 1.33 | X11: 0.128 | Y11: 3.355 | Z11: 0.102 | AA11: 8.765 | AB11: 4.492 | AC11: 14.876 | AD11: 8.336
C12: 45534 | D12: - | E12: 8.36 | F12: 17.08 | G12: 1.6409 | H12: 2.2932364 | I12: 0.099071284 | J12: 3.3913063 | K12: 0.095 | L12: 8.7524 | M12: 4.5681 | N12: 13.4675 | O12: 8.522 | T12: 8.34 | U12: 19.24 | V12: 1.69 | W12: 2.078 | X12: 0.012 | Y12: 3.269 | Z12: 0 | AA12: 8.42 | AB12: 4.301 | AC12: 10.291 | AD12: 8.692
C13: 45617 | D13: - | E13: 6.82 | F13: 19.99 | G13: 1.5973 | H13: 2.9017639 | I13: 0.095131579 | J13: 3.3578282 | K13: <0.03*1 | L13: 7.671 | M13: 4.2209 | N13: 13.8708 | O13: 8.1144 | T13: 8.2 | U13: 19.02 | V13: 1.768 | W13: 2.113 | X13: 0 | Y13: 3.289 | Z13: 0 | AA13: 8.352 | AB13: 4.154 | AC13: 16.027 | AD13: 8.406
C14: mean*2 | D14: - | E14: =-LOG((10^(-E10)+10^(-E11)+10^(-E12)+10^(-E13))/4) -> 7.275316 | F14: =AVERAGEA(F10:F13) -> 18.8825 | G14: =AVERAGEA(G10:G13) -> 1.77135 | H14: =AVERAGEA(H10:H13) -> 2.1330403 | I14: =AVERAGEA(I10:I13) -> 0.28075454 | J14: =AVERAGEA(J10:J13) -> 3.4891613 | K14: =AVERAGEA(K10:K13) -> 0.02375 | L14: =AVERAGEA(L10:L13) -> 8.7016 | M14: =AVERAGEA(M10:M13) -> 4.45425 | ... O14: =AVERAGEA(O10:O13) -> 8.75185 | T14: =-LOG((10^(-T10)+10^(-T11)+10^(-T12)+10^(-T13)+10^(-#REF!))/5) -> #REF! | U14: =AVERAGE(U10:U13) -> 19.24 | V14: =AVERAGE(V10:V13) -> 1.59 | W14: =AVERAGE(W10:W13) -> 1.67375 | X14: =AVERAGE(X10:X13) -> 0.035 | Y14: =AVERAGE(Y10:Y13) -> 3.32525 | Z14: =AVERAGE(Z10:Z13) -> 0.03275 | AA14: =AVERAGE(AA10:AA13) -> 8.54275 | AB14: =AVERAGE(AB10:AB13) -> 4.31 | ... AD14: =AVERAGE(AD10:AD13) -> 8.67225
B15: Ambulalakaw Lake | C15: 45369 | D15: - | E15: 5.657 | F15: 3.787 | G15: 0.017 | H15: 0.106 | I15: < 0.06*1 | J15: 0.59 | K15: 0.1081 | L15: <0.03*1 | M15: 0.198 | N15: 0.173 | O15: 0.07 | T15: 6.65 | U15: 0.69 | V15: 0.04 | W15: 0.182 | X15: 0.181 | Y15: 0.228 | Z15: 0 | AA15: 0.299 | AB15: 0.143 | AC15: 0.501 | AD15: 0.093
C16: 45469 | D16: - | E16: 6.357 | F16: 8.676 | G16: 0.035 | H16: 0.101 | I16: < 0.06*1 | J16: 0.449 | K16: <0.01*1 | L16: 0.131 | M16: <0.04*1 | N16: 0.561 | O16: 0.091 | T16: 6.45 | U16: 5 | V16: 0.5 | W16: 0.313 | X16: 0.121 | Y16: 0.254 | Z16: 0 | AA16: 9.22 | AB16: 2.445 | AC16: 1.7 | AD16: 0.222
C17: 45580 | D17: - | E17: 5.75 | F17: 4.865 | G17: 0.017 | H17: 0.12 | I17: < 0.06*1 | J17: 0.697 | K17: 0.115 | L17: <0.03*1 | M17: 0.071 | N17: 0.186 | O17: 0.21 | T17: 6.58 | U17: 2.31 | V17: 0.02 | W17: 1.66 | X17: 0.567 | Y17: 2.18 | Z17: 0.504 | AA17: 1.601 | AB17: 0.817 | AC17: 1.305 | AD17: 0.118
C18: 45636 | D18: - | E18: 5.73 | F18: 4.15 | G18: 0.037 | H18: 0.043 | I18: < 0.06*1 | J18: 0.203 | K18: <0.01*1 | L18: <0.03*1 | M18: 0.41 | N18: 0.23 | O18: 0.21 | T18: 6.72 | U18: 7.8 | V18: 1.5 | W18: 0.114 | X18: 0.068 | Y18: 0.156 | Z18: 1.22 | AA18: 0.365 | AB18: 0.217 | AC18: 0.556 | AD18: 0.12
C19: mean | D19: - | E19: =-LOG((10^(-E15)+10^(-E16)+10^(-E17)+10^(-E18))/4) -> 5.8039044 | F19: =AVERAGEA(F15:F18) -> 5.3695 | G19: =AVERAGEA(G15:G18) -> 0.0265 | H19: =AVERAGEA(H15:H18) -> 0.0925 | I19: < 0.06*1 | J19: =AVERAGEA(J15:J18) -> 0.48475 | K19: =AVERAGEA(K15:K18) -> 0.055775 | L19: =AVERAGEA(L15:L18) -> 0.03275 | M19: =AVERAGEA(M15:M18) -> 0.16975 | N19: =AVERAGEA(N15:N18) -> 0.2875 | O19: =AVERAGEA(O15:O18) -> 0.14525 | T19: =-LOG((10^(-T15)+10^(-T16)+10^(-T17)+10^(-T18)+10^(-#REF!))/5) -> #REF! | U19: =AVERAGE(U15:U18) -> 3.95 | V19: =AVERAGE(V15:V18) -> 0.515 | W19: =AVERAGE(W15:W18) -> 0.56725 | X19: =AVERAGE(X15:X18) -> 0.23425 | Y19: =AVERAGE(Y15:Y18) -> 0.7045 | Z19: =AVERAGE(Z15:Z18) -> 0.431 | AA19: =AVERAGE(AA15:AA18) -> 2.87125 | AB19: =AVERAGE(AB15:AB18) -> 0.9055 | ... AD19: =AVERAGE(AD15:AD18) -> 0.13825
D21: Mandatory Parameters: Once/year | H21: Optional Parameters | T21: Mandatory Parameters: Once/year | W21: Optional Parameters
B22: Site | C22: Sampling | D22: Transparency | E22: PO43- | F22: NO2- | G22: TOC | H22: DOC | I22: Chl-a | J22: COD | T22: Transparency | U22: PO43- | V22: NO2- | W22: DO | X22: Chl-a | Y22: COD
C23: Date | D23: (m) | E23: (mg/L) | F23: (mg/L) | G23: (mg/L) | H23: (mg/L) | I23: (μg/L) | J23: (mg/L) | T23: (m) | U23: (mg/L) | V23: (mg/L) | W23: (mg/L) | X23: (μg/L) | Y23: (mg/L)
B24: Pandin Lake | C24: =C10 -> 45344 | D24: - | E24: <0.3*1 | F24: 0.049263544 | G24: 8.2 | H24: 1.7 | I24: 4.3976 | J24: <10*1 | T24: - | U24: 0.181 | V24: 0.012 | W24: 3.2 | X24: 15.96 | Y24: 4.36
C25: =C11 -> 45428 | D25: - | E25: <0.3*1 | F25: <0.03*1 | G25: 8.09 | H25: 1.73 | I25: 2.406 | J25: <10*1 | T25: - | U25: 0.15 | V25: 0.026 | W25: 3.38 | X25: 1.06 | Y25: 3.06
C26: =C12 -> 45534 | D26: - | E26: <0.3*1 | F26: <0.03*1 | G26: 8.91 | H26: 2.67 | I26: 1.7 | J26: <10*1 | T26: - | U26: 0 | V26: 0 | W26: 2.8 | X26: 2.46 | Y26: 5.99
C27: =C13 -> 45617 | D27: - | E27: 0.35319556 | F27: <0.03*1 | G27: 1.48 | H27: *1 | I27: 2.477 | J27: 24.7018 | T27: - | U27: 0 | V27: 0 | W27: - | X27: 2.665 | Y27: 26.25
C28: mean | D28: - | E28: =AVERAGEA(E24:E27) -> 0.08829889 | F28: =AVERAGEA(F24:F27) -> 0.012315886 | G28: =AVERAGEA(G24:G27) -> 6.67 | H28: =AVERAGEA(H24:H27) -> 1.525 | I28: =AVERAGEA(I24:I27) -> 2.74515 | J28: =AVERAGEA(J24:J27) -> 6.17545 | T28: - | U28: =AVERAGE(U24:U27) -> 0.08275 | V28: =AVERAGE(V24:V27) -> 0.0095 | W28: =AVERAGE(W24:W26) -> 3.1266667 | X28: =AVERAGE(X24:X27) -> 5.53625 | Y28: =AVERAGE(Y24:Y27) -> 9.915
B29: Ambulalakaw Lake | C29: =C15 -> 45369 | D29: - | E29: <0.3*1 | F29: <0.06*1 | G29: - | H29: - | I29: - | J29: - | R29: 0 | T29: - | U29: 0
C30: =C16 -> 45469 | D30: - | E30: <0.3*1 | F30: <0.06*1 | G30: - | H30: - | I30: - | J30: - | T30: - | U30: 0
C31: =C17 -> 45580 | D31: - | E31: <0.3*1 | F31: <0.06*1 | G31: - | H31: - | I31: - | J31: - | R31: 0.081 | T31: - | U31: 0.081
C32: =C18 -> 45636 | D32: - | E32: <0.3*1 | F32: <0.06*1 | G32: - | H32: - | I32: - | J32: - | T32: - | U32: 0
C33: mean | D33: - | E33: <0.3*1 | F33: <0.06*1 | G33: - | H33: - | I33: - | J33: - | T33: - | U33: =AVERAGE(U29:U32) -> 0.02025 | V33: =AVERAGE(V29:V32) -> #DIV/0! | W33: =AVERAGE(W29:W31) -> #DIV/0! | X33: =AVERAGE(X29:X32) -> #DIV/0! | Y33: =AVERAGE(Y29:Y32) -> #DIV/0!
B34: note | R34: =AVERAGE(R29,R31) -> 0.0405
B35: - : No analysis or measurement.
B36: *1: Less than determination limit.
B37: *2: Mean of pH takes an average of hydrogen ion.
B38: # When the value is under detection limit, it is considered as "0". Then the average and R1R2 were calculated by using it.
D40: Anion | E40: Cation | F40: R1 | G40: Judge | I40: Λcalc | J40: R2 | K40: Judge
B41: Pandin Lake | C41: =C10 -> 45344 | D41: =+(N(H10)/48.03+N(I10)/62.01+J10/35.45+N(G10)+N(E24)/31.66+N(F24)/46.01)*1000 -> 2136.021 | E41: =10^(6-E10)+(N(K10)/18.04+L10/22.99+M10/39.1+N(N10)/20.04+N(O10)/12.16)*1000 -> 2165.0843 | F41: =100*(E41-D41)/(E41+D41) -> 0.67571613 | G41: Օ | I41: =(349.7*10^(3-E10)+(80*N(H10)/48.03+71.5*N(I10)/62.01+76.3*J10/35.45+73.5*N(K10)/18.04+50.1*L10/22.99+73.5*M10/39.1+59.8*N(N10)/20.04+53.3*N(O10)/12.16+44.5*N(G10)+69*N(E24)/31.66+71.8*N(F24)/46.01))*1/10 -> 22.231739 | J41: =100*(I41-F10)/(I41+F10) -> 7.5510596 | K41: Օ
C42: =C11 -> 45428 | D42: =+(N(H11)/48.03+N(I11)/62.01+J11/35.45+N(G11)+N(E25)/31.66+N(F25)/46.01)*1000 -> 2000.0237 | E42: =10^(6-E11)+(N(K11)/18.04+L11/22.99+M11/39.1+N(N11)/20.04+N(O11)/12.16)*1000 -> 2077.4465 | F42: =100*(E42-D42)/(E42+D42) -> 1.8987934 | G42: Օ | I42: =(349.7*10^(3-E11)+(80*N(H11)/48.03+71.5*N(I11)/62.01+76.3*J11/35.45+73.5*N(K11)/18.04+50.1*L11/22.99+73.5*M11/39.1+59.8*N(N11)/20.04+53.3*N(O11)/12.16+44.5*N(G11)+69*N(E25)/31.66+71.8*N(F25)/46.01))*1/10 -> 21.040898 | J42: =100*(I42-F11)/(I42+F11) -> 4.1863333 | K42: Օ
C43: =C12 -> 45534 | D43: =+(N(H12)/48.03+N(I12)/62.01+J12/35.45+N(G12)+N(E26)/31.66+N(F26)/46.01)*1000 -> 1785.9081 | E43: =10^(6-E12)+(N(K12)/18.04+L12/22.99+M12/39.1+N(N12)/20.04+N(O12)/12.16)*1000 -> 1875.6596 | F43: =100*(E43-D43)/(E43+D43) -> 2.4511776 | G43: Օ | I43: =(349.7*10^(3-E12)+(80*N(H12)/48.03+71.5*N(I12)/62.01+76.3*J12/35.45+73.5*N(K12)/18.04+50.1*L12/22.99+73.5*M12/39.1+59.8*N(N12)/20.04+53.3*N(O12)/12.16+44.5*N(G12)+69*N(E26)/31.66+71.8*N(F26)/46.01))*1/10 -> 18.984342 | J43: =100*(I43-F12)/(I43+F12) -> 5.2804012 | K43: Օ
C44: =C13 -> 45617 | D44: =+(N(H13)/48.03+N(I13)/62.01+J13/35.45+N(G13)+N(E27)/31.66+N(F27)/46.01)*1000 -> 1765.1258 | E44: =10^(6-E13)+(N(K13)/18.04+L13/22.99+M13/39.1+N(N13)/20.04+N(O13)/12.16)*1000 -> 1801.2279 | F44: =100*(E44-D44)/(E44+D44) -> 1.0122972 | G44: Օ | I44: =(349.7*10^(3-E13)+(80*N(H13)/48.03+71.5*N(I13)/62.01+76.3*J13/35.45+73.5*N(K13)/18.04+50.1*L13/22.99+73.5*M13/39.1+59.8*N(N13)/20.04+53.3*N(O13)/12.16+44.5*N(G13)+69*N(E27)/31.66+71.8*N(F27)/46.01))*1/10 -> 18.56819 | J44: =100*(I44-F13)/(I44+F13) -> -3.6874398 | K44: Օ
...

Sheet (8)Rus-2024
B1: Table 6.4.8 Result of Inland Aquatic Environment Monitoring
B3: Duration: | C3: 2024.2-2024.11
B4: Country: | C4: Russia
B5: Lake/Stream: | C5: (See below)
D7: Mandatory Parameters: 4 times/year
B8: Site | C8: Sampling | D8: Temp. | E8: pH | F8: EC | G8: Alkalinity | H8: SO42- | I8: NO3- | J8: Cl- | K8: NH4+ | L8: Na+ | M8: K+ | N8: Ca2+ | O8: Mg2+
C9: Date | D9: (oC) | F9: (mS/m) | G9: (meq/L) | H9: (mg/L) | I9: (mg/L) | J9: (mg/L) | K9: (mg/L) | L9: (mg/L) | M9: (mg/L) | N9: (mg/L) | O9: (mg/L)
B10: Pereemnaya River | C10: 45355 | D10: 0.2 | E10: 6.6183333 | F10: 5.5075 | G10: 0.13116667 | H10: 14.316667 | I10: 0.72666667 | J10: 0.12 | K10: 0.0078333333 | L10: 1.34 | M10: 0.63 | N10: 6.16 | O10: 0.93833333
C11: 45418 | D11: 6.4 | E11: 6.7033333 | F11: 3.5006667 | G11: 0.096 | H11: 7.7666667 | I11: 1.12 | J11: 0.055 | K11: 0.0046666667 | L11: 0.655 | M11: 0.54166667 | N11: 3.6966667 | O11: 0.7
C12: 45488 | D12: 16.6 | E12: 6.8916667 | F12: 5.38 | G12: 0.14083333 | H12: 14.533333 | I12: 0.38 | J12: 0.04 | K12: 0.007 | L12: 1.055 | M12: 0.74833333 | N12: 5.67 | O12: 1.1
C13: 45575 | D13: 4.1 | E13: 6.7266667 | F13: 5.065 | G13: 0.154 | H13: 11.646667 | I13: 0.59 | J13: 0.07 | K13: 0.0075 | L13: 0.93333333 | M13: 0.88666667 | N13: 5.04 | O13: 1
C14: mean*1 | D14: =AVERAGEA(D10:D13) -> 6.825 | E14: =-LOG((10^(-E10)+10^(-E11)+10^(-E12)+10^(-E13))/4) -> 6.7242389 | F14: =AVERAGEA(F10:F13) -> 4.8632917 | G14: =AVERAGEA(G10:G13) -> 0.1305 | H14: =AVERAGEA(H10:H13) -> 12.065833 | I14: =AVERAGEA(I10:I13) -> 0.70416667 | J14: =AVERAGEA(J10:J13) -> 0.07125 | K14: =AVERAGEA(K10:K13) -> 0.00675 | L14: =AVERAGEA(L10:L13) -> 0.99583333 | M14: =AVERAGEA(M10:M13) -> 0.70166667 | ... O14: =AVERAGEA(O10:O13) -> 0.93458333
B15: Komarovka River | C15: 45334 | D15: 0.1 | E15: 6.4366667 | F15: 7.9616667 | G15: 0.371 | H15: 8.0833333 | I15: 0.1565 | J15: 1.5 | K15: 0.066666667 | L15: 4.0666667 | M15: 1.5166667 | N15: 7.3166667 | O15: 0.51666667
C16: 45390 | D16: 5 | E16: 6.665 | F16: 7.73 | G16: 0.73883333 | H16: 7.7333333 | I16: 0.66433333 | J16: 3.7 | K16: 0.078166667 | L16: 5.15 | M16: 1.8333333 | N16: 9.7333333 | O16: 3.0666667
C17: 45454 | D17: 13.8 | E17: 6.68 | F17: 7.47 | G17: 0.92366667 | H17: 7.5166667 | I17: 0.3115 | J17: 4.7833333 | K17: 0.074166667 | L17: 13.016667 | M17: 1.6166667 | N17: 11.966667 | O17: 0.5
C18: 45545 | D18: 17.3 | E18: 6.8566667 | F18: 8.2066667 | G18: 0.241 | H18: 7.5333333 | I18: 1.2998333 | J18: 3.0833333 | K18: 0.366 | L18: 4.25 | M18: 0.46666667 | N18: 4.7166667 | O18: 0.36
C19: 45607 | D19: 3.8 | E19: 6.4833333 | F19: 8.2 | G19: 0.9535 | H19: 1.85 | I19: 0.197 | J19: 3.1833333 | K19: 0.099333333 | L19: 4.15 | M19: 1.5 | N19: 13.083333 | O19: 2.3833333
C20: mean*1 | D20: =AVERAGEA(D15:D19) -> 8 | E20: =-LOG((10^(-E15)+10^(-E16)+10^(-E17)+10^(-E18)+10^(-E19))/5) -> 6.5990208 | F20: =AVERAGEA(F15:F19) -> 7.9136667 | G20: =AVERAGEA(G15:G19) -> 0.6456 | H20: =AVERAGEA(H15:H19) -> 6.5433333 | I20: =AVERAGEA(I15:I19) -> 0.52583333 | J20: =AVERAGEA(J15:J19) -> 3.25 | K20: =AVERAGEA(K15:K19) -> 0.13686667 | L20: =AVERAGEA(L15:L19) -> 6.1266667 | M20: =AVERAGEA(M15:M19) -> 1.3866667 | ... O20: =AVERAGEA(O15:O19) -> 1.3653333
D22: Mandatory Parameters: Once/year | I22: Optional Parameters
B23: Site | C23: Sampling | D23: Transparency | E23: Water color | F23: COD | G23: NO2- | H23: PO43- | I23: Si | J23: O2 | K23: TP | L23: Fe
C24: Date | D24: (m) | F24: (mg/L) | G24: (mg/L) | H24: (mg/L) | I24: (mg/L) | J24: (mg/L) | K24: (mg/L) | L24: (mg/L)
B25: Pereemnaya River | C25: =C10 -> 45355 | D25: - | E25: colorless | F25: 0.7 | G25: 0.001 | H25: 0.002 | I25: 3.8466667 | J25: 12.293333 | K25: 0.0035 | L25: -
C26: =C11 -> 45418 | D26: - | E26: light yellow | F26: 3.8666667 | G26: 0.0033333333 | H26: 0.0035 | I26: 0.45 | J26: 9.5133333 | K26: 0.0086666667 | L26: -
C27: =C12 -> 45488 | D27: - | E27: colorless | F27: 1.95 | G27: 0.0013333333 | H27: 0.0015 | I27: 0.99 | J27: 9.9466667 | K27: 0.0038333333 | L27: -
C28: =C13 -> 45575 | D28: - | E28: colorless | F28: 3.8666667 | G28: 0.002 | H28: 0.0015 | I28: 1.015 | J28: 11.39 | K28: 0.008 | L28: -
C29: mean | D29: - | E29: - | F29: =AVERAGEA(F25:F28) -> 2.5958333 | G29: =AVERAGEA(G25:G28) -> 0.0019166667 | H29: =AVERAGEA(H25:H28) -> 0.002125 | I29: =AVERAGEA(I25:I28) -> 1.5754167 | J29: =AVERAGEA(J25:J28) -> 10.785833 | K29: =AVERAGEA(K25:K28) -> 0.006 | L29: -
B30: Komarovka River | C30: =C15 -> 45334 | D30: - | E30: colorless | F30: 2.7666667 | G30: 0.0073333333 | H30: 0.020666667 | I30: 5.9216667 | J30: 8.7533333 | K30: - | L30: 0.15266667
C31: =C16 -> 45390 | D31: - | E31: colorless | F31: 4.8333333 | G31: 0.013333333 | H31: 0.0093333333 | I31: 4.83 | J31: 9.9083333 | K31: - | L31: 0.1795
C32: =C17 -> 45454 | D32: - | E32: colorless | F32: 5.8666667 | G32: 0.0076666667 | H32: 0.033666667 | I32: 5.5833333 | J32: 8.8416667 | K32: - | L32: 0.4595
C33: =C18 -> 45545 | D33: - | E33: colorless | F33: 6.8 | G33: 0.0105 | H33: 0.019 | I33: 4.635 | J33: 7.3866667 | K33: - | L33: 0.55883333
C34: =C19 -> 45607 | D34: - | E34: colorless | F34: 5.1 | G34: 0.044 | H34: 0.029 | I34: 4.515 | J34: 7.09 | K34: - | L34: 0.78116667
C35: mean | D35: - | E35: - | F35: =AVERAGEA(F30:F34) -> 5.0733333 | G35: =AVERAGEA(G30:G34) -> 0.016566667 | H35: =AVERAGEA(H30:H34) -> 0.022333333 | I35: =AVERAGEA(I30:I34) -> 5.097 | J35: =AVERAGEA(J30:J34) -> 8.396 | K35: - | L35: =AVERAGEA(L30:L34) -> 0.42633333
B36: note
B37: - : No analysis or measurement.
B38: *1: Mean of pH takes an average of hydrogen ion.
B39: #Construction of a new bridge has started in 2021 at the water sampling site on the Pereemnaya River. Water samples were taken upstream from the construction place, but in winter there was a flooding of a large area around. Deviations from natural values may be observed in 2021-2022, especially in winter.
D43: Anion | E43: Cation | F43: R1 | G43: Judge | I43: Λcalc | J43: R2 | K43: Judge
B44: Pereemnaya River | C44: =C10 -> 45355 | D44: =+(H10/48.03+I10/62.01+J10/35.45+G10+H25/31.66+N(G25)/46.01)*1000 -> 444.43275 | E44: =10^(6-E10)+(N(K10)/18.04+L10/22.99+M10/39.1+N10/20.04+O10/12.16)*1000 -> 459.62457 | F44: =100*(E44-D44)/(E44+D44) -> 1.6804042 | G44: Օ | I44: =(349.7*10^(3-E10)+(80*H10/48.03+71.5*I10/62.01+76.3*J10/35.45+73.5*N(K10)/18.04+50.1*L10/22.99+73.5*M10/39.1+59.8*N10/20.04+53.3*O10/12.16+44.5*G10+69*H25/31.66+71.8*N(G25)/46.01))*1/10 -> 5.7500295 | J44: =100*(I44-F10)/(I44+F10) -> 2.1543758 | K44: Օ
C45: =C11 -> 45418 | D45: =+(H11/48.03+I11/62.01+J11/35.45+G11+H26/31.66+N(G26)/46.01)*1000 -> 277.50057 | E45: =10^(6-E11)+(N(K11)/18.04+L11/22.99+M11/39.1+N11/20.04+O11/12.16)*1000 -> 284.83089 | F45: =100*(E45-D45)/(E45+D45) -> 1.3035591 | G45: Օ | I45: =(349.7*10^(3-E11)+(80*H11/48.03+71.5*I11/62.01+76.3*J11/35.45+73.5*N(K11)/18.04+50.1*L11/22.99+73.5*M11/39.1+59.8*N11/20.04+53.3*O11/12.16+44.5*G11+69*H26/31.66+71.8*N(G26)/46.01))*1/10 -> 3.5264058 | J45: =100*(I45-F11)/(I45+F11) -> 0.36628474 | K45: Օ
C46: =C12 -> 45488 | D46: =+(H12/48.03+I12/62.01+J12/35.45+G12+H27/31.66+N(G27)/46.01)*1000 -> 450.75474 | E46: =10^(6-E12)+(N(K12)/18.04+L12/22.99+M12/39.1+N12/20.04+O12/12.16)*1000 -> 438.93949 | F46: =100*(E46-D46)/(E46+D46) -> -1.3280126 | G46: Օ | I46: =(349.7*10^(3-E12)+(80*H12/48.03+71.5*I12/62.01+76.3*J12/35.45+73.5*N(K12)/18.04+50.1*L12/22.99+73.5*M12/39.1+59.8*N12/20.04+53.3*O12/12.16+44.5*G12+69*H27/31.66+71.8*N(G27)/46.01))*1/10 -> 5.6523957 | J46: =100*(I46-F12)/(I46+F12) -> 2.4690532 | K46: Օ
...

Sheet (9)Thai-2024
B1: Table 6.4.9 Result of Inland Aquatic Environment Monitoring
B3: Duration: | C3: 2024.2-2024.8
B4: Country: | C4: Thailand
B5: Lake/Stream: | C5: Vajiralongkorn Dam&Resovior
D7: Mandatory Parameters : 4 times/year
B8: Site | C8: Sampling | D8: Temp. | E8: pH | F8: EC | G8: Alkalinity | H8: SO42- | I8: NO3- | J8: Cl- | K8: NH4+ | L8: Na+ | M8: K+ | N8: Ca2+ | O8: Mg2+
C9: Date | D9: (oC) | F9: (mS/m) | G9: (meq/L) | H9: (mg/L) | I9: (mg/L) | J9: (mg/L) | K9: (mg/L) | L9: (mg/L) | M9: (mg/L) | N9: (mg/L) | O9: (mg/L)
B10: Station1 | C10: 45344 | D10: 29 | E10: 7.6 | F10: 12.54 | G10: 1.145 | H10: 1.115 | I10: 0.1 | J10: 1.095 | K10: - | L10: - | M10: - | N10: - | O10: -
B11: (Ban Pong Chang) | C11: 45463 | D11: 30.8 | E11: 7.9 | F11: 13.22 | G11: 1.145 | H11: 1.345 | I11: 0.05 | J11: 0.975 | K11: - | L11: - | M11: - | N11: - | O11: -
C12: 45526 | D12: 31.75 | E12: 7.1 | F12: 12.3 | G12: 1.065 | H12: 1.285 | I12: 0.105 | J12: 1.09 | K12: - | L12: - | M12: - | N12: - | O12: -
C14: mean*1 | D14: =AVERAGEA(D10:D13) -> 30.516667 | E14: =-LOG((10^(-E10)+10^(-E11)+10^(-E12))/4) -> 7.5333513 | F14: =AVERAGEA(F10:F13) -> 12.686667 | G14: =AVERAGEA(G10:G13) -> 1.1183333 | H14: =AVERAGEA(H10:H13) -> 1.2483333 | I14: =AVERAGEA(I10:I13) -> 0.085 | J14: =AVERAGEA(J10:J13) -> 1.0533333 | K14: - | L14: - | M14: - | N14: - | O14: -
B15: Station2 | C15: 45344 | D15: 27.5 | E15: 7.9 | F15: 11.82 | G15: 1.125 | H15: 1.25 | I15: 0.1 | J15: 1.055 | K15: - | L15: - | M15: - | N15: - | O15: -
B16: (Ban Pang Pueng) | C16: 45463 | D16: 30.8 | E16: 7.7 | F16: 12.89 | G16: 1.14 | H16: 1.47 | I16: 0 | J16: 0.96 | K16: - | L16: - | M16: - | N16: - | O16: -
C17: 45526 | D17: 30.35 | E17: 6.45 | F17: 12.05 | G17: 1.06 | H17: 1.495 | I17: 0.25 | J17: 1.26 | K17: - | L17: - | M17: - | N17: - | O17: -
C19: mean*1 | D19: =AVERAGEA(D15:D18) -> 29.55 | E19: =-LOG((10^(-E15)+10^(-E16)+10^(-E17))/4) -> 7.0139505 | F19: =AVERAGEA(F15:F18) -> 12.253333 | G19: =AVERAGEA(G15:G18) -> 1.1083333 | H19: =AVERAGEA(H15:H18) -> 1.405 | I19: =AVERAGEA(I15:I18) -> 0.11666667 | J19: =AVERAGEA(J15:J18) -> 1.0916667 | K19: - | L19: - | M19: - | N19: - | O19: -
D21: Mandatory Parameters : Once/year
B22: Site | C22: Sampling | D22: Transparency | E22: Water color | F22: PO43- | G22: NO2- | H22: COD
C23: Date | D23: (m) | F23: (mg/L) | G23: (mg/L) | H23: (mg/L)
B24: Station1 | C24: =C10 -> 45344 | D24: 5 | E24: light green | F24: 0.01 | G24: - | H24: -
B25: (Ban Pong Chang) | C25: =C11 -> 45463 | D25: 4 | E25: light green | F25: 0.01 | G25: - | H25: -
C26: =C12 -> 45526 | D26: 3.25 | E26: light green | F26: 0.01 | G26: - | H26: -
C28: mean | D28: =AVERAGEA(D24:D27) -> 4.0833333 | E28: - | F28: =AVERAGEA(F24:F25) -> 0.01 | G28: - | H28: -
B29: Station2 | C29: =C15 -> 45344 | D29: 5 | E29: light green | F29: 0.01 | G29: - | H29: -
B30: (Ban Pang Pueng) | C30: =C16 -> 45463 | D30: 4.4 | E30: light green | F30: 0.01 | G30: - | H30: -
C31: =C17 -> 45526 | D31: 3 | E31: light green | F31: 0.01 | G31: - | H31: -
C33: mean | D33: =AVERAGEA(D29:D32) -> 4.1333333 | E33: - | F33: =AVERAGEA(F29:F30) -> 0.01 | G33: - | H33: -
B34: note
B35: - : No analysis or measurement.
B36: *1: Mean of pH takes an average of hydrogen ion.
C38: Date | D38: Anion | E38: Cation | F38: R1 | G38: Judge | I38: Λcalc | J38: R2 | K38: Judge
B39: Station1 | C39: =C10 -> 45344 | D39: =+(H10/48.03+N(I10)/62.01+J10/35.45+G10+N(G24)/46.01+N(F24)/31.66)*1000 -> 1201.0317 | E39: - | F39: - | G39: - | I39: - | J39: - | K39: -
B40: (Ban Pong Chang) | C40: =C11 -> 45463 | D40: =+(H11/48.03+N(I11)/62.01+J11/35.45+G11+N(G25)/46.01+N(F25)/31.66)*1000 -> 1201.629 | E40: - | F40: - | G40: - | I40: - | J40: - | K40: -
C41: =C12 -> 45526 | D41: =+(H12/48.03+N(I12)/62.01+J12/35.45+G12+N(G26)/46.01+N(F26)/31.66)*1000 -> 1124.5108 | E41: - | F41: - | G41: - | I41: - | J41: - | K41: -
C42: =C13 -> 0 | D42: =+(H13/48.03+N(I13)/62.01+J13/35.45+G13+N(G27)/46.01+N(F27)/31.66)*1000 -> 0 | E42: - | F42: - | G42: - | I42: - | J42: - | K42: -
B43: Station2 | C43: =C15 -> 45344 | D43: =+(H15/48.03+N(I15)/62.01+J15/35.45+G15+N(G29)/46.01+N(F29)/31.66)*1000 -> 1182.7141 | E43: - | F43: - | G43: - | I43: - | J43: - | K43: -
B44: (Ban Pang Pueng) | C44: =C16 -> 45463 | D44: =+(H16/48.03+N(I16)/62.01+J16/35.45+G16+N(G30)/46.01+N(F30)/31.66)*1000 -> 1198.0021 | E44: - | F44: - | G44: - | I44: - | J44: - | K44: -
C45: =C17 -> 45526 | D45: =+(H17/48.03+N(I17)/62.01+J17/35.45+G17+N(G31)/46.01+N(F31)/31.66)*1000 -> 1131.0169 | E45: - | F45: - | G45: - | I45: - | J45: - | K45: -
