Workbook

Sheet SO2
A1: Table 4.3 SO2
A3: Unit : ppb | D3: 2012 | P3: Annual
A4: Country | B4: Site | D4: Jan | E4: Feb | F4: Mar | G4: Apr | H4: May | I4: Jun | J4: Jul | K4: Aug | L4: Sep | M4: Oct | N4: Nov | O4: Dec
A5: Cambodia | B5: Phnom Penh | C5: Mean | D5: 1.7375311 | E5: 1.6790248 | F5: 1.2919901 | G5: 1.2481636 | H5: 1.4749962 | I5: 1.1944414 | J5: 0.95693425 | K5: 1.4014011 | L5: 1.5357304 | M5: 1.102919 | N5: 1.2274799 | O5: 1.1390822 | P5: 1.3335684
C6: % | D6: 100 | E6: 100 | F6: 100 | G6: 100 | H6: 100 | I6: 100 | J6: 100 | K6: 100 | L6: 100 | M6: 100 | N6: 100 | O6: 100 | P6: 100
C7: Max-2w | D7: 2.0298509 | E7: 1.7380516 | F7: 1.763698 | G7: 1.6160014 | H7: 1.6072544 | I7: 1.3788902 | J7: 1.2536887 | K7: 1.8081862 | L7: 1.6635902 | M7: 1.1572545 | N7: 1.6709169 | O7: 1.2002273 | P7: 2.0298509
C8: Min-2w | D8: 1.4452113 | E8: 1.6199981 | F8: 0.88118143 | G8: 0.88032578 | H8: 1.3427381 | I8: 1.0099926 | J8: 0.66017977 | K8: 0.99642234 | L8: 1.4078706 | M8: 1.0485835 | N8: 0.78404297 | O8: 1.0779371 | P8: 0.66017977
A9: China | B9: Jinyunshan | C9: Mean | D9: 14.455645 | E9: 11.857759 | F9: 8.6008065 | G9: 11.75 | H9: 10.475806 | I9: 10.65 | J9: 6.7016129 | K9: 5.6975806 | L9: 6.35 | M9: 9.1209677 | N9: 11.25 | O9: 10.681452 | P9: 9.7858607
C10: % | D10: 100 | E10: 100 | F10: 100 | G10: 100 | H10: 100 | I10: 100 | J10: 100 | K10: 100 | L10: 100 | M10: 100 | N10: 100 | O10: 100 | P10: 100.27397
C11: Max-d | D11: 30.75 | E11: 34.125 | F11: 22.5 | G11: 28.5 | H11: 25.125 | I11: 23.625 | J11: 23.25 | K11: 25.875 | L11: 15.75 | M11: 28.125 | N11: 25.875 | O11: 35.25 | P11: 35.25
C12: Min-d | D12: 3 | E12: 3.375 | F12: 1.5 | G12: 4.5 | H12: 2.625 | I12: 1.5 | J12: 0.75 | K12: 0.375 | L12: 0.375 | M12: 1.875 | N12: 2.25 | O12: 0.75 | P12: 0.375
B13: Hongwen | C13: Mean | D13: 6.9193548 | E13: 8.2241379 | F13: 9.3024194 | G13: 8.4 | H13: 7.391129 | I13: 4.9913793 | J13: 4.8348214 | K13: 6.7625 | L13: 7.2375 | M13: 7.0403226 | N13: 7.975 | O13: 7.5967742 | P13: 7.2454986
C14: % | D14: 100 | E14: 100 | F14: 100 | G14: 100 | H14: 100 | I14: 96.666667 | J14: 90.322581 | K14: 96.774194 | L14: 100 | M14: 100 | N14: 100 | O14: 100 | P14: 98.90411
C15: Max-d | D15: 13.875 | E15: 15.75 | F15: 16.875 | G15: 16.125 | H15: 14.625 | I15: 16.5 | J15: 10.5 | K15: 11.25 | L15: 15.375 | M15: 14.25 | N15: 13.5 | O15: 11.25 | P15: 16.875
C16: Min-d | D16: 3.375 | E16: 3.375 | F16: 5.25 | G16: 2.625 | H16: 2.25 | I16: 1.875 | J16: 1.875 | K16: 3.375 | L16: 2.625 | M16: 4.5 | N16: 4.125 | O16: 4.125 | P16: 1.875
B17: Xiang Zhou | C17: Mean | D17: 4.8991935 | E17: 4.0862069 | F17: 3.3145161 | G17: 2.975 | H17: 2.25 | I17: 1.7125 | J17: 1.4758065 | K17: 3.3387097 | L17: 3.9375 | M17: 3.7258065 | N17: 3.675 | O17: 3.483871 | P17: 3.2366803
C18: % | D18: 100 | E18: 100 | F18: 100 | G18: 100 | H18: 100 | I18: 100 | J18: 100 | K18: 100 | L18: 100 | M18: 100 | N18: 100 | O18: 100 | P18: 100.27397
C19: Max-d | D19: 12.375 | E19: 9 | F19: 7.125 | G19: 8.625 | H19: 4.125 | I19: 3 | J19: 4.5 | K19: 9.375 | L19: 12.375 | M19: 6.75 | N19: 9.375 | O19: 6.375 | P19: 12.375
C20: Min-d | D20: 1.125 | E20: 1.5 | F20: 1.125 | G20: 0.75 | H20: 0.75 | I20: 0.75 | J20: 0.75 | K20: 0.75 | L20: 1.125 | M20: 1.5 | N20: 1.5 | O20: 1.5 | P20: 0.75
A21: Indonesia | B21: Jakarta | C21: Mean | D21: 4 | E21: 4 | F21: 5 | G21: 5 | H21: 4 | I21: 6 | J21: 7 | K21: 6 | L21: 6 | M21: 8 | N21: 7 | O21: 6 | P21: 5.6666667
C22: % | D22: 100 | E22: 100 | F22: 100 | G22: 100 | H22: 100 | I22: 100 | J22: 100 | K22: 100 | L22: 100 | M22: 100 | N22: 100 | O22: 100 | P22: 100
C23: Max-m | D23: 4 | E23: 4 | F23: 5 | G23: 5 | H23: 4 | I23: 6 | J23: 7 | K23: 6 | L23: 6 | M23: 8 | N23: 7 | O23: 6 | P23: 8
C24: Min-m | D24: 4 | E24: 4 | F24: 5 | G24: 5 | H24: 4 | I24: 6 | J24: 7 | K24: 6 | L24: 6 | M24: 8 | N24: 7 | O24: 6 | P24: 4
B25: Serpong | C25: Mean | D25: 0.5402688 | E25: 0.32491378 | F25: 0.12687211 | G25: 0.86092076 | H25: 2.384181 | I25: 1.6227196 | J25: 1.6667311 | K25: 0.83585866 | L25: 0.94256164 | M25: 0.87703487 | N25: 0.77100777 | O25: 0.64908176 | P25: 0.92950133
C26: % | D26: 96.551724 | E26: 100 | F26: 100 | G26: 100 | H26: 100 | I26: 100 | J26: 100 | K26: 100 | L26: 100 | M26: 100 | N26: 100 | O26: 91.176471 | P26: 98.927614
C27: Max-2w | D27: 0.79414724 | E27: 0.34442019 | F27: 0.16941747 | G27: 1.2519714 | H27: 2.9531528 | I27: 1.9028638 | J27: 1.7211838 | K27: 1.2167695 | L27: 0.99388667 | M27: 1.0306255 | N27: 1.2221163 | O27: 0.65209711 | P27: 2.9531528
C28: Min-2w | D28: 0.28639035 | E28: 0.30540736 | F28: <0.1 | G28: 0.46987012 | H28: 1.8152092 | I28: 1.3425754 | J28: 1.6122784 | K28: 0.51117058 | L28: 0.8912366 | M28: 0.72344418 | N28: 0.31989929 | O28: 0.64606641 | P28: <0.1
B29: Kototabang | C29: Mean
C30: %
C31: Max-w
C32: Min-w
B33: Bandung | C33: Mean | D33: 2.4720047 | E33: 4.04159 | F33: 2.6705793 | G33: 3.6849934 | H33: 1.3223911 | I33: 5.6107644 | J33: 4.786859 | K33: 2.2775431 | L33: 3.6357707 | M33: 6.6438867 | N33: 5.4405951 | O33: 5.2524641 | P33: 3.9866201
C34: % | D34: 100 | E34: 100 | F34: 100 | G34: 100 | H34: 100 | I34: 100 | J34: 100 | K34: 100 | L34: 100 | M34: 100 | N34: 100 | O34: 100 | P34: 100
C35: Max-m | D35: 2.4720047 | E35: 4.04159 | F35: 2.6705793 | G35: 3.6849934 | H35: 1.3223911 | I35: 5.6107644 | J35: 4.786859 | K35: 2.2775431 | L35: 3.6357707 | M35: 6.6438867 | N35: 5.4405951 | O35: 5.2524641 | P35: 6.6438867
C36: Min-m | D36: 2.4720047 | E36: 4.04159 | F36: 2.6705793 | G36: 3.6849934 | H36: 1.3223911 | I36: 5.6107644 | J36: 4.786859 | K36: 2.2775431 | L36: 3.6357707 | M36: 6.6438867 | N36: 5.4405951 | O36: 5.2524641 | P36: 1.3223911
A37: Japan | B37: Rishiri | C37: Mean | D37: 0.2014966 | E37: 0.99459064 | F37: 0.22677515 | G37: 0.14378531 | H37: 0.11379781 | I37: <0.1 | J37: <0.1 | K37: <0.1 | L37: <0.1 | M37: <0.1 | N37: 0.20520394 | O37: 0.77140903 | P37: 0.24329606
C38: % | D38: 98.790323 | E38: 98.275862 | F38: 90.860215 | G38: 98.333333 | H38: 98.387097 | I38: 98.75 | J38: 98.387097 | K38: 98.387097 | L38: 84.861111 | M38: 98.387097 | N38: 98.75 | O38: 98.252688 | P38: 96.709927
C39: Max-d | D39: 0.50416667 | E39: 6.7291667 | F39: 2.3958333 | G39: 0.38333333 | H39: 0.6047619 | I39: 0.29583333 | J39: 1.647619 | K39: 0.23333333 | L39: 0.10833333 | M39: 0.24166667 | N39: 1.0125 | O39: 6.4958333 | P39: 6.7291667
C40: Min-d | D40: <0.1 | E40: <0.1 | F40: <0.1 | G40: <0.1 | H40: <0.1 | I40: <0.1 | J40: <0.1 | K40: <0.1 | L40: <0.1 | M40: <0.1 | N40: <0.1 | O40: 0.10833333 | P40: 0.10833333
B41: Ochiishi | C41: Mean | D41: 0.16297521 | E41: 0.31128527 | F41: 0.18294036 | G41: <0.1 | H41: <0.1 | I41: 0.13583725 | J41: <0.1 | K41: <0.1 | L41: <0.1 | M41: 0.10687237 | N41: 0.13125 | O41: 0.42976023 | P41: 0.14322581
C42: % | D42: 81.317204 | E42: 91.666667 | F42: 96.908602 | G42: 98.055556 | H42: 95.698925 | I42: 88.75 | J42: 95.833333 | K42: 95.833333 | L42: 95.833333 | M42: 95.833333 | N42: 91.111111 | O42: 95.295699 | P42: 93.522313
C43: Max-d | D43: 0.49090909 | E43: 0.85833333 | F43: 0.55217391 | G43: 0.29166667 | H43: 0.325 | I43: 1.9230769 | J43: 0.19565217 | K43: 0.33043478 | L43: 0.33913043 | M43: 0.23913043 | N43: 0.33478261 | O43: 2.3956522 | P43: 2.3956522
C44: Min-d | D44: <0.1 | E44: <0.1 | F44: <0.1 | G44: <0.1 | H44: <0.1 | I44: <0.1 | J44: <0.1 | K44: <0.1 | L44: <0.1 | M44: <0.1 | N44: <0.1 | O44: <0.1 | P44: <0.1
B45: Tappi | C45: Mean | D45: 0.29931601 | E45: 0.83343066 | F45: 0.44832827 | G45: 0.29309859 | H45: 0.3830163 | I45: 0.46329114 | J45: 0.13690638 | K45: 0.25339674 | L45: 0.17118644 | M45: 0.18861912 | N45: 0.34017217 | O45: 0.91046196 | P45: 0.39325024
C46: % | D46: 98.252688 | E46: 98.41954 | F46: 88.44086 | G46: 98.611111 | H46: 98.924731 | I46: 98.75 | J46: 99.05914 | K46: 98.924731 | L46: 98.333333 | M46: 88.575269 | N46: 96.805556 | O46: 98.924731 | P46: 96.812386
C47: Max-d | D47: 0.92916667 | E47: 4.2833333 | F47: 1.9625 | G47: 1.5458333 | H47: 1.4791667 | I47: 2.0375 | J47: 0.43333333 | K47: 0.49166667 | L47: 0.55 | M47: 0.65416667 | N47: 1.2181818 | O47: 3.2 | P47: 4.2833333
C48: Min-d | D48: <0.1 | E48: 0.15833333 | F48: <0.1 | G48: <0.1 | H48: <0.1 | I48: <0.1 | J48: <0.1 | K48: <0.1 | L48: <0.1 | M48: <0.1 | N48: <0.1 | O48: 0.3 | P48: 0.15833333
B49: Sado-seki | C49: Mean | D49: 0.44965894 | E49: 0.77161765 | F49: 0.40382514 | G49: 0.37797101 | H49: 0.24916435 | I49: 0.16657183 | J49: 0.18253095 | K49: 0.18 | L49: 0.17271429 | M49: 0.30865385 | N49: 0.3009915 | O49: 0.52146423 | P49: 0.33784784
C50: % | D50: 98.521505 | E50: 97.701149 | F50: 98.387097 | G50: 95.833333 | H50: 96.505376 | I50: 97.638889 | J50: 97.715054 | K50: 88.037634 | L50: 97.222222 | M50: 97.849462 | N50: 98.055556 | O50: 80.77957 | P50: 95.321038
C51: Max-d | D51: 1.75 | E51: 3.5333333 | F51: 1.3875 | G51: 1.8875 | H51: 1.7583333 | I51: 0.60833333 | J51: 0.9125 | K51: 0.31666667 | L51: 0.42916667 | M51: 1.5208333 | N51: 1.1208333 | O51: 1.5333333 | P51: 3.5333333
C52: Min-d | D52: <0.1 | E52: 0.17083333 | F52: <0.1 | G52: <0.1 | H52: <0.1 | I52: <0.1 | J52: <0.1 | K52: <0.1 | L52: <0.1 | M52: <0.1 | N52: <0.1 | O52: <0.1 | P52: 0.17083333
B53: Happo | C53: Mean | D53: 0.55228495 | E53: 0.6908046 | F53: 0.54260753 | G53: 0.67528249 | H53: 0.31687075 | I53: 0.28107345 | J53: <0.1 | K53: 0.2417704 | L53: 0.13583333 | M53: 0.29342466 | N53: 0.32053446 | O53: 0.50874317 | P53: 0.39062245
C54: % | D54: 100 | E54: 100 | F54: 100 | G54: 98.333333 | H54: 98.790323 | I54: 98.333333 | J54: 98.387097 | K54: 97.177419 | L54: 83.333333 | M54: 98.11828 | N54: 98.75 | O54: 98.387097 | P54: 97.484062
C55: Max-d | D55: 1.7166667 | E55: 2.6458333 | F55: 2.0083333 | G55: 2.5583333 | H55: 0.8625 | I55: 0.99166667 | J55: 0.33333333 | K55: 1.0291667 | L55: 0.56666667 | M55: 1.2761905 | N55: 1.2083333 | O55: 1.6291667 | P55: 2.6458333
C56: Min-d | D56: <0.1 | E56: 0.17916667 | F56: <0.1 | G56: <0.1 | H56: <0.1 | I56: <0.1 | J56: <0.1 | K56: <0.1 | L56: <0.1 | M56: <0.1 | N56: <0.1 | O56: <0.1 | P56: 0.17916667
B57: Ijira | C57: Mean | D57: 0.12581522 | E57: 0.23280116 | F57: 0.24780822 | G57: 0.29382022 | H57: 0.40665761 | I57: 0.30340909 | J57: 0.21263587 | K57: 0.35907859 | L57: <0.1 | M57: 0.13817935 | N57: 0.12188498 | O57: <0.1 | P57: 0.2160504
C58: % | D58: 98.924731 | E58: 98.994253 | F58: 98.11828 | G58: 98.888889 | H58: 98.924731 | I58: 97.777778 | J58: 98.924731 | K58: 99.193548 | L58: 98.888889 | M58: 98.924731 | N58: 86.944444 | O58: 85.61828 | P58: 96.675774
C59: Max-d | D59: 0.4875 | E59: 1.1916667 | F59: 0.76666667 | G59: 0.97916667 | H59: 1.1916667 | I59: 1.9041667 | J59: 0.6625 | K59: 1.5458333 | L59: 0.23333333 | M59: 0.6625 | N59: 0.65833333 | O59: 0.4875 | P59: 1.9041667
C60: Min-d | D60: <0.1 | E60: <0.1 | F60: <0.1 | G60: <0.1 | H60: <0.1 | I60: <0.1 | J60: <0.1 | K60: <0.1 | L60: <0.1 | M60: <0.1 | N60: <0.1 | O60: <0.1 | P60: <0.1
B61: Oki | C61: Mean | D61: 1.1558621 | E61: 1.1885294 | F61: 0.52441054 | G61: 0.69886364 | H61: 0.43832418 | I61: 0.17303852 | J61: 0.24248276 | K61: 0.21568088 | L61: 0.16435786 | M61: 0.34972527 | N61: 0.65120226 | O61: 0.59806897 | P61: 0.53150397
C62: % | D62: 97.446237 | E62: 97.701149 | F62: 96.908602 | G62: 97.777778 | H62: 97.849462 | I62: 97.361111 | J62: 97.446237 | K62: 97.715054 | L62: 96.25 | M62: 97.849462 | N62: 98.194444 | O62: 97.446237 | P62: 97.495446
C63: Max-d | D63: 6.21 | E63: 4.4791667 | F63: 2.88 | G63: 2.9458333 | H63: 1.7958333 | I63: 1.1541667 | J63: 1.1791667 | K63: 0.54583333 | L63: 0.655 | M63: 1.1625 | N63: 2.46 | O63: 1.94 | P63: 6.21
C64: Min-d | D64: <0.1 | E64: 0.12916667 | F64: <0.1 | G64: 0.10833333 | H64: <0.1 | I64: <0.1 | J64: <0.1 | K64: <0.1 | L64: <0.1 | M64: <0.1 | N64: <0.1 | O64: <0.1 | P64: 0.10833333
B65: Banryu | C65: Mean | D65: 1.3187415 | E65: 0.87063142 | F65: 0.83210383 | G65: 0.69507736 | H65: 0.40081967 | I65: 0.2779661 | J65: 0.24336525 | K65: 0.26693989 | L65: 0.19648383 | M65: 0.34697802 | N65: 0.57556497 | O65: 0.61065574 | P65: 0.55233299
C66: % | D66: 98.252688 | E66: 97.844828 | F66: 98.387097 | G66: 98.75 | H66: 98.387097 | I66: 98.333333 | J66: 98.252688 | K66: 98.387097 | L66: 98.75 | M66: 97.849462 | N66: 98.333333 | O66: 98.387097 | P66: 98.326503
C67: Max-d | D67: 5.3708333 | E67: 3.1083333 | F67: 3.4541667 | G67: 2.3541667 | H67: 1.6833333 | I67: 1.1 | J67: 1.2083333 | K67: 0.85833333 | L67: 0.54583333 | M67: 1.0125 | N67: 2.0458333 | O67: 1.8666667 | P67: 5.3708333
C68: Min-d | D68: 0.1875 | E68: 0.1625 | F68: 0.125 | G68: <0.1 | H68: <0.1 | I68: <0.1 | J68: <0.1 | K68: <0.1 | L68: <0.1 | M68: <0.1 | N68: 0.12857143 | O68: <0.1 | P68: 0.125
B69: Yusuhara | C69: Mean | D69: 1.8986283 | E69: 1.5188596 | F69: 1.0978052 | G69: 1.2797163 | H69: 1.2105191 | I69: 0.20636364 | J69: 0.37616279 | K69: 0.28671096 | L69: 0.50964539 | M69: 0.75814917 | N69: 1.0422601 | O69: 0.83895748 | P69: 0.93271331
C70: % | D70: 97.983871 | E70: 98.275862 | F70: 97.983871 | G70: 97.916667 | H70: 98.387097 | I70: 91.666667 | J70: 92.473118 | K70: 80.913978 | L70: 97.916667 | M70: 97.311828 | N70: 89.722222 | O70: 97.983871 | P70: 94.865665
C71: Max-d | D71: 7.3583333 | E71: 12.3 | F71: 4.0625 | G71: 11.342857 | H71: 8.8291667 | I71: 1.7916667 | J71: 1.7958333 | K71: 1.925 | L71: 2.9666667 | M71: 4.7958333 | N71: 2.8047619 | O71: 2.2083333 | P71: 12.3
C72: Min-d | D72: <0.1 | E72: 0.11666667 | F72: <0.1 | G72: <0.1 | H72: <0.1 | I72: <0.1 | J72: <0.1 | K72: <0.1 | L72: <0.1 | M72: <0.1 | N72: <0.1 | O72: 0.17916667 | P72: 0.11666667
B73: Hedo | C73: Mean | D73: 0.43255495 | E73: 0.27215412 | F73: 0.50451436 | G73: 0.33764205 | H73: 0.19479452 | I73: 0.14837341 | J73: <0.1 | K73: <0.1 | L73: <0.1 | M73: <0.1 | N73: 0.27495652 | O73: 0.29120879 | P73: 0.21769104
C74: % | D74: 97.849462 | E74: 82.04023 | F74: 98.252688 | G74: 97.777778 | H74: 98.11828 | I74: 98.194444 | J74: 97.715054 | K74: 91.532258 | L74: 66.805556 | M74: 70.967742 | N74: 79.861111 | O74: 97.849462 | P74: 89.833789
C75: Max-d | D75: 2.1375 | E75: 1.7 | F75: 2.5809524 | G75: 2.0375 | H75: 1.0375 | I75: 0.39166667 | J75: 0.42916667 | K75: 0.10833333 | L75: 0.11666667 | M75: 0.2125 | N75: 1.6791667 | O75: 1.4666667 | P75: 2.5809524
C76: Min-d | D76: <0.1 | E76: <0.1 | F76: <0.1 | G76: <0.1 | H76: <0.1 | I76: <0.1 | J76: <0.1 | K76: <0.1 | L76: <0.1 | M76: <0.1 | N76: <0.1 | O76: <0.1 | P76: <0.1
B77: Ogasawara | C77: Mean | D77: <0.1 | E77: <0.1 | F77: 0.12063274 | G77: <0.1 | H77: <0.1 | I77: <0.1 | J77: <0.1 | K77: <0.1 | L77: <0.1 | M77: <0.1 | N77: <0.1 | O77: <0.1 | P77: <0.1
C78: % | D78: 97.446237 | E78: 94.971264 | F78: 97.715054 | G78: 97.361111 | H78: 97.715054 | I78: 97.777778 | J78: 97.580645 | K78: 98.252688 | L78: 96.944444 | M78: 97.983871 | N78: 97.638889 | O78: 97.580645 | P78: 97.42714
C79: Max-d | D79: 0.35 | E79: 0.1875 | F79: 0.725 | G79: 0.72916667 | H79: 0.11666667 | I79: 0.88333333 | J79: <0.1 | K79: <0.1 | L79: <0.1 | M79: <0.1 | N79: 0.2 | O79: 0.1 | P79: 0.88333333
C80: Min-d | D80: <0.1 | E80: <0.1 | F80: <0.1 | G80: <0.1 | H80: <0.1 | I80: <0.1 | J80: <0.1 | K80: <0.1 | L80: <0.1 | M80: <0.1 | N80: <0.1 | O80: <0.1 | P80: <0.1
B81: Tokyo | C81: Mean | D81: 1.220198 | E81: 1.4907594 | F81: 0.1206177 | G81: 1.0038797 | H81: 1.922012 | I81: 1.8653924 | J81: 2.6112433 | K81: 2.0371038 | L81: 2.6521442 | M81: 0.84245648 | N81: 0.77862743 | O81: 0.9720878 | P81: 1.4184377
C82: % | D82: 100 | E82: 100 | F82: 100 | G82: 100 | H82: 100 | I82: 100 | J82: 100 | K82: 100 | L82: 100 | M82: 100 | N82: 100 | O82: 100 | P82: 100
C83: Max-2w | D83: 1.4123489 | E83: 1.500701 | F83: 0.15120886 | G83: 1.4731135 | H83: 2.1975814 | I83: 1.9087288 | J83: 3.0949857 | K83: 2.6127076 | L83: 2.6820422 | M83: 0.91449832 | N83: 0.79187489 | O83: 1.0171922 | P83: 3.0949857
C84: Min-2w | D84: 1.0280471 | E84: 1.4808178 | F84: <0.1 | G84: 0.18501549 | H84: 1.6464425 | I84: 1.8220559 | J84: 2.1275008 | K84: 1.4614999 | L84: 2.6222463 | M84: 0.71046441 | N84: 0.76537996 | O84: 0.92698337 | P84: <0.1
A85: Lao PDR | B85: Vientiane | C85: Mean
C86: %
C87: Max-2w
C88: Min-2w
A89: Malaysia | B89: Petaling Jaya | C89: Mean | D89: 1.3597865 | E89: 1.4624902 | F89: 1.804459 | G89: 2.5248628 | H89: 1.8020312 | I89: - | J89: - | K89: - | L89: - | M89: - | N89: - | O89: - | P89: 1.7913799
C90: % | D90: 100 | E90: 100 | F90: 100 | G90: 100 | H90: 100 | I90: 0 | J90: 0 | K90: 0 | L90: 0 | M90: 0 | N90: 0 | O90: 0 | P90: 40.384615
C91: Max-w | D91: 1.4189808 | E91: 1.9937366 | F91: 2.842529 | G91: 3.0297873 | H91: 2.226187 | I91: - | J91: - | K91: - | L91: - | M91: - | N91: - | O91: - | P91: 3.0297873
C92: Min-w | D92: 1.2278764 | E92: 1.1490307 | F92: 1.3769138 | G92: 1.3480679 | H92: 1.3670581 | I92: - | J92: - | K92: - | L92: - | M92: - | N92: - | O92: - | P92: 1.1490307
B93: Tanah Rata | C93: Mean | D93: <0.1 | E93: <0.1 | F93: <0.1 | G93: <0.1 | H93: <0.1 | I93: 0.16471043 | J93: 0.10612909 | K93: <0.1 | L93: <0.1 | M93: 0.48142705 | N93: <0.1 | O93: <0.1 | P93: <0.1
C94: % | D94: 100 | E94: 100 | F94: 100 | G94: 100 | H94: 100 | I94: 100 | J94: 100 | K94: 100 | L94: 100 | M94: 100 | N94: 100 | O94: 100 | P94: 100
C95: Max-w | D95: <0.1 | E95: <0.1 | F95: <0.1 | G95: <0.1 | H95: 0.20913321 | I95: 0.30504603 | J95: 0.28725769 | K95: 0.21249857 | L95: <0.1 | M95: 1.8793143 | N95: <0.1 | O95: <0.1 | P95: 1.8793143
C96: Min-w | D96: <0.1 | E96: <0.1 | F96: <0.1 | G96: <0.1 | H96: <0.1 | I96: <0.1 | J96: <0.1 | K96: <0.1 | L96: <0.1 | M96: <0.1 | N96: <0.1 | O96: <0.1 | P96: <0.1
B97: Danum Valley | C97: Mean | D97: <0.1 | E97: <0.1 | F97: <0.1 | G97: - | H97: <0.1 | I97: <0.1 | J97: <0.1 | K97: <0.1 | L97: 0.4030021 | M97: 0.89662859 | N97: <0.1 | O97: 0.18846027 | P97: 0.11861566
C98: % | D98: 66.666667 | E98: 100 | F98: 50 | G98: 0 | H98: 50 | I98: 100 | J98: 100 | K98: 100 | L98: 100 | M98: 50 | N98: 50 | O98: 50 | P98: 69.230769
C99: Max-2w | D99: <0.1 | E99: <0.1 | F99: <0.1 | G99: - | H99: <0.1 | I99: <0.1 | J99: <0.1 | K99: <0.1 | L99: 0.7677833 | M99: 0.89662859 | N99: <0.1 | O99: 0.18846027 | P99: 0.89662859
C100: Min-2w | D100: <0.1 | E100: <0.1 | F100: <0.1 | G100: - | H100: <0.1 | I100: <0.1 | J100: <0.1 | K100: <0.1 | L100: <0.1 | M100: 0.89662859 | N100: <0.1 | O100: 0.18846027 | P100: <0.1
A101: Mongolia | B101: Ulaanbaatar | C101: Mean
...

Sheet HNO3
A1: Table 4.4 HNO3
A3: Unit : ppb | D3: ='SO2'!D3:O3 -> 2012 | P3: Annual
A4: Country | B4: Site | D4: Jan | E4: Feb | F4: Mar | G4: Apr | H4: May | I4: Jun | J4: Jul | K4: Aug | L4: Sep | M4: Oct | N4: Nov | O4: Dec
A5: Cambodia | B5: Phnom Penh | C5: Mean | D5: 0.38999216 | E5: 0.66045124 | F5: 0.37844912 | G5: 0.37521839 | H5: 0.36302943 | I5: <0.1 | J5: <0.1 | K5: 0.15319724 | L5: 0.17143098 | M5: 0.57722817 | N5: 0.33559054 | O5: 0.24811568 | P5: 0.30636648
C6: % | D6: 100 | E6: 100 | F6: 100 | G6: 100 | H6: 100 | I6: 100 | J6: 100 | K6: 100 | L6: 100 | M6: 100 | N6: 100 | O6: 100 | P6: 100
C7: Max-2w | D7: 0.51135807 | E7: 0.70429438 | F7: 0.59007686 | G7: 0.54069336 | H7: 0.53776674 | I7: <0.1 | J7: <0.1 | K7: 0.2227847 | L7: 0.21956049 | M7: 0.61809092 | N7: 0.44917611 | O7: 0.33138826 | P7: 0.70429438
C8: Min-2w | D8: 0.26862625 | E8: 0.6166081 | F8: 0.20994729 | G8: 0.20974342 | H8: 0.18829211 | I8: <0.1 | J8: <0.1 | K8: 0.11113161 | L8: 0.12330147 | M8: 0.53636542 | N8: 0.22200498 | O8: 0.1648431 | P8: <0.1
A9: China | B9: Hongwen | C9: Mean
C10: %
C11: Max-2w
C12: Min-2w
A13: Indonesia | B13: Serpong | C13: Mean | D13: 0.43592114 | E13: 0.27152871 | F13: 0.23800801 | G13: 0.53785888 | H13: 1.8429823 | I13: 1.7714987 | J13: 1.8789734 | K13: 1.7184433 | L13: 0.12376455 | M13: 1.0836694 | N13: 0.70073226 | O13: 0.37758068 | P13: 0.91993746
C14: % | D14: 96.551724 | E14: 100 | F14: 100 | G14: 100 | H14: 100 | I14: 100 | J14: 100 | K14: 100 | L14: 100 | M14: 100 | N14: 100 | O14: 91.176471 | P14: 98.927614
C15: Max-2w | D15: 0.49571505 | E15: 0.35230323 | F15: 0.36673833 | G15: 0.92991848 | H15: 2.3842466 | I15: 2.3466904 | J15: 2.5380028 | K15: 2.5239075 | L15: 0.24752911 | M15: 1.2224284 | N15: 0.86615186 | O15: 0.67284658 | P15: 2.5380028
C16: Min-2w | D16: 0.37612723 | E16: 0.19075419 | F16: <0.1 | G16: 0.14579927 | H16: 1.301718 | I16: 1.1963069 | J16: 1.219944 | K16: 1.2612934 | L16: <0.1 | M16: 0.94491036 | N16: 0.53531267 | O16: <0.1 | P16: <0.1
A17: Japan | B17: Rishiri | C17: Mean | D17: <0.1 | E17: <0.1 | F17: <0.1 | G17: <0.1 | H17: <0.1 | I17: 0.14047476 | J17: 0.10527161 | K17: <0.1 | L17: <0.1 | M17: <0.1 | N17: <0.1 | O17: <0.1 | P17: <0.1
C18: % | D18: 100 | E18: 100 | F18: 100 | G18: 100 | H18: 100 | I18: 100 | J18: 100 | K18: 100 | L18: 100 | M18: 100 | N18: 100 | O18: 100 | P18: 100
C19: Max-2w | D19: <0.1 | E19: <0.1 | F19: <0.1 | G19: <0.1 | H19: 0.15829845 | I19: 0.1535055 | J19: 0.10671109 | K19: <0.1 | L19: <0.1 | M19: <0.1 | N19: <0.1 | O19: <0.1 | P19: 0.15829845
C20: Min-2w | D20: <0.1 | E20: <0.1 | F20: <0.1 | G20: <0.1 | H20: <0.1 | I20: 0.12744401 | J20: 0.10383213 | K20: <0.1 | L20: <0.1 | M20: <0.1 | N20: <0.1 | O20: <0.1 | P20: <0.1
B21: Ochiishi | C21: Mean | D21: <0.1 | E21: 0.19285919 | F21: <0.1 | G21: <0.1 | H21: <0.1 | I21: <0.1 | J21: <0.1 | K21: <0.1 | L21: <0.1 | M21: <0.1 | N21: <0.1 | O21: <0.1 | P21: <0.1
C22: % | D22: 100 | E22: 100 | F22: 100 | G22: 100 | H22: 100 | I22: 100 | J22: 100 | K22: 100 | L22: 100 | M22: 53.333333 | N22: 100 | O22: 100 | P22: 96.164384
C23: Max-2w | D23: <0.1 | E23: 0.34364643 | F23: <0.1 | G23: <0.1 | H23: <0.1 | I23: <0.1 | J23: 0.10290696 | K23: 0.10392756 | L23: 0.15455294 | M23: <0.1 | N23: <0.1 | O23: <0.1 | P23: 0.34364643
C24: Min-2w | D24: <0.1 | E24: <0.1 | F24: <0.1 | G24: <0.1 | H24: <0.1 | I24: <0.1 | J24: <0.1 | K24: <0.1 | L24: <0.1 | M24: <0.1 | N24: <0.1 | O24: <0.1 | P24: <0.1
B25: Tappi | C25: Mean | D25: <0.1 | E25: <0.1 | F25: <0.1 | G25: <0.1 | H25: 0.2192556 | I25: 0.29991339 | J25: 0.46601635 | K25: 0.39658164 | L25: 0.26360472 | M25: <0.1 | N25: <0.1 | O25: <0.1 | P25: 0.1582313
C26: % | D26: 100 | E26: 100 | F26: 100 | G26: 100 | H26: 66.666667 | I26: 100 | J26: 100 | K26: 100 | L26: 100 | M26: 100 | N26: 100 | O26: 100 | P26: 96.153846
C27: Max-2w | D27: <0.1 | E27: <0.1 | F27: <0.1 | G27: <0.1 | H27: 0.23482514 | I27: 0.36611875 | J27: 0.57666796 | K27: 0.52675092 | L27: 0.27853631 | M27: <0.1 | N27: <0.1 | O27: <0.1 | P27: 0.57666796
C28: Min-2w | D28: <0.1 | E28: <0.1 | F28: <0.1 | G28: <0.1 | H28: 0.20368606 | I28: 0.23370803 | J28: 0.35536473 | K28: 0.26641237 | L28: 0.24867313 | M28: <0.1 | N28: <0.1 | O28: <0.1 | P28: <0.1
B29: Sado-seki | C29: Mean | D29: <0.1 | E29: <0.1 | F29: <0.1 | G29: 0.41598995 | H29: 0.53276863 | I29: 0.41291214 | J29: 0.77218197 | K29: 0.37610134 | L29: 0.27626845 | M29: 0.1087672 | N29: <0.1 | O29: <0.1 | P29: 0.27521907
C30: % | D30: 100 | E30: 50 | F30: 100 | G30: 66.666667 | H30: 100 | I30: 100 | J30: 100 | K30: 100 | L30: 100 | M30: 100 | N30: 100 | O30: 100 | P30: 92.200557
C31: Max-2w | D31: <0.1 | E31: <0.1 | F31: <0.1 | G31: 0.63535263 | H31: 0.65390547 | I31: 0.65805062 | J31: 1.0413386 | K31: 0.56322885 | L31: 0.3361351 | M31: 0.15583816 | N31: <0.1 | O31: 0.11236741 | P31: 1.0413386
C32: Min-2w | D32: <0.1 | E32: <0.1 | F32: <0.1 | G32: 0.19662728 | H32: 0.41163179 | I32: 0.16777366 | J32: 0.50302537 | K32: 0.18897383 | L32: 0.2164018 | M32: <0.1 | N32: <0.1 | O32: <0.1 | P32: <0.1
B33: Happo | C33: Mean | D33: <0.1 | E33: 0.10698374 | F33: 0.13925722 | G33: 0.28588272 | H33: 0.70945949 | I33: 0.38762187 | J33: - | K33: 0.47624925 | L33: 0.29946942 | M33: 0.18540434 | N33: <0.1 | O33: <0.1 | P33: 0.25977386
C34: % | D34: 100 | E34: 100 | F34: 100 | G34: 100 | H34: 100 | I34: 100 | J34: 0 | K34: 100 | L34: 100 | M34: 100 | N34: 100 | O34: 100 | P34: 92.200557
C35: Max-2w | D35: <0.1 | E35: 0.1433878 | F35: 0.17221365 | G35: 0.41605887 | H35: 0.83498505 | I35: 0.44598936 | J35: - | K35: 0.53790591 | L35: 0.37452726 | M35: 0.28949986 | N35: <0.1 | O35: <0.1 | P35: 0.83498505
C36: Min-2w | D36: <0.1 | E36: <0.1 | F36: 0.10630079 | G36: 0.14496917 | H36: 0.58393393 | I36: 0.32925437 | J36: - | K36: 0.4145926 | L36: 0.22441157 | M36: <0.1 | N36: <0.1 | O36: <0.1 | P36: <0.1
B37: Ijira | C37: Mean | D37: <0.1 | E37: 0.10942458 | F37: 0.1322727 | G37: 0.20468131 | H37: 0.60968047 | I37: 0.38879071 | J37: 0.15411291 | K37: 0.34549668 | L37: 0.20151019 | M37: 0.12825395 | N37: <0.1 | O37: <0.1 | P37: 0.19818544
C38: % | D38: 100 | E38: 100 | F38: 100 | G38: 100 | H38: 100 | I38: 100 | J38: 100 | K38: 100 | L38: 100 | M38: 100 | N38: 100 | O38: 100 | P38: 100
C39: Max-2w | D39: <0.1 | E39: 0.15547004 | F39: 0.18568337 | G39: 0.27238249 | H39: 0.69988679 | I39: 0.4131448 | J39: 0.15955264 | K39: 0.65959121 | L39: 0.26612149 | M39: 0.20819003 | N39: <0.1 | O39: <0.1 | P39: 0.69988679
C40: Min-2w | D40: <0.1 | E40: <0.1 | F40: <0.1 | G40: 0.15103557 | H40: 0.51947416 | I40: 0.36443662 | J40: 0.14867319 | K40: <0.1 | L40: 0.1368989 | M40: <0.1 | N40: <0.1 | O40: <0.1 | P40: <0.1
B41: Oki | C41: Mean | D41: <0.1 | E41: <0.1 | F41: 0.12661638 | G41: 0.14927047 | H41: 0.26186083 | I41: 0.22984145 | J41: 0.42530924 | K41: 0.18300368 | L41: 0.10255943 | M41: - | N41: - | O41: <0.1 | P41: 0.17668108
C42: % | D42: 100 | E42: 100 | F42: 100 | G42: 100 | H42: 100 | I42: 100 | J42: 100 | K42: 100 | L42: 50 | M42: 0 | N42: 0 | O42: 100 | P42: 77.173913
C43: Max-2w | D43: 0.1067383 | E43: <0.1 | F43: 0.13550908 | G43: 0.1571544 | H43: 0.32543339 | I43: 0.26836238 | J43: 0.56919862 | K43: 0.22455184 | L43: 0.10255943 | M43: - | N43: - | O43: <0.1 | P43: 0.56919862
C44: Min-2w | D44: <0.1 | E44: <0.1 | F44: 0.11772368 | G44: 0.14138654 | H44: 0.15431814 | I44: 0.19132052 | J44: 0.28141985 | K44: 0.14145552 | L44: 0.10255943 | M44: - | N44: - | O44: <0.1 | P44: <0.1
B45: Banryu | C45: Mean | D45: 0.24340022 | E45: 0.111972 | F45: 0.18801474 | G45: 0.36325351 | H45: 0.56521744 | I45: 0.30449799 | J45: 0.67520626 | K45: <0.1 | L45: 0.1948989 | M45: 0.15448979 | N45: 0.17903337 | O45: 0.11435358 | P45: 0.27011853
C46: % | D46: 46.153846 | E46: 100 | F46: 100 | G46: 100 | H46: 100 | I46: 100 | J46: 100 | K46: 100 | L46: 100 | M46: 61.904762 | N46: 100 | O46: 100 | P46: 91.620112
C47: Max-2w | D47: 0.24340022 | E47: 0.11557392 | F47: 0.2310959 | G47: 0.43552342 | H47: 0.64166687 | I47: 0.46864836 | J47: 0.96907813 | K47: 0.17431586 | L47: 0.20136882 | M47: 0.15714887 | N47: 0.18194375 | O47: 0.12994193 | P47: 0.96907813
C48: Min-2w | D48: 0.24340022 | E48: 0.10837009 | F48: 0.14493358 | G48: 0.32567042 | H48: 0.48876801 | I48: 0.14034762 | J48: 0.38133439 | K48: <0.1 | L48: 0.18842899 | M48: 0.1518307 | N48: 0.17612298 | O48: <0.1 | P48: <0.1
B49: Yusuhara | C49: Mean | D49: 0.37603922 | E49: 0.11680017 | F49: 0.37624377 | G49: 0.34595474 | H49: 0.73677323 | I49: 0.22285974 | J49: 0.24730563 | K49: 0.13259296 | L49: 0.16990811 | M49: 0.27207556 | N49: 0.27390934 | O49: 0.24188774 | P49: 0.28961755
C50: % | D50: 100 | E50: 100 | F50: 100 | G50: 33.333333 | H50: 100 | I50: 100 | J50: 100 | K50: 100 | L50: 100 | M50: 100 | N50: 100 | O50: 100 | P50: 92.045455
C51: Max-2w | D51: 0.55050695 | E51: 0.2055041 | F51: 0.48052464 | G51: 0.34595474 | H51: 0.92094025 | I51: 0.34673197 | J51: 0.24889541 | K51: 0.20942787 | L51: 0.27393586 | M51: 0.34607558 | N51: 0.31339741 | O51: 0.27346821 | P51: 0.92094025
C52: Min-2w | D52: 0.20157148 | E52: <0.1 | F52: 0.2719629 | G52: 0.34595474 | H52: 0.55260621 | I52: <0.1 | J52: 0.24571585 | K52: <0.1 | L52: <0.1 | M52: 0.13606577 | N52: 0.23442128 | O52: 0.21030727 | P52: <0.1
B53: Hedo | C53: Mean | D53: <0.1 | E53: <0.1 | F53: <0.1 | G53: 0.12327595 | H53: 0.12873587 | I53: <0.1 | J53: <0.1 | K53: <0.1 | L53: <0.1 | M53: <0.1 | N53: <0.1 | O53: <0.1 | P53: <0.1
C54: % | D54: 100 | E54: 100 | F54: 100 | G54: 100 | H54: 100 | I54: 100 | J54: 100 | K54: 100 | L54: 100 | M54: 100 | N54: 100 | O54: 100 | P54: 100
C55: Max-2w | D55: <0.1 | E55: 0.10286024 | F55: <0.1 | G55: 0.14981709 | H55: 0.25590644 | I55: <0.1 | J55: <0.1 | K55: <0.1 | L55: <0.1 | M55: <0.1 | N55: 0.1390123 | O55: <0.1 | P55: 0.25590644
C56: Min-2w | D56: <0.1 | E56: <0.1 | F56: <0.1 | G56: <0.1 | H56: <0.1 | I56: <0.1 | J56: <0.1 | K56: <0.1 | L56: <0.1 | M56: <0.1 | N56: <0.1 | O56: <0.1 | P56: <0.1
B57: Ogasawara | C57: Mean | D57: <0.1 | E57: <0.1 | F57: <0.1 | G57: <0.1 | H57: <0.1 | I57: <0.1 | J57: <0.1 | K57: <0.1 | L57: <0.1 | M57: <0.1 | N57: <0.1 | O57: <0.1 | P57: <0.1
C58: % | D58: 100 | E58: 100 | F58: 100 | G58: 100 | H58: 100 | I58: 100 | J58: 100 | K58: 100 | L58: 100 | M58: 100 | N58: 100 | O58: 100 | P58: 100
C59: Max-2w | D59: <0.1 | E59: <0.1 | F59: <0.1 | G59: 0.11584156 | H59: <0.1 | I59: <0.1 | J59: <0.1 | K59: <0.1 | L59: 0.10338164 | M59: <0.1 | N59: <0.1 | O59: <0.1 | P59: 0.11584156
C60: Min-2w | D60: <0.1 | E60: <0.1 | F60: <0.1 | G60: <0.1 | H60: <0.1 | I60: <0.1 | J60: <0.1 | K60: <0.1 | L60: <0.1 | M60: <0.1 | N60: <0.1 | O60: <0.1 | P60: <0.1
B61: Tokyo | C61: Mean | D61: 0.14545056 | E61: 0.18532526 | F61: <0.1 | G61: 0.48898898 | H61: 1.5755558 | I61: 0.51068986 | J61: 2.1924159 | K61: 0.43641904 | L61: 0.95044154 | M61: 0.29148581 | N61: 0.30717136 | O61: 0.15445525 | P61: 0.59192789
C62: % | D62: 100 | E62: 100 | F62: 100 | G62: 100 | H62: 100 | I62: 100 | J62: 100 | K62: 100 | L62: 100 | M62: 100 | N62: 100 | O62: 100 | P62: 100
C63: Max-2w | D63: 0.17717168 | E63: 0.20069397 | F63: <0.1 | G63: 0.90136665 | H63: 1.6225954 | I63: 0.56085038 | J63: 2.8719471 | K63: 0.45804374 | L63: 1.0769135 | M63: 0.31180416 | N63: 0.44417413 | O63: 0.16269325 | P63: 2.8719471
C64: Min-2w | D64: 0.11372943 | E64: 0.16995655 | F64: <0.1 | G64: <0.1 | H64: 1.5285162 | I64: 0.46052933 | J64: 1.5128848 | K64: 0.41479433 | L64: 0.82396953 | M64: 0.25245288 | N64: 0.1701686 | O64: 0.14621725 | P64: <0.1
A65: Lao PDR | B65: Vientiane | C65: Mean
C66: %
C67: Max-2w
C68: Min-2w
A69: Malaysia | B69: Petaling Jaya | C69: Mean | D69: 0.3040845 | E69: 0.45053784 | F69: 0.42797789 | G69: 0.86928502 | H69: 0.65949076 | I69: - | J69: - | K69: - | L69: - | M69: - | N69: - | O69: - | P69: 0.53683247
C70: % | D70: 100 | E70: 100 | F70: 100 | G70: 100 | H70: 100 | I70: 0 | J70: 0 | K70: 0 | L70: 0 | M70: 0 | N70: 0 | O70: 0 | P70: 40.384615
C71: Max-w | D71: 0.42475676 | E71: 0.67523585 | F71: 0.55744818 | G71: 1.2031169 | H71: 0.99999328 | I71: - | J71: - | K71: - | L71: - | M71: - | N71: - | O71: - | P71: 1.2031169
C72: Min-w | D72: <0.1 | E72: 0.26682513 | F72: 0.13533563 | G72: 0.41129531 | H72: 0.42307408 | I72: - | J72: - | K72: - | L72: - | M72: - | N72: - | O72: - | P72: <0.1
B73: Tanah Rata | C73: Mean | D73: <0.1 | E73: <0.1 | F73: <0.1 | G73: <0.1 | H73: <0.1 | I73: 0.21523894 | J73: <0.1 | K73: 0.19543138 | L73: 0.17355653 | M73: <0.1 | N73: <0.1 | O73: <0.1 | P73: <0.1
C74: % | D74: 100 | E74: 100 | F74: 100 | G74: 100 | H74: 100 | I74: 100 | J74: 100 | K74: 100 | L74: 100 | M74: 100 | N74: 100 | O74: 100 | P74: 100
C75: Max-w | D75: <0.1 | E75: 0.1173069 | F75: 0.12692222 | G75: <0.1 | H75: 0.11634537 | I75: 0.3973531 | J75: 0.23533496 | K75: 0.31850748 | L75: 0.27836351 | M75: <0.1 | N75: <0.1 | O75: <0.1 | P75: 0.3973531
C76: Min-w | D76: <0.1 | E76: <0.1 | F76: <0.1 | G76: <0.1 | H76: <0.1 | I76: <0.1 | J76: <0.1 | K76: <0.1 | L76: 0.13028759 | M76: <0.1 | N76: <0.1 | O76: <0.1 | P76: <0.1
B77: Danum Valley | C77: Mean | D77: <0.1 | E77: <0.1 | F77: <0.1 | G77: - | H77: <0.1 | I77: <0.1 | J77: <0.1 | K77: <0.1 | L77: 0.22848404 | M77: <0.1 | N77: <0.1 | O77: 0.10793197 | P77: <0.1
C78: % | D78: 66.666667 | E78: 100 | F78: 50 | G78: 0 | H78: 50 | I78: 100 | J78: 100 | K78: 100 | L78: 100 | M78: 50 | N78: 50 | O78: 50 | P78: 69.230769
C79: Max-2w | D79: <0.1 | E79: <0.1 | F79: <0.1 | G79: - | H79: <0.1 | I79: <0.1 | J79: <0.1 | K79: <0.1 | L79: 0.37259365 | M79: <0.1 | N79: <0.1 | O79: 0.10793197 | P79: 0.37259365
C80: Min-2w | D80: <0.1 | E80: <0.1 | F80: <0.1 | G80: - | H80: <0.1 | I80: <0.1 | J80: <0.1 | K80: <0.1 | L80: <0.1 | M80: <0.1 | N80: <0.1 | O80: 0.10793197 | P80: <0.1
A81: Mongolia | B81: Ulaanbaatar | C81: Mean
C82: %
C83: Max-w
C84: Min-w
B85: Terelj | C85: Mean
C86: %
C87: Max-2w
C88: Min-2w
A89: Myanmar | B89: Yangon | C89: Mean | D89: 0.92751328 | E89: 1.0619129 | F89: 0.88904129 | G89: 0.58673037 | H89: 0.23449357 | I89: - | J89: <0.1 | K89: <0.1 | L89: 0.13714837 | M89: 0.14815981 | N89: 0.6376562 | O89: <0.1 | P89: 0.43246097
C90: % | D90: 100 | E90: 100 | F90: 82.142857 | G90: 100 | H90: 100 | I90: 0 | J90: 100 | K90: 100 | L90: 100 | M90: 100 | N90: 100 | O90: 100 | P90: 90.934066
C91: Max-2w | D91: 1.0650304 | E91: 1.9755011 | F91: 1.5765759 | G91: 0.68116871 | H91: 0.46898714 | I91: - | J91: <0.1 | K91: <0.1 | L91: 0.19178449 | M91: 0.23167205 | N91: 0.76128569 | O91: <0.1 | P91: 1.9755011
C92: Min-2w | D92: 0.72217755 | E92: 0.14832466 | F92: 0.20150669 | G92: 0.49229204 | H92: <0.1 | I92: - | J92: <0.1 | K92: <0.1 | L92: <0.1 | M92: <0.1 | N92: 0.51402672 | O92: <0.1 | P92: <0.1
A93: Philippines | B93: Metro Manila | C93: Mean
C94: %
C95: Max-w
C96: Min-w
B97: Los Banos | C97: Mean
C98: %
C99: Max-w
C100: Min-w
A101: Philippines | B101: Mt. Sto. Tomas | C101: Mean | D101: - | E101: - | F101: - | G101: - | H101: - | I101: 0.30638612 | J101: 0.30503423 | K101: <0.1 | L101: 0.35824606 | M101: 0.27392676 | N101: 0.16968558 | O101: 0.13253983 | P101: 0.22084454
...

Sheet HCl
A1: Table 4.5 HCl
A3: Unit : ppb | D3: ='SO2'!D3:O3 -> 2012 | P3: Annual
A4: Country | B4: Site | D4: Jan | E4: Feb | F4: Mar | G4: Apr | H4: May | I4: Jun | J4: Jul | K4: Aug | L4: Sep | M4: Oct | N4: Nov | O4: Dec
A5: Cambodia | B5: Phnom Penh | C5: Mean | D5: 1.0895032 | E5: 1.4863075 | F5: 0.73725689 | G5: 0.52649426 | H5: 0.65086244 | I5: 0.33973342 | J5: 0.32017893 | K5: 0.71233263 | L5: 0.84870779 | M5: 0.68433017 | N5: 0.54085363 | O5: 0.58159057 | P5: 0.71099586
C6: % | D6: 100 | E6: 100 | F6: 100 | G6: 100 | H6: 100 | I6: 100 | J6: 100 | K6: 100 | L6: 100 | M6: 100 | N6: 100 | O6: 100 | P6: 100
C7: Max-2w | D7: 1.1807996 | E7: 1.6448135 | F7: 1.1691961 | G7: 0.63846586 | H7: 0.66671486 | I7: 0.43016001 | J7: 0.3859137 | K7: 0.8191022 | L7: 0.98615263 | M7: 0.73251724 | N7: 0.68906648 | O7: 0.5934164 | P7: 1.6448135
C8: Min-2w | D8: 0.99820673 | E8: 1.3278014 | F8: 0.41492557 | G8: 0.41452267 | H8: 0.63501003 | I8: 0.24930683 | J8: 0.25444416 | K8: 0.6359053 | L8: 0.71126294 | M8: 0.6361431 | N8: 0.39264078 | O8: 0.56976475 | P8: 0.24930683
A9: China | B9: Hongwen | C9: Mean
C10: %
C11: Max-2w
C12: Min-2w
A13: Indonesia | B13: Serpong | C13: Mean | D13: 0.5452216 | E13: 0.55177818 | F13: 0.54898147 | G13: 0.43898339 | H13: 0.94229804 | I13: 1.0953864 | J13: 1.3489527 | K13: 1.242895 | L13: 0.91161564 | M13: 0.55889082 | N13: 0.5484742 | O13: 0.35347466 | P13: 0.76791465
C14: % | D14: 96.551724 | E14: 100 | F14: 100 | G14: 100 | H14: 100 | I14: 100 | J14: 100 | K14: 100 | L14: 100 | M14: 100 | N14: 100 | O14: 91.176471 | P14: 98.927614
C15: Max-2w | D15: 0.65037113 | E15: 0.66600715 | F15: 0.75112116 | G15: 0.54141337 | H15: 1.3249595 | I15: 1.4137542 | J15: 1.4295955 | K15: 1.3813317 | L15: 1.3795453 | M15: 0.59118002 | N15: 0.62714704 | O15: 0.44115338 | P15: 1.4295955
C16: Min-2w | D16: 0.44007207 | E16: 0.4375492 | F16: 0.40495485 | G16: 0.3365534 | H16: 0.55963661 | I16: 0.77701859 | J16: 1.2683099 | K16: 1.1622262 | L16: 0.44368595 | M16: 0.52660162 | N16: 0.46980136 | O16: 0.26579595 | P16: 0.26579595
A17: Japan | B17: Rishiri | C17: Mean | D17: 0.1745592 | E17: 0.52107069 | F17: 0.56275164 | G17: 0.4510068 | H17: 0.54492477 | I17: 0.51167647 | J17: 0.39003299 | K17: 0.55525528 | L17: 0.32041827 | M17: 0.27204543 | N17: 0.27819725 | O17: 0.5577734 | P17: 0.42678441
C18: % | D18: 100 | E18: 100 | F18: 100 | G18: 100 | H18: 100 | I18: 100 | J18: 100 | K18: 100 | L18: 100 | M18: 100 | N18: 100 | O18: 100 | P18: 100
C19: Max-2w | D19: 0.22225563 | E19: 0.52419239 | F19: 0.5905439 | G19: 0.4697236 | H19: 0.56605209 | I19: 0.60087608 | J19: 0.55310134 | K19: 0.71617323 | L19: 0.5116149 | M19: 0.28936812 | N19: 0.38772134 | O19: 0.83026678 | P19: 0.83026678
C20: Min-2w | D20: 0.12686276 | E20: 0.517949 | F20: 0.53495939 | G20: 0.43229001 | H20: 0.51351352 | I20: 0.42247685 | J20: 0.22696464 | K20: 0.39433734 | L20: 0.12922164 | M20: 0.24573391 | N20: 0.16867317 | O20: 0.28528002 | P20: 0.12686276
B21: Ochiishi | C21: Mean | D21: 0.13060822 | E21: 0.37999518 | F21: 0.42894766 | G21: 3.2506265 | H21: 0.26786867 | I21: 0.34174242 | J21: 0.39568084 | K21: 0.51899384 | L21: 0.60902064 | M21: 0.35788187 | N21: <0.1 | O21: 0.27575246 | P21: 0.61061708
C22: % | D22: 100 | E22: 100 | F22: 100 | G22: 100 | H22: 100 | I22: 100 | J22: 100 | K22: 100 | L22: 100 | M22: 53.333333 | N22: 100 | O22: 100 | P22: 96.164384
C23: Max-2w | D23: 0.14206625 | E23: 0.42349555 | F23: 0.46714935 | G23: 5.8910095 | H23: 0.33853375 | I23: 0.43646812 | J23: 0.72171291 | K23: 0.54951995 | L23: 0.9368534 | M23: 0.35788187 | N23: <0.1 | O23: 0.32112326 | P23: 5.8910095
C24: Min-2w | D24: 0.11915018 | E24: 0.3364948 | F24: 0.39074598 | G24: 0.61024357 | H24: 0.19720358 | I24: 0.24701672 | J24: 0.23164506 | K24: 0.48846772 | L24: 0.28118788 | M24: 0.35788187 | N24: <0.1 | O24: 0.23038167 | P24: <0.1
B25: Tappi | C25: Mean | D25: 0.31428669 | E25: 0.36108249 | F25: 0.3600071 | G25: 0.45842048 | H25: 0.80422198 | I25: 0.56326349 | J25: 0.67839646 | K25: 0.93269904 | L25: 0.82470516 | M25: 0.48013632 | N25: 0.46923699 | O25: 0.66297121 | P25: 0.55692884
C26: % | D26: 100 | E26: 100 | F26: 100 | G26: 100 | H26: 66.666667 | I26: 100 | J26: 100 | K26: 50 | L26: 100 | M26: 100 | N26: 100 | O26: 100 | P26: 92.307692
C27: Max-2w | D27: 0.38554758 | E27: 0.42958386 | F27: 0.49073837 | G27: 0.49638001 | H27: 0.8702474 | I27: 0.62591891 | J27: 0.73982143 | K27: 0.93269904 | L27: 0.867568 | M27: 0.66790076 | N27: 0.57437358 | O27: 0.89195153 | P27: 0.93269904
C28: Min-2w | D28: 0.24302579 | E28: 0.29258111 | F28: 0.22927583 | G28: 0.42046094 | H28: 0.73819657 | I28: 0.50060808 | J28: 0.61697149 | K28: 0.93269904 | L28: 0.78184231 | M28: 0.27660001 | N28: 0.36410039 | O28: 0.43399089 | P28: 0.22927583
B29: Sado-seki | C29: Mean | D29: 0.55339617 | E29: 0.69163777 | F29: 0.63881699 | G29: 0.84549493 | H29: 1.2878388 | I29: 0.79768749 | J29: 1.0777521 | K29: 1.0108584 | L29: 0.87526437 | M29: 0.85184976 | N29: 0.76308106 | O29: 1.1620472 | P29: 0.88631926
C30: % | D30: 100 | E30: 50 | F30: 100 | G30: 66.666667 | H30: 100 | I30: 100 | J30: 100 | K30: 100 | L30: 100 | M30: 100 | N30: 100 | O30: 100 | P30: 92.200557
C31: Max-2w | D31: 0.59941293 | E31: 0.69163777 | F31: 0.70150108 | G31: 0.91227675 | H31: 1.5987638 | I31: 0.88837126 | J31: 1.3978343 | K31: 1.0273794 | L31: 0.95759041 | M31: 1.0405888 | N31: 0.78456868 | O31: 1.5568872 | P31: 1.5987638
C32: Min-2w | D32: 0.50737942 | E32: 0.69163777 | F32: 0.57613289 | G32: 0.77871311 | H32: 0.97691383 | I32: 0.70700373 | J32: 0.75766982 | K32: 0.99433752 | L32: 0.79293832 | M32: 0.53171909 | N32: 0.74159344 | O32: 0.7672072 | P32: 0.50737942
B33: Happo | C33: Mean | D33: <0.1 | E33: <0.1 | F33: 0.11591505 | G33: 0.19497628 | H33: 0.2321573 | I33: 0.17012275 | J33: - | K33: 0.23778625 | L33: 0.15019309 | M33: 0.27301444 | N33: 0.23891743 | O33: <0.1 | P33: 0.17262809
C34: % | D34: 100 | E34: 100 | F34: 100 | G34: 100 | H34: 100 | I34: 100 | J34: 0 | K34: 100 | L34: 100 | M34: 100 | N34: 100 | O34: 100 | P34: 92.200557
C35: Max-2w | D35: <0.1 | E35: 0.10678184 | F35: 0.14323231 | G35: 0.22062109 | H35: 0.23614441 | I35: 0.19627981 | J35: - | K35: 0.26351616 | L35: 0.15815643 | M35: 0.32791038 | N35: 0.23891743 | O35: <0.1 | P35: 0.32791038
C36: Min-2w | D36: <0.1 | E36: <0.1 | F36: <0.1 | G36: 0.1640694 | H36: 0.2281702 | I36: 0.14396569 | J36: - | K36: 0.21205635 | L36: 0.14222975 | M36: 0.22162388 | N36: 0.23891743 | O36: <0.1 | P36: <0.1
B37: Ijira | C37: Mean | D37: <0.1 | E37: 0.10333927 | F37: 0.12797761 | G37: 0.13962472 | H37: 0.22273175 | I37: 0.19193484 | J37: 0.10141929 | K37: 0.23122029 | L37: 0.17632691 | M37: 0.16117612 | N37: <0.1 | O37: <0.1 | P37: 0.13679139
C38: % | D38: 100 | E38: 100 | F38: 100 | G38: 100 | H38: 100 | I38: 100 | J38: 100 | K38: 100 | L38: 100 | M38: 100 | N38: 100 | O38: 100 | P38: 100
C39: Max-2w | D39: <0.1 | E39: 0.1205884 | F39: 0.13605767 | G39: 0.21868779 | H39: 0.24564633 | I39: 0.19382555 | J39: 0.11908957 | K39: 0.40276422 | L39: 0.20650654 | M39: 0.2159619 | N39: <0.1 | O39: <0.1 | P39: 0.40276422
C40: Min-2w | D40: <0.1 | E40: <0.1 | F40: 0.11989756 | G40: <0.1 | H40: 0.19981718 | I40: 0.19004413 | J40: <0.1 | K40: <0.1 | L40: 0.14614729 | M40: 0.11468042 | N40: <0.1 | O40: <0.1 | P40: <0.1
B41: Oki | C41: Mean | D41: 1.0861759 | E41: 0.93515337 | F41: 0.93601372 | G41: 0.80281679 | H41: 0.88061963 | I41: 1.1329574 | J41: 1.0747962 | K41: 0.59854754 | L41: 0.74553817 | M41: - | N41: - | O41: 0.58776536 | P41: 0.88479248
C42: % | D42: 100 | E42: 100 | F42: 100 | G42: 100 | H42: 100 | I42: 100 | J42: 100 | K42: 100 | L42: 50 | M42: 0 | N42: 0 | O42: 100 | P42: 77.173913
C43: Max-2w | D43: 1.3062515 | E43: 0.95155075 | F43: 1.0974629 | G43: 0.85865438 | H43: 1.3887384 | I43: 1.4623828 | J43: 1.2056042 | K43: 0.6972891 | L43: 0.74553817 | M43: - | N43: - | O43: 0.64425794 | P43: 1.4623828
C44: Min-2w | D44: 0.86610032 | E44: 0.91875599 | F44: 0.77456456 | G44: 0.74697919 | H44: 0.53401714 | I44: 0.803532 | J44: 0.94398818 | K44: 0.49980598 | L44: 0.74553817 | M44: - | N44: - | O44: 0.53127277 | P44: 0.49980598
B45: Banryu | C45: Mean | D45: 1.0893365 | E45: 0.64454327 | F45: 0.79747529 | G45: 0.9174332 | H45: 0.88463646 | I45: 0.78074102 | J45: 0.79603163 | K45: 0.34763513 | L45: 0.65847821 | M45: 0.71474407 | N45: 0.84185217 | O45: 0.5883627 | P45: 0.74794317
C46: % | D46: 46.153846 | E46: 100 | F46: 100 | G46: 100 | H46: 100 | I46: 100 | J46: 100 | K46: 100 | L46: 100 | M46: 61.904762 | N46: 100 | O46: 100 | P46: 91.620112
C47: Max-2w | D47: 1.0893365 | E47: 0.67205811 | F47: 0.92430009 | G47: 1.0674094 | H47: 1.1690633 | I47: 0.85663805 | J47: 0.92746416 | K47: 0.56006098 | L47: 0.74429386 | M47: 0.73569947 | N47: 0.92416692 | O47: 0.62885333 | P47: 1.1690633
C48: Min-2w | D48: 1.0893365 | E48: 0.61702844 | F48: 0.67065048 | G48: 0.78442726 | H48: 0.60020962 | I48: 0.704844 | J48: 0.6645991 | K48: 0.13520929 | L48: 0.57266257 | M48: 0.69378868 | N48: 0.75953741 | O48: 0.54787207 | P48: 0.13520929
B49: Yusuhara | C49: Mean | D49: 0.59952455 | E49: 0.30160719 | F49: 0.2228432 | G49: 0.322081 | H49: <0.1 | I49: <0.1 | J49: 0.27304371 | K49: 0.35192467 | L49: 0.25222645 | M49: 0.40023946 | N49: 0.48832262 | O49: 0.20760075 | P49: 0.29412495
C50: % | D50: 100 | E50: 100 | F50: 100 | G50: 33.333333 | H50: 100 | I50: 100 | J50: 100 | K50: 100 | L50: 100 | M50: 100 | N50: 100 | O50: 100 | P50: 92.045455
C51: Max-2w | D51: 0.80285688 | E51: 0.42653957 | F51: 0.29947394 | G51: 0.322081 | H51: <0.1 | I51: 0.13779813 | J51: 0.28282284 | K51: 0.38011445 | L51: 0.30733265 | M51: 0.51162064 | N51: 0.63950316 | O51: 0.2621511 | P51: 0.80285688
C52: Min-2w | D52: 0.39619222 | E52: 0.1766748 | F52: 0.14621245 | G52: 0.322081 | H52: <0.1 | I52: <0.1 | J52: 0.26326458 | K52: 0.3237349 | L52: 0.19712024 | M52: 0.33904513 | N52: 0.33714208 | O52: 0.15305041 | P52: <0.1
B53: Hedo | C53: Mean | D53: 0.94553894 | E53: 1.0426655 | F53: 0.47830989 | G53: 0.96820994 | H53: 0.66371591 | I53: 0.20876566 | J53: 0.11069586 | K53: 0.17375771 | L53: 0.15894472 | M53: 0.5101549 | N53: 0.70132607 | O53: 0.58195874 | P53: 0.56024817
C54: % | D54: 100 | E54: 100 | F54: 100 | G54: 100 | H54: 100 | I54: 100 | J54: 100 | K54: 100 | L54: 100 | M54: 100 | N54: 100 | O54: 100 | P54: 100
C55: Max-2w | D55: 1.0473961 | E55: 1.0797805 | F55: 0.79225167 | G55: 1.0657363 | H55: 1.1173242 | I55: 0.25220456 | J55: 0.16147921 | K55: 0.26218067 | L55: 0.31058925 | M55: 0.70922746 | N55: 1.0557287 | O55: 0.64613218 | P55: 1.1173242
C56: Min-2w | D56: 0.84368181 | E56: 1.0055504 | F56: 0.1643681 | G56: 0.79077948 | H56: 0.21010757 | I56: 0.16532675 | J56: <0.1 | K56: <0.1 | L56: <0.1 | M56: 0.3435633 | N56: 0.34692347 | O56: 0.5177853 | P56: <0.1
B57: Ogasawara | C57: Mean | D57: 0.65328974 | E57: 0.56115206 | F57: 0.7169984 | G57: 0.6560323 | H57: 0.18311202 | I57: 0.28765726 | J57: 0.19708139 | K57: 0.12347238 | L57: 0.18484151 | M57: 0.24328794 | N57: 0.69323205 | O57: 0.50609234 | P57: 0.41968535
C58: % | D58: 100 | E58: 100 | F58: 100 | G58: 100 | H58: 100 | I58: 100 | J58: 100 | K58: 100 | L58: 100 | M58: 100 | N58: 100 | O58: 100 | P58: 100
C59: Max-2w | D59: 0.70995375 | E59: 0.56829424 | F59: 1.0636272 | G59: 0.71159551 | H59: 0.36622404 | I59: 0.35717974 | J59: 0.21586616 | K59: 0.13136818 | L59: 0.21908922 | M59: 0.43175143 | N59: 0.74502646 | O59: 0.51543428 | P59: 1.0636272
C60: Min-2w | D60: 0.59662573 | E60: 0.55400988 | F60: 0.37036963 | G60: 0.60235566 | H60: <0.1 | I60: 0.21813478 | J60: 0.17829661 | K60: 0.11557657 | L60: 0.1505938 | M60: 0.14442712 | N60: 0.64143764 | O60: 0.49675041 | P60: <0.1
B61: Tokyo | C61: Mean | D61: 0.23811157 | E61: 0.37047542 | F61: <0.1 | G61: 0.71389302 | H61: 0.96296957 | I61: 1.0574925 | J61: 1.1429588 | K61: 1.0216179 | L61: 0.9546794 | M61: 0.91594881 | N61: 0.53141104 | O61: 0.31406113 | P61: 0.69993984
C62: % | D62: 100 | E62: 100 | F62: 100 | G62: 100 | H62: 100 | I62: 100 | J62: 100 | K62: 100 | L62: 100 | M62: 100 | N62: 100 | O62: 100 | P62: 100
C63: Max-2w | D63: 0.24017447 | E63: 0.4492313 | F63: <0.1 | G63: 1.1178528 | H63: 1.0153967 | I63: 1.0805734 | J63: 1.3515176 | K63: 1.2017253 | L63: 0.97122762 | M63: 0.98247873 | N63: 0.62496931 | O63: 0.37878106 | P63: 1.3515176
C64: Min-2w | D64: 0.23604867 | E64: 0.29171953 | F64: <0.1 | G64: <0.1 | H64: 0.91054247 | I64: 1.0344116 | J64: 0.93440011 | K64: 0.84151054 | L64: 0.93813117 | M64: 0.85326922 | N64: 0.43785277 | O64: 0.2493412 | P64: <0.1
A65: Lao PDR | B65: Vientiane | C65: Mean
C66: %
C67: Max-2w
C68: Min-2w
A69: Malaysia | B69: Petaling Jaya | C69: Mean | D69: 0.88466954 | E69: 0.49783319 | F69: 0.74182194 | G69: 1.1360501 | H69: 2.5920499 | I69: - | J69: - | K69: - | L69: - | M69: - | N69: - | O69: - | P69: 1.1500724
C70: % | D70: 100 | E70: 100 | F70: 100 | G70: 100 | H70: 100 | I70: 0 | J70: 0 | K70: 0 | L70: 0 | M70: 0 | N70: 0 | O70: 0 | P70: 40.384615
C71: Max-w | D71: 0.97162809 | E71: 0.78557164 | F71: 0.96345506 | G71: 1.6478255 | H71: 2.8379617 | I71: - | J71: - | K71: - | L71: - | M71: - | N71: - | O71: - | P71: 2.8379617
C72: Min-w | D72: 0.72619704 | E72: 0.25144062 | F72: 0.58749605 | G72: 0.81393684 | H72: 2.3858013 | I72: - | J72: - | K72: - | L72: - | M72: - | N72: - | O72: - | P72: 0.25144062
B73: Tanah Rata | C73: Mean | D73: 0.32932471 | E73: <0.1 | F73: 0.17072001 | G73: 0.18227041 | H73: 0.36135574 | I73: 0.19446985 | J73: 0.29182496 | K73: 0.51994843 | L73: 0.62571695 | M73: 0.48587414 | N73: 0.57196731 | O73: 0.48653519 | P73: 0.35954825
C74: % | D74: 100 | E74: 100 | F74: 100 | G74: 100 | H74: 100 | I74: 100 | J74: 100 | K74: 100 | L74: 100 | M74: 100 | N74: 100 | O74: 100 | P74: 100
C75: Max-w | D75: 0.61177474 | E75: 0.13870099 | F75: 0.25793096 | G75: 0.19639291 | H75: 0.43389132 | I75: 0.240383 | J75: 0.48845826 | K75: 0.66273593 | L75: 1.1120118 | M75: 0.63316882 | N75: 0.69206266 | O75: 0.53340988 | P75: 1.1120118
C76: Min-w | D76: 0.19110449 | E76: <0.1 | F76: <0.1 | G76: 0.16346044 | H76: 0.30865177 | I76: 0.13990291 | J76: <0.1 | K76: 0.41538182 | L76: 0.40961263 | M76: 0.38341089 | N76: 0.46081421 | O76: 0.44663161 | P76: <0.1
B77: Danum Valley | C77: Mean | D77: <0.1 | E77: <0.1 | F77: <0.1 | G77: - | H77: 0.30528641 | I77: 0.12812414 | J77: 0.16121687 | K77: 0.25636847 | L77: 0.61994776 | M77: 2.1555144 | N77: 0.58773644 | O77: 2.3144075 | P77: 0.45197346
C78: % | D78: 66.666667 | E78: 100 | F78: 50 | G78: 0 | H78: 50 | I78: 100 | J78: 100 | K78: 100 | L78: 100 | M78: 50 | N78: 50 | O78: 50 | P78: 69.230769
C79: Max-2w | D79: 0.14471057 | E79: <0.1 | F79: <0.1 | G79: - | H79: 0.30528641 | I79: 0.14398942 | J79: 0.30696909 | K79: 0.25961364 | L79: 0.96754158 | M79: 2.1555144 | N79: 0.58773644 | O79: 2.3144075 | P79: 2.3144075
C80: Min-2w | D80: <0.1 | E80: <0.1 | F80: <0.1 | G80: - | H80: 0.30528641 | I80: 0.11225886 | J80: <0.1 | K80: 0.2531233 | L80: 0.27235394 | M80: 2.1555144 | N80: 0.58773644 | O80: 2.3144075 | P80: <0.1
A81: Mongolia | B81: Ulaanbaatar | C81: Mean
C82: %
C83: Max-w
C84: Min-w
B85: Terelj | C85: Mean
C86: %
C87: Max-2w
C88: Min-2w
A89: Myanmar | B89: Yangon | C89: Mean | D89: 1.9699677 | E89: 1.8189159 | F89: 2.2857665 | G89: 3.1092819 | H89: 2.1226089 | I89: - | J89: 0.24718043 | K89: 0.61917335 | L89: 0.91975518 | M89: 2.131245 | N89: 1.7609171 | O89: 0.42986956 | P89: 1.5436046
C90: % | D90: 100 | E90: 100 | F90: 82.142857 | G90: 100 | H90: 100 | I90: 0 | J90: 100 | K90: 100 | L90: 100 | M90: 100 | N90: 100 | O90: 100 | P90: 90.934066
C91: Max-2w | D91: 2.6273863 | E91: 2.0686441 | F91: 3.0023174 | G91: 4.5617905 | H91: 2.3973843 | I91: - | J91: 0.51110897 | K91: 1.0602026 | L91: 0.98061159 | M91: 2.68188 | N91: 2.0675118 | O91: 0.68281805 | P91: 4.5617905
C92: Min-2w | D92: 1.2903114 | E92: 1.5691876 | F92: 1.5692156 | G92: 1.6567732 | H92: 1.8478335 | I92: - | J92: <0.1 | K92: 0.17814411 | L92: 0.85889876 | M92: 1.58061 | N92: 1.4543225 | O92: 0.17692106 | P92: <0.1
A93: Philippines | B93: Metro Manila | C93: Mean
C94: %
C95: Max-w
C96: Min-w
B97: Los Banos | C97: Mean
C98: %
C99: Max-w
C100: Min-w
A101: Philippines | B101: Mt. Sto. Tomas | C101: Mean | D101: - | E101: - | F101: - | G101: - | H101: - | I101: 0.38039887 | J101: 0.52068479 | K101: 0.20122699 | L101: 0.34970859 | M101: 0.18155923 | N101: <0.1 | O101: 0.1521788 | P101: 0.24275961
...

Sheet NH3
A1: Table 4.6 NH3
A3: Unit : ppb | D3: ='SO2'!D3:O3 -> 2012 | P3: Annual
A4: Country | B4: Site | D4: Jan | E4: Feb | F4: Mar | G4: Apr | H4: May | I4: Jun | J4: Jul | K4: Aug | L4: Sep | M4: Oct | N4: Nov | O4: Dec
A5: Cambodia | B5: Phnom Penh | C5: Mean | D5: 13.101131 | E5: 17.086651 | F5: 9.1438319 | G5: 7.0028043 | H5: 8.4154245 | I5: 6.5592787 | J5: 7.9154064 | K5: 12.917553 | L5: 10.844664 | M5: 7.8056819 | N5: 8.5125715 | O5: 7.7338301 | P5: 9.8515016
C6: % | D6: 100 | E6: 100 | F6: 100 | G6: 100 | H6: 100 | I6: 100 | J6: 100 | K6: 100 | L6: 100 | M6: 100 | N6: 100 | O6: 100 | P6: 100
C7: Max-2w | D7: 17.164763 | E7: 18.322779 | F7: 15.847199 | G7: 9.1997926 | H7: 9.1499968 | I7: 7.9148919 | J7: 8.7975979 | K7: 13.828617 | L7: 15.027652 | M7: 8.203889 | N7: 10.826855 | O7: 8.5468034 | P7: 18.322779
C8: Min-2w | D8: 9.0374998 | E8: 15.850522 | F8: 4.810487 | G8: 4.8058159 | H8: 7.6808522 | I8: 5.2036655 | J8: 7.0332149 | K8: 11.915852 | L8: 6.661675 | M8: 7.4074748 | N8: 6.1982876 | O8: 6.9208567 | P8: 4.8058159
A9: China | B9: Hongwen | C9: Mean
C10: %
C11: Max-2w
C12: Min-2w
A13: Indonesia | B13: Serpong | C13: Mean | D13: 8.6890357 | E13: 9.799111 | F13: 9.0450786 | G13: 12.659409 | H13: 23.976505 | I13: 21.974885 | J13: 23.896531 | K13: 22.505219 | L13: 21.882187 | M13: 19.450551 | N13: 10.069289 | O13: 8.9363925 | P13: 16.050719
C14: % | D14: 96.551724 | E14: 100 | F14: 100 | G14: 100 | H14: 100 | I14: 100 | J14: 100 | K14: 100 | L14: 100 | M14: 100 | N14: 100 | O14: 91.176471 | P14: 98.927614
C15: Max-2w | D15: 10.048228 | E15: 10.639638 | F15: 11.953681 | G15: 15.864493 | H15: 33.465707 | I15: 24.964365 | J15: 27.92161 | K15: 24.808393 | L15: 27.378697 | M15: 20.495815 | N15: 10.942145 | O15: 10.187137 | P15: 33.465707
C16: Min-2w | D16: 7.3298437 | E16: 8.9585843 | F16: 5.6756684 | G16: 9.4543236 | H16: 14.487303 | I16: 18.985405 | J16: 19.871453 | K16: 19.559955 | L16: 16.385678 | M16: 18.405287 | N16: 9.1964317 | O16: 7.6856477 | P16: 5.6756684
A17: Japan | B17: Rishiri | C17: Mean | D17: <0.1 | E17: <0.1 | F17: 0.14314558 | G17: 0.43448921 | H17: 0.47010844 | I17: 0.55913374 | J17: 0.4542316 | K17: 0.63398322 | L17: 0.53864579 | M17: 0.34322883 | N17: 0.13104585 | O17: 0.10211207 | P17: 0.33484441
C18: % | D18: 100 | E18: 100 | F18: 100 | G18: 100 | H18: 100 | I18: 100 | J18: 100 | K18: 100 | L18: 100 | M18: 100 | N18: 100 | O18: 100 | P18: 100
C19: Max-2w | D19: <0.1 | E19: <0.1 | F19: 0.16474956 | G19: 0.63082493 | H19: 0.75667953 | I19: 0.57912788 | J19: 0.45847471 | K19: 0.77964551 | L19: 0.65932191 | M19: 0.37572671 | N19: 0.13374126 | O19: 0.10899202 | P19: 0.77964551
C20: Min-2w | D20: <0.1 | E20: <0.1 | F20: 0.1215416 | G20: 0.23815349 | H20: 0.28505166 | I20: 0.53913959 | J20: 0.44998849 | K20: 0.48832093 | L20: 0.41796967 | M20: 0.28372215 | N20: 0.12835043 | O20: <0.1 | P20: <0.1
B21: Ochiishi | C21: Mean | D21: 0.1200846 | E21: 0.16568002 | F21: <0.1 | G21: 0.21264254 | H21: 0.33704069 | I21: 0.34242335 | J21: 0.33744817 | K21: 0.52099656 | L21: 1.0242439 | M21: 0.90243178 | N21: 0.42041538 | O21: 0.22669415 | P21: 0.36570943
C22: % | D22: 100 | E22: 100 | F22: 100 | G22: 100 | H22: 100 | I22: 100 | J22: 100 | K22: 100 | L22: 100 | M22: 53.333333 | N22: 100 | O22: 100 | P22: 96.164384
C23: Max-2w | D23: 0.14679956 | E23: 0.17851333 | F23: 0.14661526 | G23: 0.30331219 | H23: 0.43195998 | I23: 0.406106 | J23: 0.36675435 | K23: 0.53748912 | L23: 1.4588262 | M23: 0.90243178 | N23: 0.42041538 | O23: 0.33550423 | P23: 1.4588262
C24: Min-2w | D24: <0.1 | E24: 0.15284671 | F24: <0.1 | G24: 0.1219729 | H24: 0.2421214 | I24: 0.2787407 | J24: 0.28142805 | K24: 0.50450401 | L24: 0.58966147 | M24: 0.90243178 | N24: 0.42041538 | O24: 0.11788407 | P24: <0.1
B25: Tappi | C25: Mean | D25: 0.12653744 | E25: <0.1 | F25: 0.19422774 | G25: 0.46452595 | H25: 0.51651669 | I25: 0.51161209 | J25: 0.62117257 | K25: 0.86462893 | L25: 0.90593034 | M25: 0.47377769 | N25: 0.23416746 | O25: 0.12235601 | P25: 0.4249116
C26: % | D26: 100 | E26: 100 | F26: 100 | G26: 100 | H26: 66.666667 | I26: 100 | J26: 100 | K26: 100 | L26: 100 | M26: 100 | N26: 100 | O26: 100 | P26: 96.153846
C27: Max-2w | D27: 0.19072598 | E27: <0.1 | F27: 0.25338243 | G27: 0.48630514 | H27: 0.56913101 | I27: 0.55455367 | J27: 0.67133859 | K27: 0.88121427 | L27: 0.96898601 | M27: 0.59177659 | N27: 0.27237233 | O27: 0.1366984 | P27: 0.96898601
C28: Min-2w | D28: <0.1 | E28: <0.1 | F28: 0.13507306 | G28: 0.44274675 | H28: 0.46390237 | I28: 0.4686705 | J28: 0.57100655 | K28: 0.84804359 | L28: 0.84287468 | M28: 0.32314599 | N28: 0.19596258 | O28: 0.10801361 | P28: <0.1
B29: Sado-seki | C29: Mean | D29: <0.1 | E29: 0.1227093 | F29: 0.24314449 | G29: 1.0226702 | H29: 1.1674266 | I29: 0.83006718 | J29: 1.1055936 | K29: 0.75756154 | L29: 0.5121361 | M29: 0.5760111 | N29: 0.23720367 | O29: 0.15590586 | P29: 0.5878551
C30: % | D30: 100 | E30: 50 | F30: 100 | G30: 66.666667 | H30: 100 | I30: 100 | J30: 100 | K30: 100 | L30: 100 | M30: 100 | N30: 100 | O30: 100 | P30: 92.200557
C31: Max-2w | D31: 0.10053976 | E31: 0.1227093 | F31: 0.31694365 | G31: 1.2255712 | H31: 1.5346514 | I31: 0.85755013 | J31: 1.490344 | K31: 0.84882875 | L31: 0.62833746 | M31: 0.68021453 | N31: 0.34988989 | O31: 0.17494464 | P31: 1.5346514
C32: Min-2w | D32: <0.1 | E32: 0.1227093 | F32: 0.16934534 | G32: 0.8197692 | H32: 0.80020177 | I32: 0.80258422 | J32: 0.72084331 | K32: 0.66629433 | L32: 0.39593473 | M32: 0.5015355 | N32: 0.12451744 | O32: 0.13686708 | P32: <0.1
B33: Happo | C33: Mean | D33: <0.1 | E33: <0.1 | F33: 0.17177752 | G33: 0.45909601 | H33: 0.7528729 | I33: 0.46922028 | J33: - | K33: 0.95930142 | L33: 0.4860683 | M33: 0.37243367 | N33: 0.2168651 | O33: 0.22187801 | P33: 0.39971144
C34: % | D34: 100 | E34: 100 | F34: 100 | G34: 100 | H34: 100 | I34: 100 | J34: 0 | K34: 100 | L34: 100 | M34: 100 | N34: 100 | O34: 100 | P34: 92.200557
C35: Max-2w | D35: 0.11837721 | E35: <0.1 | F35: 0.20123783 | G35: 0.6627818 | H35: 0.81500456 | I35: 0.49567147 | J35: - | K35: 1.3210428 | L35: 0.51630922 | M35: 0.52342261 | N35: 0.2168651 | O35: 0.22609679 | P35: 1.3210428
C36: Min-2w | D36: <0.1 | E36: <0.1 | F36: 0.1423172 | G36: 0.28664401 | H36: 0.69074124 | I36: 0.44276908 | J36: - | K36: 0.59756007 | L36: 0.45582739 | M36: 0.18483796 | N36: 0.2168651 | O36: 0.21765923 | P36: <0.1
B37: Ijira | C37: Mean | D37: 0.18525819 | E37: 0.23509972 | F37: 0.3877976 | G37: 1.3359969 | H37: 1.4163687 | I37: 1.3487862 | J37: 1.9745898 | K37: 1.8765079 | L37: 1.1524202 | M37: 1.0404673 | N37: 0.40364879 | O37: 0.28478791 | P37: 0.9869201
C38: % | D38: 100 | E38: 100 | F38: 100 | G38: 100 | H38: 100 | I38: 100 | J38: 100 | K38: 100 | L38: 100 | M38: 100 | N38: 100 | O38: 100 | P38: 100
C39: Max-2w | D39: 0.29468378 | E39: 0.26532296 | F39: 0.49635608 | G39: 2.1069471 | H39: 1.4457475 | I39: 1.554942 | J39: 2.4234734 | K39: 1.9793269 | L39: 1.2857105 | M39: 1.4923945 | N39: 0.56779643 | O39: 0.40752455 | P39: 2.4234734
C40: Min-2w | D40: <0.1 | E40: 0.20487647 | F40: 0.27923913 | G40: 0.47941923 | H40: 1.3869899 | I40: 1.1426305 | J40: 1.5257061 | K40: 1.7736889 | L40: 1.0191299 | M40: 0.61299607 | N40: 0.23950115 | O40: 0.16205126 | P40: <0.1
B41: Oki | C41: Mean | D41: 0.15996714 | E41: 0.20917738 | F41: 0.28728667 | G41: 0.39122471 | H41: 1.177578 | I41: 1.0740934 | J41: 0.44827397 | K41: 0.52618578 | L41: 0.94820943 | M41: - | N41: - | O41: 0.10065027 | P41: 0.54373311
C42: % | D42: 100 | E42: 100 | F42: 100 | G42: 100 | H42: 100 | I42: 100 | J42: 100 | K42: 100 | L42: 50 | M42: 0 | N42: 0 | O42: 100 | P42: 77.173913
C43: Max-2w | D43: 0.16092983 | E43: 0.23709632 | F43: 0.40262035 | G43: 0.4015873 | H43: 1.2820574 | I43: 1.359271 | J43: 0.80831333 | K43: 1.0523716 | L43: 0.94820943 | M43: - | N43: - | O43: 0.19684898 | P43: 1.359271
C44: Min-2w | D44: 0.15900446 | E44: 0.18125843 | F44: 0.171953 | G44: 0.38086211 | H44: 1.1216551 | I44: 0.78891588 | J44: <0.1 | K44: <0.1 | L44: 0.94820943 | M44: - | N44: - | O44: <0.1 | P44: <0.1
B45: Banryu | C45: Mean | D45: 0.29809903 | E45: 0.45329301 | F45: 0.53951554 | G45: 1.3485578 | H45: 1.1790906 | I45: 1.1253124 | J45: 1.1127366 | K45: 0.97407957 | L45: 0.90155796 | M45: 0.60761878 | N45: 0.40350252 | O45: 0.25480773 | P45: 0.81028341
C46: % | D46: 46.153846 | E46: 100 | F46: 100 | G46: 100 | H46: 100 | I46: 100 | J46: 100 | K46: 100 | L46: 100 | M46: 61.904762 | N46: 100 | O46: 100 | P46: 91.620112
C47: Max-2w | D47: 0.29809903 | E47: 0.5127455 | F47: 0.65416876 | G47: 1.6406437 | H47: 1.5055988 | I47: 1.1942558 | J47: 1.2022429 | K47: 1.0124969 | L47: 1.0802854 | M47: 0.76040393 | N47: 0.45305663 | O47: 0.30222381 | P47: 1.6406437
C48: Min-2w | D48: 0.29809903 | E48: 0.39384051 | F48: 0.42486233 | G48: 0.98106597 | H48: 0.85258246 | I48: 1.056369 | J48: 1.0232303 | K48: 0.93566225 | L48: 0.72283056 | M48: 0.45483362 | N48: 0.35394841 | O48: 0.20739164 | P48: 0.20739164
B49: Yusuhara | C49: Mean | D49: 0.30746059 | E49: 0.2144789 | F49: 0.26980306 | G49: 1.0443437 | H49: 0.94819385 | I49: 0.54692629 | J49: 0.6907383 | K49: 0.41306327 | L49: 0.42601044 | M49: 0.5460529 | N49: 0.24733354 | O49: 0.24911198 | P49: 0.47119762
C50: % | D50: 100 | E50: 100 | F50: 100 | G50: 33.333333 | H50: 100 | I50: 100 | J50: 100 | K50: 100 | L50: 100 | M50: 100 | N50: 100 | O50: 100 | P50: 92.045455
C51: Max-2w | D51: 0.3327072 | E51: 0.22252132 | F51: 0.3213644 | G51: 1.0443437 | H51: 1.0928311 | I51: 0.55664803 | J51: 0.81673974 | K51: 0.42046047 | L51: 0.43397179 | M51: 0.67260735 | N51: 0.46650341 | O51: 0.28656057 | P51: 1.0928311
C52: Min-2w | D52: 0.28221398 | E52: 0.20643647 | F52: 0.21824171 | G52: 1.0443437 | H52: 0.80355664 | I52: 0.53720455 | J52: 0.56473687 | K52: 0.40566607 | L52: 0.41804908 | M52: 0.40731093 | N52: <0.1 | O52: 0.2116634 | P52: <0.1
B53: Hedo | C53: Mean | D53: 0.49227812 | E53: 0.98664856 | F53: 0.72253671 | G53: 2.0795633 | H53: 1.5751525 | I53: 1.4841311 | J53: 1.8482207 | K53: 1.7464346 | L53: 2.1009816 | M53: 1.0405826 | N53: 0.89995971 | O53: 0.54880788 | P53: 1.3142592
C54: % | D54: 100 | E54: 100 | F54: 100 | G54: 100 | H54: 100 | I54: 100 | J54: 100 | K54: 100 | L54: 100 | M54: 100 | N54: 100 | O54: 100 | P54: 100
C55: Max-2w | D55: 0.52096989 | E55: 1.4945391 | F55: 0.88949856 | G55: 2.4026835 | H55: 2.1611063 | I55: 1.5169445 | J55: 2.1560108 | K55: 1.8421206 | L55: 2.198224 | M55: 1.1636408 | N55: 1.0023402 | O55: 0.58420164 | P55: 2.4026835
C56: Min-2w | D56: 0.46358635 | E56: 0.47875799 | F56: 0.55557486 | G56: 1.5649814 | H56: 0.9891987 | I56: 1.4513176 | J56: 1.5404306 | K56: 1.6507485 | L56: 2.0037392 | M56: 0.89095672 | N56: 0.79757922 | O56: 0.51341411 | P56: 0.46358635
B57: Ogasawara | C57: Mean | D57: 0.24664466 | E57: 0.28949575 | F57: 0.70309608 | G57: 0.70410109 | H57: 0.52343862 | I57: 0.672963 | J57: 0.58686594 | K57: 0.61794628 | L57: 0.5501358 | M57: 0.42250844 | N57: 0.40331006 | O57: 0.37239257 | P57: 0.51201562
C58: % | D58: 100 | E58: 100 | F58: 100 | G58: 100 | H58: 100 | I58: 100 | J58: 100 | K58: 100 | L58: 100 | M58: 100 | N58: 100 | O58: 100 | P58: 100
C59: Max-2w | D59: 0.27561955 | E59: 0.30382961 | F59: 0.76546639 | G59: 0.87487861 | H59: 0.65505243 | I59: 0.73259967 | J59: 0.63059967 | K59: 0.81566454 | L59: 0.74117041 | M59: 0.56107863 | N59: 0.50665282 | O59: 0.43475876 | P59: 0.87487861
C60: Min-2w | D60: 0.21766977 | E60: 0.27516189 | F60: 0.64072576 | G60: 0.61326372 | H60: 0.39182482 | I60: 0.61332633 | J60: 0.54313221 | K60: 0.42022802 | L60: 0.35910118 | M60: 0.33518415 | N60: 0.2999673 | O60: 0.31002638 | P60: 0.21766977
B61: Tokyo | C61: Mean | D61: 3.4087767 | E61: 2.8154584 | F61: 0.55018722 | G61: 2.8258867 | H61: 4.0169126 | I61: 4.5339561 | J61: 6.0498084 | K61: 4.6676076 | L61: 5.4493244 | M61: 4.3111693 | N61: 4.2967048 | O61: 4.4154931 | P61: 3.9161395
C62: % | D62: 100 | E62: 100 | F62: 100 | G62: 100 | H62: 100 | I62: 100 | J62: 100 | K62: 100 | L62: 100 | M62: 100 | N62: 100 | O62: 100 | P62: 100
C63: Max-2w | D63: 3.5886849 | E63: 2.9162356 | F63: 0.58818397 | G63: 4.6953221 | H63: 4.0528985 | I63: 4.7149535 | J63: 7.0269399 | K63: 5.181008 | L63: 5.7996612 | M63: 4.4204477 | N63: 4.3873496 | O63: 4.6413526 | P63: 7.0269399
C64: Min-2w | D64: 3.2288684 | E64: 2.7146812 | F64: 0.51219046 | G64: 0.44764303 | H64: 3.9809266 | I64: 4.3529587 | J64: 5.0726769 | K64: 4.1542072 | L64: 5.0989875 | M64: 4.2555269 | N64: 4.2060601 | O64: 4.1896336 | P64: 0.44764303
A65: Lao PDR | B65: Vientiane | C65: Mean
C66: %
C67: Max-2w
C68: Min-2w
A69: Malaysia | B69: Petaling Jaya | C69: Mean | D69: 6.2544652 | E69: 6.5413022 | F69: 6.8595693 | G69: 5.9843949 | H69: 6.6286213 | I69: - | J69: - | K69: - | L69: - | M69: - | N69: - | O69: - | P69: 6.4729991
C70: % | D70: 100 | E70: 100 | F70: 100 | G70: 100 | H70: 100 | I70: 0 | J70: 0 | K70: 0 | L70: 0 | M70: 0 | N70: 0 | O70: 0 | P70: 40.384615
C71: Max-w | D71: 7.0602891 | E71: 6.9213477 | F71: 8.1172531 | G71: 6.4999563 | H71: 7.0636545 | I71: - | J71: - | K71: - | L71: - | M71: - | N71: - | O71: - | P71: 8.1172531
C72: Min-w | D72: 5.5881836 | E72: 6.1876988 | F72: 5.1814556 | G72: 4.9550148 | H72: 6.0605362 | I72: - | J72: - | K72: - | L72: - | M72: - | N72: - | O72: - | P72: 4.9550148
B73: Tanah Rata | C73: Mean | D73: 1.007986 | E73: 0.78214619 | F73: 0.7390335 | G73: 0.63262796 | H73: 1.1707253 | I73: 1.3910003 | J73: 0.98713279 | K73: 1.4522979 | L73: 0.76868474 | M73: 0.83076365 | N73: 0.65566867 | O73: 0.69873329 | P73: 0.93663849
C74: % | D74: 100 | E74: 100 | F74: 100 | G74: 100 | H74: 100 | I74: 100 | J74: 100 | K74: 100 | L74: 100 | M74: 100 | N74: 100 | O74: 100 | P74: 100
C75: Max-w | D75: 1.6052777 | E75: 1.1992708 | F75: 1.1064829 | G75: 1.0007144 | H75: 1.5735471 | I75: 2.7406066 | J75: 1.7410941 | K75: 2.6451745 | L75: 1.2968663 | M75: 1.427875 | N75: 0.80215807 | O75: 1.1882132 | P75: 2.7406066
C76: Min-w | D76: 0.64831295 | E76: 0.60215942 | F76: 0.37980514 | G76: 0.35143995 | H76: 0.48821787 | I76: 0.6475918 | J76: 0.6221112 | K76: 0.67691853 | L76: <0.1 | M76: 0.28148849 | N76: 0.56297699 | O76: 0.17043155 | P76: <0.1
B77: Danum Valley | C77: Mean | D77: 0.20805149 | E77: 0.69506744 | F77: 0.20264287 | G77: - | H77: 0.40552612 | I77: 0.4001175 | J77: 0.45071813 | K77: 0.19687368 | L77: 0.32079111 | M77: 2.8759422 | N77: 0.64278414 | O77: 2.8968555 | P77: 0.66765043
C78: % | D78: 66.666667 | E78: 100 | F78: 50 | G78: 0 | H78: 50 | I78: 100 | J78: 100 | K78: 100 | L78: 100 | M78: 50 | N78: 50 | O78: 50 | P78: 69.230769
C79: Max-2w | D79: 0.22571964 | E79: 0.76513909 | F79: 0.20264287 | G79: - | H79: 0.40552612 | I79: 0.50216009 | J79: 0.86345574 | K79: 0.22043121 | L79: 0.32259399 | M79: 2.8759422 | N79: 0.64278414 | O79: 2.8968555 | P79: 2.8968555
C80: Min-2w | D80: 0.19038334 | E80: 0.6249958 | F80: 0.20264287 | G80: - | H80: 0.40552612 | I80: 0.29807492 | J80: 0.21129666 | K80: 0.17331614 | L80: 0.31898824 | M80: 2.8759422 | N80: 0.64278414 | O80: 2.8968555 | P80: 0.17331614
A81: Mongolia | B81: Ulaanbaatar | C81: Mean
C82: %
C83: Max-w
C84: Min-w
B85: Terelj | C85: Mean
C86: %
C87: Max-2w
C88: Min-2w
A89: Myanmar | B89: Yangon | C89: Mean | D89: 19.742956 | E89: 20.930317 | F89: 22.211735 | G89: 17.798151 | H89: 6.7723774 | I89: - | J89: 1.8775103 | K89: 5.4311656 | L89: 12.029962 | M89: 0.25992492 | N89: 5.0539254 | O89: <0.1 | P89: 10.249718
C90: % | D90: 100 | E90: 100 | F90: 82.142857 | G90: 100 | H90: 100 | I90: 0 | J90: 100 | K90: 100 | L90: 100 | M90: 100 | N90: 100 | O90: 100 | P90: 90.934066
C91: Max-2w | D91: 22.465368 | E91: 21.002206 | F91: 25.145716 | G91: 22.035946 | H91: 12.509028 | I91: - | J91: 3.184516 | K91: 6.9152577 | L91: 12.706604 | M91: 0.5112479 | N91: 8.9295158 | O91: 0.15671201 | P91: 25.145716
C92: Min-2w | D92: 15.754807 | E92: 20.858428 | F92: 19.277753 | G92: 13.560356 | H92: 1.0357268 | I92: - | J92: 0.49345487 | K92: 3.9470734 | L92: 11.35332 | M92: <0.1 | N92: 1.1783349 | O92: <0.1 | P92: <0.1
A93: Philippines | B93: Metro Manila | C93: Mean
C94: %
C95: Max-w
C96: Min-w
B97: Los Banos | C97: Mean
C98: %
C99: Max-w
C100: Min-w
A101: Philippines | B101: Mt. Sto. Tomas | C101: Mean | D101: - | E101: - | F101: - | G101: - | H101: - | I101: 0.86977191 | J101: 1.5507561 | K101: <0.1 | L101: 1.1660553 | M101: 0.94828862 | N101: 1.2606985 | O101: 0.98089137 | P101: 1.0007512
...

Sheet NO
A1: Table 4.7 NO
A3: Unit : ppb | D3: ='SO2'!D3:O3 -> 2012 | P3: Annual
A4: Country | B4: Site | D4: Jan | E4: Feb | F4: Mar | G4: Apr | H4: May | I4: Jun | J4: Jul | K4: Aug | L4: Sep | M4: Oct | N4: Nov | O4: Dec
A5: China | B5: Jinyunshan | C5: Mean | D5: 3.1733333 | E5: 2.7034483 | F5: 1.0666667 | G5: 1.6275862 | H5: 1.5172414 | I5: 1.1862069 | J5: 1.4967742 | K5: 1.36 | L5: 2.7466667 | M5: 2.2709677 | N5: 2.2133333 | O5: 3.3548387 | P5: 2.0741573
C6: % | D6: 96.774194 | E6: 100 | F6: 87.096774 | G6: 96.666667 | H6: 93.548387 | I6: 96.666667 | J6: 100 | K6: 96.774194 | L6: 100 | M6: 100 | N6: 100 | O6: 100 | P6: 97.534247
C7: Max-d | D7: 6.4 | E7: 6.4 | F7: 2.4 | G7: 3.2 | H7: 4.8 | I7: 4 | J7: 6.4 | K7: 4 | L7: 4.8 | M7: 4.8 | N7: 7.2 | O7: 15.2 | P7: 15.2
C8: Min-d | D8: 1.6 | E8: 0.8 | F8: 0.8 | G8: 0.8 | H8: 0.8 | I8: 0.8 | J8: 0.8 | K8: 0.8 | L8: 2.4 | M8: 0.8 | N8: 0.8 | O8: 0.8 | P8: 0.8
A9: Japan | B9: Rishiri | C9: Mean | D9: <0.1 | E9: <0.1 | F9: <0.1 | G9: <0.1 | H9: <0.1 | I9: 0.18983051 | J9: 0.17307692 | K9: 0.10357143 | L9: <0.1 | M9: <0.1 | N9: <0.1 | O9: <0.1 | P9: <0.1
C10: % | D10: 98.387097 | E10: 97.701149 | F10: 89.919355 | G10: 97.5 | H10: 97.849462 | I10: 98.333333 | J10: 97.849462 | K10: 97.849462 | L10: 84.444444 | M10: 97.849462 | N10: 98.194444 | O10: 97.043011 | P10: 96.083789
C11: Max-d | D11: 0.17083333 | E11: 0.16 | F11: 0.19583333 | G11: 0.25 | H11: 0.19583333 | I11: 0.555 | J11: 0.425 | K11: 0.3875 | L11: 0.14583333 | M11: 0.20833333 | N11: 0.125 | O11: 0.11666667 | P11: 0.555
C12: Min-d | D12: <0.1 | E12: <0.1 | F12: <0.1 | G12: <0.1 | H12: <0.1 | I12: <0.1 | J12: <0.1 | K12: <0.1 | L12: <0.1 | M12: <0.1 | N12: <0.1 | O12: <0.1 | P12: <0.1
B13: Ochiishi | C13: Mean | D13: <0.1 | E13: <0.1 | F13: <0.1 | G13: <0.1 | H13: <0.1 | I13: 0.17492163 | J13: 0.21360449 | K13: 0.12187938 | L13: <0.1 | M13: <0.1 | N13: <0.1 | O13: <0.1 | P13: <0.1
C14: % | D14: 81.317204 | E14: 91.666667 | F14: 96.908602 | G14: 98.055556 | H14: 95.698925 | I14: 88.611111 | J14: 95.833333 | K14: 95.833333 | L14: 95.694444 | M14: 95.698925 | N14: 91.111111 | O14: 95.295699 | P14: 93.48816
C15: Max-d | D15: <0.1 | E15: 0.10434783 | F15: 0.11304348 | G15: 0.1875 | H15: 0.8125 | I15: 1.8 | J15: 1.0652174 | K15: 0.3826087 | L15: 0.42608696 | M15: 0.2 | N15: <0.1 | O15: 0.11304348 | P15: 1.8
C16: Min-d | D16: <0.1 | E16: <0.1 | F16: <0.1 | G16: <0.1 | H16: <0.1 | I16: <0.1 | J16: <0.1 | K16: <0.1 | L16: <0.1 | M16: <0.1 | N16: <0.1 | O16: <0.1 | P16: <0.1
B17: Tappi | C17: Mean | D17: <0.1 | E17: 0.10540146 | F17: 0.11202186 | G17: 0.21197183 | H17: 0.19307065 | I17: 0.33178622 | J17: 0.15481682 | K17: 0.16100543 | L17: 0.17768362 | M17: <0.1 | N17: 0.1286123 | O17: <0.1 | P17: 0.14424892
C18: % | D18: 98.387097 | E18: 98.41954 | F18: 98.387097 | G18: 98.611111 | H18: 98.924731 | I18: 98.75 | J18: 99.05914 | K18: 98.924731 | L18: 98.333333 | M18: 88.575269 | N18: 97.083333 | O18: 98.924731 | P18: 97.68898
C19: Max-d | D19: 0.1375 | E19: 0.23181818 | F19: 0.27916667 | G19: 0.75 | H19: 0.625 | I19: 1.2916667 | J19: 0.4826087 | K19: 0.2875 | L19: 0.47083333 | M19: 0.20416667 | N19: 0.275 | O19: <0.1 | P19: 1.2916667
C20: Min-d | D20: <0.1 | E20: <0.1 | F20: <0.1 | G20: <0.1 | H20: <0.1 | I20: <0.1 | J20: <0.1 | K20: <0.1 | L20: <0.1 | M20: <0.1 | N20: <0.1 | O20: <0.1 | P20: <0.1
B21: Sado-seki | C21: Mean | D21: <0.1 | E21: <0.1 | F21: <0.1 | G21: <0.1 | H21: <0.1 | I21: <0.1 | J21: <0.1 | K21: <0.1 | L21: <0.1 | M21: <0.1 | N21: 0.11313756 | O21: <0.1 | P21: <0.1
C22: % | D22: 97.983871 | E22: 97.126437 | F22: 97.580645 | G22: 94.583333 | H22: 95.698925 | I22: 97.083333 | J22: 96.908602 | K22: 87.634409 | L22: 94.722222 | M22: 95.026882 | N22: 89.861111 | O22: 80.241935 | P22: 93.681694
C23: Max-d | D23: 0.21666667 | E23: 0.215 | F23: 0.21666667 | G23: 0.125 | H23: 0.10833333 | I23: 0.20833333 | J23: 0.1173913 | K23: 0.14583333 | L23: 0.125 | M23: 0.10416667 | N23: 0.23333333 | O23: 0.1625 | P23: 0.23333333
C24: Min-d | D24: <0.1 | E24: <0.1 | F24: <0.1 | G24: <0.1 | H24: <0.1 | I24: <0.1 | J24: <0.1 | K24: <0.1 | L24: <0.1 | M24: <0.1 | N24: <0.1 | O24: <0.1 | P24: <0.1
B25: Happo | C25: Mean | D25: <0.1 | E25: 0.1544 | F25: <0.1 | G25: <0.1 | H25: <0.1 | I25: <0.1 | J25: <0.1 | K25: <0.1 | L25: <0.1 | M25: <0.1 | N25: <0.1 | O25: <0.1 | P25: <0.1
C26: % | D26: 99.731183 | E26: 71.83908 | F26: 100 | G26: 97.777778 | H26: 98.387097 | I26: 97.777778 | J26: 97.849462 | K26: 96.639785 | L26: 82.777778 | M26: 97.311828 | N26: 98.333333 | O26: 97.849462 | P26: 94.820128
C27: Max-d | D27: 0.60833333 | E27: 0.29166667 | F27: 0.325 | G27: <0.1 | H27: 0.2375 | I27: 0.19583333 | J27: 0.1875 | K27: 0.1625 | L27: 0.10416667 | M27: 0.15416667 | N27: 0.17916667 | O27: 0.24 | P27: 0.60833333
C28: Min-d | D28: <0.1 | E28: <0.1 | F28: <0.1 | G28: <0.1 | H28: <0.1 | I28: <0.1 | J28: <0.1 | K28: <0.1 | L28: <0.1 | M28: <0.1 | N28: <0.1 | O28: <0.1 | P28: <0.1
B29: Ijira | C29: Mean | D29: <0.1 | E29: <0.1 | F29: <0.1 | G29: <0.1 | H29: <0.1 | I29: <0.1 | J29: 0.20298913 | K29: 0.72398374 | L29: 0.13370787 | M29: <0.1 | N29: <0.1 | O29: <0.1 | P29: 0.11222278
C30: % | D30: 36.155914 | E30: 98.994253 | F30: 98.387097 | G30: 98.888889 | H30: 98.924731 | I30: 97.777778 | J30: 98.924731 | K30: 99.193548 | L30: 98.888889 | M30: 98.924731 | N30: 87.083333 | O30: 85.349462 | P30: 91.370674
C31: Max-d | D31: 0.10833333 | E31: 0.33333333 | F31: 0.18181818 | G31: <0.1 | H31: 0.12916667 | I31: 0.35 | J31: 0.8375 | K31: 1.8875 | L31: 0.48333333 | M31: 0.2 | N31: 0.10416667 | O31: 0.275 | P31: 1.8875
C32: Min-d | D32: <0.1 | E32: <0.1 | F32: <0.1 | G32: <0.1 | H32: <0.1 | I32: <0.1 | J32: <0.1 | K32: <0.1 | L32: <0.1 | M32: <0.1 | N32: <0.1 | O32: <0.1 | P32: <0.1
B33: Oki | C33: Mean | D33: <0.1 | E33: <0.1 | F33: <0.1 | G33: <0.1 | H33: <0.1 | I33: <0.1 | J33: <0.1 | K33: 0.1403397 | L33: - | M33: <0.1 | N33: <0.1 | O33: 0.1542069 | P33: <0.1
C34: % | D34: 97.446237 | E34: 97.701149 | F34: 96.774194 | G34: 71.111111 | H34: 97.849462 | I34: 96.805556 | J34: 97.446237 | K34: 63.306452 | L34: 0 | M34: 61.155914 | N34: 98.194444 | O34: 97.446237 | P34: 81.341075
C35: Max-d | D35: 0.12083333 | E35: <0.1 | F35: <0.1 | G35: <0.1 | H35: 0.1875 | I35: <0.1 | J35: 0.21666667 | K35: 0.33333333 | L35: - | M35: 0.18333333 | N35: 0.2125 | O35: 0.20416667 | P35: 0.33333333
C36: Min-d | D36: <0.1 | E36: <0.1 | F36: <0.1 | G36: <0.1 | H36: <0.1 | I36: <0.1 | J36: <0.1 | K36: <0.1 | L36: - | M36: <0.1 | N36: <0.1 | O36: 0.10833333 | P36: 0.10833333
B37: Banryu | C37: Mean | D37: 0.34540466 | E37: 0.13612335 | F37: <0.1 | G37: <0.1 | H37: 0.11161202 | I37: 0.18036723 | J37: 0.21477428 | K37: 0.23702186 | L37: 0.19395218 | M37: 0.1733882 | N37: 0.15155367 | O37: <0.1 | P37: 0.1602478
C38: % | D38: 97.983871 | E38: 97.844828 | F38: 98.387097 | G38: 98.75 | H38: 98.387097 | I38: 98.333333 | J38: 98.252688 | K38: 98.387097 | L38: 98.75 | M38: 97.983871 | N38: 98.333333 | O38: 98.387097 | P38: 98.315118
C39: Max-d | D39: 0.52083333 | E39: 0.34761905 | F39: 0.20952381 | G39: 0.2375 | H39: 0.25714286 | I39: 0.37916667 | J39: 0.46666667 | K39: 0.4625 | L39: 0.53333333 | M39: 0.33333333 | N39: 0.31666667 | O39: 0.28333333 | P39: 0.53333333
C40: Min-d | D40: 0.18571429 | E40: <0.1 | F40: <0.1 | G40: <0.1 | H40: <0.1 | I40: 0.1 | J40: <0.1 | K40: <0.1 | L40: 0.11666667 | M40: <0.1 | N40: <0.1 | O40: <0.1 | P40: 0.1
B41: Yusuhara | C41: Mean | D41: 0.10690608 | E41: <0.1 | F41: <0.1 | G41: <0.1 | H41: <0.1 | I41: <0.1 | J41: <0.1 | K41: <0.1 | L41: <0.1 | M41: <0.1 | N41: <0.1 | O41: <0.1 | P41: <0.1
C42: % | D42: 97.311828 | E42: 97.701149 | F42: 97.177419 | G42: 96.666667 | H42: 97.849462 | I42: 91.111111 | J42: 91.801075 | K42: 80.376344 | L42: 97.5 | M42: 96.370968 | N42: 89.305556 | O42: 97.311828 | P42: 94.193989
C43: Max-d | D43: 0.22083333 | E43: 0.2 | F43: 0.3125 | G43: 0.20833333 | H43: 0.12916667 | I43: 0.22083333 | J43: 0.15 | K43: 0.1875 | L43: 0.19166667 | M43: 0.1 | N43: 0.18333333 | O43: 0.1625 | P43: 0.3125
C44: Min-d | D44: <0.1 | E44: <0.1 | F44: <0.1 | G44: <0.1 | H44: <0.1 | I44: <0.1 | J44: <0.1 | K44: <0.1 | L44: <0.1 | M44: <0.1 | N44: <0.1 | O44: <0.1 | P44: <0.1
B45: Hedo | C45: Mean | D45: <0.1 | E45: <0.1 | F45: <0.1 | G45: <0.1 | H45: 0.12327824 | I45: 0.11394799 | J45: <0.1 | K45: <0.1 | L45: <0.1 | M45: 0.15462428 | N45: 0.12060185 | O45: <0.1 | P45: <0.1
C46: % | D46: 97.580645 | E46: 82.04023 | F46: 97.715054 | G46: 97.083333 | H46: 97.580645 | I46: 58.75 | J46: 87.903226 | K46: 86.021505 | L46: 52.638889 | M46: 93.010753 | N46: 60 | O46: 32.795699 | P46: 78.699909
C47: Max-d | D47: 0.2 | E47: 0.33846154 | F47: 0.19473684 | G47: 0.23 | H47: 0.85 | I47: 0.8375 | J47: 0.19166667 | K47: 0.315 | L47: 0.245 | M47: 0.38333333 | N47: 0.15833333 | O47: <0.1 | P47: 0.85
C48: Min-d | D48: <0.1 | E48: <0.1 | F48: <0.1 | G48: <0.1 | H48: <0.1 | I48: <0.1 | J48: <0.1 | K48: <0.1 | L48: <0.1 | M48: <0.1 | N48: <0.1 | O48: <0.1 | P48: <0.1
B49: Ogasawara | C49: Mean | D49: <0.1 | E49: <0.1 | F49: <0.1 | G49: <0.1 | H49: <0.1 | I49: 0.24306152 | J49: <0.1 | K49: <0.1 | L49: <0.1 | M49: <0.1 | N49: <0.1 | O49: <0.1 | P49: <0.1
C50: % | D50: 96.774194 | E50: 94.109195 | F50: 97.043011 | G50: 96.805556 | H50: 96.236559 | I50: 97.083333 | J50: 96.908602 | K50: 97.311828 | L50: 95.277778 | M50: 95.698925 | N50: 96.25 | O50: 96.370968 | P50: 96.334244
C51: Max-d | D51: 0.23333333 | E51: 0.10416667 | F51: 0.22916667 | G51: 0.19047619 | H51: 0.115 | I51: 1.5666667 | J51: 0.725 | K51: 0.405 | L51: 0.325 | M51: <0.1 | N51: 0.18333333 | O51: 0.1125 | P51: 1.5666667
C52: Min-d | D52: <0.1 | E52: <0.1 | F52: <0.1 | G52: <0.1 | H52: <0.1 | I52: <0.1 | J52: <0.1 | K52: <0.1 | L52: <0.1 | M52: <0.1 | N52: <0.1 | O52: <0.1 | P52: <0.1
A53: Thailand | B53: Bangkok | C53: Mean | D53: 9.0323944 | E53: 5.3850837 | F53: 3.3140845 | G53: 3.9549393 | H53: 5.3092199 | I53: 6.52 | J53: 10.260745 | K53: 12.632624 | L53: 13.63244 | M53: 17.222054 | N53: 15.911079 | O53: 10.846821 | P53: 9.5448521
C54: % | D54: 95.430108 | E54: 94.396552 | F54: 95.430108 | G54: 80.138889 | H54: 94.758065 | I54: 93.75 | J54: 93.817204 | K54: 94.758065 | L54: 93.333333 | M54: 88.978495 | N54: 95.277778 | O54: 93.010753 | P54: 92.770947
C55: Max-d | D55: 50.73913 | E55: 21.130435 | F55: 8.1304348 | G55: 27.125 | H55: 29.681818 | I55: 25.782609 | J55: 23.26087 | K55: 41.434783 | L55: 56.869565 | M55: 68.217391 | N55: 36.782609 | O55: 32.652174 | P55: 68.217391
C56: Min-d | D56: 1.125 | E56: 1.2272727 | F56: 0.69565217 | G56: 0.625 | H56: 0.33333333 | I56: 0.53333333 | J56: 1.3043478 | K56: 2.2608696 | L56: 2.9565217 | M56: 2.7619048 | N56: 3.6086957 | O56: 0.4 | P56: 0.33333333
B57: Samutprakarn | C57: Mean | D57: - | E57: - | F57: 11.758621 | G57: 12.812893 | H57: 9.4534712 | I57: 12.727802 | J57: 17.088146 | K57: 23.196605 | L57: 21.552553 | M57: 21.46338 | N57: 22.649709 | O57: 12.707454 | P57: 17.074863
C58: % | D58: 0 | E58: 0 | F58: 7.7956989 | G58: 88.333333 | H58: 90.994624 | I58: 95.416667 | J58: 88.44086 | K58: 95.026882 | L58: 92.5 | M58: 95.430108 | N58: 95.555556 | O58: 95.564516 | P58: 70.560109
C59: Max-d | D59: - | E59: - | F59: 21.826087 | G59: 24.26087 | H59: 20.272727 | I59: 33.130435 | J59: 39.565217 | K59: 45.695652 | L59: 73.26087 | M59: 58.590909 | N59: 55.086957 | O59: 48.130435 | P59: 73.26087
C60: Min-d | D60: - | E60: - | F60: 3.25 | G60: 7.3913043 | H60: 0.65217391 | I60: 1.2173913 | J60: 4.4782609 | K60: 7.3478261 | L60: 4.8695652 | M60: 3.0434783 | N60: 3.4347826 | O60: 0.47826087 | P60: 0.47826087
B61: Khanchanaburi | C61: Mean | D61: - | E61: - | F61: 0.79338843 | G61: - | H61: - | I61: - | J61: 0.22619048 | K61: - | L61: - | M61: - | N61: 0.39488636 | O61: - | P61: 0.47859182
B62: (Vachiralongkorn Dam) | C62: % | D62: 0 | E62: 0 | F62: 48.790323 | G62: 0 | H62: 0 | I62: 0 | J62: 45.16129 | K62: 0 | L62: 0 | M62: 0 | N62: 48.888889 | O62: 0 | P62: 11.964936
C63: Max-d | D63: - | E63: - | F63: 1.7391304 | G63: - | H63: - | I63: - | J63: 3.2857143 | K63: - | L63: - | M63: - | N63: 1.9130435 | O63: - | P63: 3.2857143
C64: Min-d | D64: - | E64: - | F64: 0.28571429 | G64: - | H64: - | I64: - | J64: <0.1 | K64: - | L64: - | M64: - | N64: <0.1 | O64: - | P64: 0.28571429
B65: Chiangmai | C65: Mean | D65: 4.6299435 | E65: 4.0044978 | F65: 2.1516937 | G65: 1.3815789 | H65: 1.9314869 | I65: 1.1819527 | J65: 4.7201705 | K65: 5.356338 | L65: 5.1341108 | M65: 5.4196141 | N65: 7.5505124 | O65: 6.0735502 | P65: 4.26762
B66: (Mae Hia) | C66: % | D66: 95.16129 | E66: 95.833333 | F66: 91.263441 | G66: 42.222222 | H66: 92.204301 | I66: 93.888889 | J66: 94.623656 | K66: 95.430108 | L66: 95.277778 | M66: 83.602151 | N66: 94.861111 | O66: 95.026882 | P66: 89.162113
C67: Max-d | D67: 9.173913 | E67: 7.9565217 | F67: 4.6521739 | G67: 2.75 | H67: 4.9090909 | I67: 2.6521739 | J67: 7.0869565 | K67: 7.7826087 | L67: 7.6956522 | M67: 12.285714 | N67: 13.304348 | O67: 9.5652174 | P67: 13.304348
C68: Min-d | D68: 1.173913 | E68: 0.7826087 | F68: 0.29166667 | G68: 0.52173913 | H68: 0.19047619 | I68: 0.26086957 | J68: 2.5217391 | K68: 3.3913043 | L68: 3.75 | M68: 2.6363636 | N68: 4.7391304 | O68: 2.2608696 | P68: 0.19047619
A70: Mean : monthly or annual arithmetic average values
A71: Max-d : maximum values of daily data
A72: Min-d : minimum values of daily data
A73: % : monthly or annual percentages of period of available data

Sheet NO2
A1: Table 4.8 NO2
A3: Unit : ppb | D3: ='SO2'!D3:O3 -> 2012 | P3: Annual
A4: Country | B4: Site | D4: Jan | E4: Feb | F4: Mar | G4: Apr | H4: May | I4: Jun | J4: Jul | K4: Aug | L4: Sep | M4: Oct | N4: Nov | O4: Dec
A5: China | B5: Hongwen | C5: Mean | D5: 20.07871 | E5: 25.65931 | F5: 26.670968 | G5: 25.428 | H5: 17.16 | I5: 11.368276 | J5: 17.16 | K5: 16.310667 | L5: 16.102667 | M5: 16.338065 | N5: 23.209333 | O5: 24.523871 | P5: 20.038006
C6: % | D6: 100 | E6: 100 | F6: 100 | G6: 100 | H6: 100 | I6: 96.666667 | J6: 90.322581 | K6: 96.774194 | L6: 100 | M6: 100 | N6: 100 | O6: 100 | P6: 98.90411
C7: Max-d | D7: 36.92 | E7: 48.36 | F7: 46.8 | G7: 57.2 | H7: 49.4 | I7: 23.92 | J7: 41.08 | K7: 31.2 | L7: 30.16 | M7: 27.56 | N7: 46.28 | O7: 42.64 | P7: 57.2
C8: Min-d | D8: 8.32 | E8: 11.44 | F8: 9.36 | G8: 2.6 | H8: 3.64 | I8: 4.16 | J8: 6.24 | K8: 4.68 | L8: 10.4 | M8: 10.4 | N8: 13.52 | O8: 15.6 | P8: 2.6
B9: Xiang Zhou | C9: Mean | D9: 18.384516 | E9: 19.24 | F9: 17.747097 | G9: 13.797333 | H9: 17.864516 | I9: 7.5226667 | J9: 5.7367742 | K9: 11.892903 | L9: 10.590667 | M9: 9.6787097 | N9: 16.466667 | O9: 17.36129 | P9: 13.846776
C10: % | D10: 100 | E10: 100 | F10: 100 | G10: 100 | H10: 100 | I10: 100 | J10: 100 | K10: 100 | L10: 100 | M10: 100 | N10: 100 | O10: 100 | P10: 100.27397
C11: Max-d | D11: 34.32 | E11: 31.2 | F11: 37.96 | G11: 27.04 | H11: 27.56 | I11: 28.6 | J11: 15.6 | K11: 26.52 | L11: 24.44 | M11: 20.28 | N11: 28.6 | O11: 30.68 | P11: 37.96
C12: Min-d | D12: 8.32 | E12: 10.4 | F12: 10.92 | G12: 5.2 | H12: 6.76 | I12: 3.12 | J12: 1.56 | K12: 3.12 | L12: 2.08 | M12: 5.2 | N12: 7.28 | O12: 7.8 | P12: 1.56
A13: Indonesia | B13: Jakarta | C13: Mean | D13: 9 | E13: 9 | F13: 9 | G13: 15 | H13: 16 | I13: 15 | J13: 19 | K13: 29 | L13: 24 | M13: 13 | N13: 24 | O13: 13 | P13: 16.25
C14: % | D14: 100 | E14: 100 | F14: 100 | G14: 100 | H14: 100 | I14: 100 | J14: 100 | K14: 100 | L14: 100 | M14: 100 | N14: 100 | O14: 100 | P14: 100
C15: Max-m | D15: 9 | E15: 9 | F15: 9 | G15: 15 | H15: 16 | I15: 15 | J15: 19 | K15: 29 | L15: 24 | M15: 13 | N15: 24 | O15: 13 | P15: 29
C16: Min-m | D16: 9 | E16: 9 | F16: 9 | G16: 15 | H16: 16 | I16: 15 | J16: 19 | K16: 29 | L16: 24 | M16: 13 | N16: 24 | O16: 13 | P16: 9
B17: Kototabang | C17: Mean
C18: %
C19: Max-w
C20: Min-w
B21: Bandung | C21: Mean | D21: 29.465183 | E21: 40.910386 | F21: 30.69832 | G21: 44.394676 | H21: 42.730231 | I21: 41.423247 | J21: 40.781836 | K21: 30.954398 | L21: 49.185966 | M21: 51.741366 | N21: 56.927495 | O21: 54.760697 | P21: 42.83115
C22: % | D22: 100 | E22: 100 | F22: 100 | G22: 100 | H22: 100 | I22: 100 | J22: 100 | K22: 100 | L22: 100 | M22: 100 | N22: 100 | O22: 100 | P22: 100
C23: Max-m | D23: 29.465183 | E23: 40.910386 | F23: 30.69832 | G23: 44.394676 | H23: 42.730231 | I23: 41.423247 | J23: 40.781836 | K23: 30.954398 | L23: 49.185966 | M23: 51.741366 | N23: 56.927495 | O23: 54.760697 | P23: 56.927495
C24: Min-m | D24: 29.465183 | E24: 40.910386 | F24: 30.69832 | G24: 44.394676 | H24: 42.730231 | I24: 41.423247 | J24: 40.781836 | K24: 30.954398 | L24: 49.185966 | M24: 51.741366 | N24: 56.927495 | O24: 54.760697 | P24: 29.465183
A25: Japan | B25: Banryu | C25: Mean | D25: 2.7761317 | E25: 2.5929515 | F25: 2.6185792 | G25: 1.7770745 | H25: 1.4173497 | I25: 1.4829096 | J25: 1.3612859 | K25: 1.3789617 | L25: 1.2874824 | M25: 1.5855967 | N25: 2.2440678 | O25: 2.1282787 | P25: 1.8851088
C26: % | D26: 97.983871 | E26: 97.844828 | F26: 98.387097 | G26: 98.75 | H26: 98.387097 | I26: 98.333333 | J26: 98.252688 | K26: 98.387097 | L26: 98.75 | M26: 97.983871 | N26: 98.333333 | O26: 98.387097 | P26: 98.315118
C27: Max-d | D27: 5.1333333 | E27: 4.35 | F27: 4.947619 | G27: 3.6458333 | H27: 3.0416667 | I27: 2.9041667 | J27: 2.0416667 | K27: 2.6083333 | L27: 2.1458333 | M27: 2.4083333 | N27: 3.5833333 | O27: 4.6875 | P27: 5.1333333
C28: Min-d | D28: 1.1916667 | E28: 1.2714286 | F28: 1.0047619 | G28: 0.61666667 | H28: <0.1 | I28: 0.56666667 | J28: 0.46521739 | K28: 0.74166667 | L28: 0.6125 | M28: 0.93809524 | N28: 1.1375 | O28: 0.74166667 | P28: 0.46521739
A29: Republic of | B29: Kanghwa | C29: Mean | D29: 7.5 | E29: 4.4 | F29: 5.6 | G29: 6 | H29: 7.2 | I29: 3.7 | J29: 2.7 | K29: 4 | L29: 3.7 | M29: 3.4 | N29: 8.3 | O29: 2.9 | P29: 4.95
A30: Korea | C30: % | D30: 98 | E30: 100 | F30: 100 | G30: 100 | H30: 98 | I30: 95 | J30: 95 | K30: 78 | L30: 96 | M30: 98 | N30: 98 | O30: 97 | P30: 96.083333
C31: Max-d | D31: 12.7 | E31: 9.1 | F31: 11.5 | G31: 9.6 | H31: 14.1 | I31: 5.7 | J31: 3.6 | K31: 6.2 | L31: 4.5 | M31: 4.2 | N31: 13.7 | O31: 3.6 | P31: 14.1
C32: Min-d | D32: 3.3 | E32: 2.5 | F32: 3 | G32: 2.3 | H32: 3 | I32: 2 | J32: 1.8 | K32: 2.3 | L32: 2.3 | M32: 2.5 | N32: 3.7 | O32: 2.5 | P32: 1.8
B33: Cheju | C33: Mean | D33: 3.9 | E33: 2 | F33: 3.6 | G33: 3.4 | H33: 3.6 | I33: 3.4 | J33: 2.6 | K33: 2 | L33: 2.6 | M33: 2.3 | N33: 3.9 | O33: 2.9 | P33: 3.0166667
B34: (Kosan) | C34: % | D34: 100 | E34: 98 | F34: 100 | G34: 100 | H34: 93 | I34: 100 | J34: 99 | K34: 100 | L34: 94 | M34: 100 | N34: 100 | O34: 100 | P34: 98.666667
C35: Max-d | D35: 5.8 | E35: 4.5 | F35: 5.4 | G35: 4.7 | H35: 4.2 | I35: 4.6 | J35: 3.3 | K35: 3.8 | L35: 3.3 | M35: 3.6 | N35: 9 | O35: 5.6 | P35: 9
C36: Min-d | D36: 2 | E36: 0.3 | F36: 2.6 | G36: 2 | H36: 3 | I36: 2.2 | J36: 2.2 | K36: 1.2 | L36: 1.4 | M36: 1.4 | N36: 2.3 | O36: 1.7 | P36: 0.3
B37: Imsil | C37: Mean | D37: 7.3 | E37: 7.4 | F37: 6.2 | G37: 4.9 | H37: 4.1 | I37: 3.4 | J37: 1.6 | K37: 0.9 | L37: 2.2 | M37: 3 | N37: 3 | O37: 11.5 | P37: 4.625
C38: % | D38: 98 | E38: 98 | F38: 97 | G38: 100 | H38: 97 | I38: 93 | J38: 99 | K38: 96 | L38: 98 | M38: 93 | N38: 100 | O38: 92 | P38: 96.75
C39: Max-d | D39: 15.3 | E39: 13.2 | F39: 8.4 | G39: 8.9 | H39: 4.9 | I39: 6.2 | J39: 2.4 | K39: 1.8 | L39: 3.4 | M39: 3.8 | N39: 6.8 | O39: 26.7 | P39: 26.7
C40: Min-d | D40: 3.8 | E40: 2.6 | F40: 4.1 | G40: 2.8 | H40: 3.4 | I40: 1.7 | J40: 0.7 | K40: 0.2 | L40: 1.2 | M40: 2 | N40: 1.2 | O40: 4.8 | P40: 0.2
A41: Thailand | B41: Bangkok | C41: Mean | D41: 30.725738 | E41: 28.403963 | F41: 23.360056 | G41: 25.157712 | H41: 21.160284 | I41: 17.112593 | J41: 16.332378 | K41: 15.900709 | L41: 20.325893 | M41: 30.702866 | N41: 33.409621 | O41: 34.686869 | P41: 24.736874
C42: % | D42: 95.564516 | E42: 94.252874 | F42: 95.564516 | G42: 80.138889 | H42: 94.758065 | I42: 93.75 | J42: 93.817204 | K42: 94.758065 | L42: 93.333333 | M42: 89.112903 | N42: 95.277778 | O42: 93.145161 | P42: 92.8051
C43: Max-d | D43: 51.608696 | E43: 48.869565 | F43: 36.478261 | G43: 52.947368 | H43: 58.105263 | I43: 24 | J43: 21.954545 | K43: 18.173913 | L43: 32.347826 | M43: 72 | N43: 49.913043 | O43: 48.913043 | P43: 72
C44: Min-d | D44: 17.565217 | E44: 14.304348 | F44: 17.043478 | G44: 14.333333 | H44: 9.2608696 | I44: 9.826087 | J44: 11.73913 | K44: 12.625 | L44: 14.782609 | M44: 19.695652 | N44: 19.652174 | O44: 18.15 | P44: 9.2608696
B45: Samutprakarn | C45: Mean | D45: - | E45: - | F45: 19.12069 | G45: 7.7248428 | H45: 13.329394 | I45: 13.465793 | J45: 12.691489 | K45: 13.23338 | L45: 16.184685 | M45: 23.480282 | N45: 26.390988 | O45: 26.257384 | P45: 17.147467
C46: % | D46: 0 | E46: 0 | F46: 7.7956989 | G46: 88.333333 | H46: 90.994624 | I46: 95.416667 | J46: 88.44086 | K46: 95.026882 | L46: 92.5 | M46: 95.430108 | N46: 95.555556 | O46: 95.564516 | P46: 70.560109
C47: Max-d | D47: - | E47: - | F47: 20.478261 | G47: 25.4 | H47: 25.272727 | I47: 21 | J47: 19.863636 | K47: 18.578947 | L47: 28.173913 | M47: 41.956522 | N47: 47.913043 | O47: 46.652174 | P47: 47.913043
C48: Min-d | D48: - | E48: - | F48: 17.956522 | G48: 1.8695652 | H48: 4.7619048 | I48: 3.9565217 | J48: 6.5217391 | K48: 8.4782609 | L48: 5.5217391 | M48: 14.043478 | N48: 10.217391 | O48: 6.3913043 | P48: 1.8695652
A50: Mean : monthly or annual arithmetic average values
A51: Max-d : maximum values of daily data
A52: Min-d : minimum values of daily data
A53: Max-w : maximum values of weekly data
A54: Min-w : minimum values of weekly data
A55: Max-2w : maximum values of biweekly data
A56: Min-2w : minimum values of biweekly data
A57: Max-m : maximum values of monthly data
A58: Min-m : minimum values of monthly data
A59: % : monthly or annual percentages of period of available data

Sheet NOx
A1: Table 4.9 NOx
A3: Unit : ppb | D3: ='SO2'!D3:O3 -> 2012 | P3: Annual
A4: Country | B4: Site | D4: Jan | E4: Feb | F4: Mar | G4: Apr | H4: May | I4: Jun | J4: Jul | K4: Aug | L4: Sep | M4: Oct | N4: Nov | O4: Dec
A5: China | B5: Jinyunshan | C5: Mean | D5: 10.384 | E5: 9.5172414 | F5: 8.2696296 | G5: 10.431724 | H5: 6.6275862 | I5: 5.6331034 | J5: 5.0193548 | K5: 5.364 | L5: 8.1026667 | M5: 8.9135484 | N5: 7.0493333 | O5: 15.130323 | P5: 8.3857303
B6: (NOx*) | C6: % | D6: 96.774194 | E6: 100 | F6: 87.096774 | G6: 96.666667 | H6: 93.548387 | I6: 96.666667 | J6: 100 | K6: 96.774194 | L6: 100 | M6: 100 | N6: 100 | O6: 100 | P6: 97.534247
C7: Max-d | D7: 19.08 | E7: 21.72 | F7: 13.04 | G7: 23.48 | H7: 11.8 | I7: 10.16 | J7: 14.72 | K7: 9.4 | L7: 12.32 | M7: 15.2 | N7: 11.84 | O7: 30.88 | P7: 30.88
C8: Min-d | D8: 3.68 | E8: 3.4 | F8: 3.92 | G8: 5.48 | H8: 2.36 | I8: 2.88 | J8: 1.84 | K8: 2.36 | L8: 5 | M8: 4.44 | N8: 2.88 | O8: 3.4 | P8: 1.84
A9: Japan | B9: Rishiri | C9: Mean | D9: 0.68715847 | E9: 1.1263235 | F9: 1.0509716 | G9: 0.93490028 | H9: 0.48983516 | I9: 0.67245763 | J9: 0.60728022 | K9: 0.48447802 | L9: 0.47944079 | M9: 0.58131868 | N9: 0.5330976 | O9: 0.77493075 | P9: 0.69986967
B10: (NOx*) | C10: % | D10: 98.387097 | E10: 97.701149 | F10: 89.919355 | G10: 97.5 | H10: 97.849462 | I10: 98.333333 | J10: 97.849462 | K10: 97.849462 | L10: 84.444444 | M10: 97.849462 | N10: 98.194444 | O10: 97.043011 | P10: 96.083789
C11: Max-d | D11: 1.4041667 | E11: 3.8333333 | F11: 2.3833333 | G11: 2.0666667 | H11: 1.4083333 | I11: 1.7958333 | J11: 2 | K11: 1.3708333 | L11: 0.8125 | M11: 1.15 | N11: 1.3916667 | O11: 3.4125 | P11: 3.8333333
C12: Min-d | D12: 0.2875 | E12: 0.42916667 | F12: 0.37 | G12: 0.20833333 | H12: <0.1 | I12: <0.1 | J12: <0.1 | K12: <0.1 | L12: 0.2125 | M12: <0.1 | N12: <0.1 | O12: 0.21666667 | P12: 0.20833333
B13: Ochiishi | C13: Mean | D13: 0.69553719 | E13: 0.88761755 | F13: 1.1234397 | G13: 1.3113314 | H13: 1.1258427 | I13: 1.2302508 | J13: 1.3214586 | K13: 1.1060309 | L13: 0.97053701 | M13: 0.85702247 | N13: 0.64375 | O13: 0.85599436 | P13: 1.0165977
B14: (NOx*) | C14: % | D14: 81.317204 | E14: 91.666667 | F14: 96.908602 | G14: 98.055556 | H14: 95.698925 | I14: 88.611111 | J14: 95.833333 | K14: 95.833333 | L14: 95.694444 | M14: 95.698925 | N14: 91.111111 | O14: 95.295699 | P14: 93.48816
C15: Max-d | D15: 1.4041667 | E15: 1.6 | F15: 2.2217391 | G15: 2.1565217 | H15: 2.4458333 | I15: 3.6071429 | J15: 3.1521739 | K15: 2.6608696 | L15: 2.5826087 | M15: 2.1434783 | N15: 1.1130435 | O15: 1.8956522 | P15: 3.6071429
C16: Min-d | D16: 0.15 | E16: 0.42173913 | F16: 0.46956522 | G16: 0.5173913 | H16: 0.3375 | I16: 0.33478261 | J16: 0.26956522 | K16: 0.41304348 | L16: 0.26086957 | M16: 0.37391304 | N16: 0.20869565 | O16: 0.16521739 | P16: 0.15
B17: Tappi | C17: Mean | D17: 0.57172131 | E17: 0.62248175 | F17: 1.0845628 | G17: 1.7643662 | H17: 2.051087 | I17: 2.3170183 | J17: 1.2164179 | K17: 0.90461957 | L17: 0.65225989 | M17: 0.7262519 | N17: 1.0517883 | O17: 0.96616848 | P17: 1.165074
B18: (NOx*) | C18: % | D18: 98.387097 | E18: 98.41954 | F18: 98.387097 | G18: 98.611111 | H18: 98.924731 | I18: 98.75 | J18: 99.05914 | K18: 98.924731 | L18: 98.333333 | M18: 88.575269 | N18: 97.083333 | O18: 98.924731 | P18: 97.68898
C19: Max-d | D19: 1.1782609 | E19: 2.1333333 | F19: 2.1375 | G19: 6.0541667 | H19: 6.5416667 | I19: 7.5666667 | J19: 2.625 | K19: 1.9541667 | L19: 1.8375 | M19: 1.7958333 | N19: 2.2083333 | O19: 2.0272727 | P19: 7.5666667
C20: Min-d | D20: 0.14166667 | E20: <0.1 | F20: 0.24583333 | G20: 0.77083333 | H20: 0.5375 | I20: <0.1 | J20: 0.16666667 | K20: 0.1125 | L20: 0.15 | M20: 0.325 | N20: 0.48461538 | O20: 0.275 | P20: 0.1125
B21: Sado-seki | C21: Mean | D21: 0.51358025 | E21: 0.79230769 | F21: 1.0012397 | G21: 1.0531571 | H21: 0.65407303 | I21: 0.76552217 | J21: 0.65436893 | K21: 0.59815951 | L21: 0.48070175 | M21: 0.51782178 | N21: 0.72612056 | O21: 0.73668342 | P21: 0.70722877
B22: (NOx*) | C22: % | D22: 97.983871 | E22: 97.126437 | F22: 97.580645 | G22: 94.583333 | H22: 95.698925 | I22: 97.083333 | J22: 96.908602 | K22: 87.634409 | L22: 95 | M22: 95.026882 | N22: 89.861111 | O22: 80.241935 | P22: 93.704463
C23: Max-d | D23: 1.7208333 | E23: 2.3391304 | F23: 1.95 | G23: 1.88 | H23: 1.4882353 | I23: 1.5416667 | J23: 1.1095238 | K23: 1.2791667 | L23: 1.1291667 | M23: 1.125 | N23: 1.4285714 | O23: 1.4416667 | P23: 2.3391304
C24: Min-d | D24: <0.1 | E24: 0.27083333 | F24: 0.40833333 | G24: 0.6 | H24: 0.14583333 | I24: 0.25833333 | J24: 0.19166667 | K24: 0.19166667 | L24: <0.1 | M24: 0.11666667 | N24: 0.2 | O24: 0.13333333 | P24: 0.11666667
B25: Happo | C25: Mean | D25: 1.0021563 | E25: 1.2266 | F25: 1.3051075 | G25: 1.5920455 | H25: 1.3075137 | I25: 1.5225852 | J25: 0.96758242 | K25: 1.3226704 | L25: 0.64597315 | M25: 0.90082873 | N25: 0.92259887 | O25: 0.86840659 | P25: 1.1352743
B26: (NOx*) | C26: % | D26: 99.731183 | E26: 71.83908 | F26: 100 | G26: 97.777778 | H26: 98.387097 | I26: 97.777778 | J26: 97.849462 | K26: 96.639785 | L26: 82.777778 | M26: 97.311828 | N26: 98.333333 | O26: 97.849462 | P26: 94.820128
C27: Max-d | D27: 2.775 | E27: 2.3416667 | F27: 2.4625 | G27: 3.1708333 | H27: 3.225 | I27: 2.975 | J27: 1.8666667 | K27: 2.9083333 | L27: 1.4166667 | M27: 1.5791667 | N27: 1.2583333 | O27: 1.8416667 | P27: 3.225
C28: Min-d | D28: 0.22083333 | E28: 0.4125 | F28: 0.55 | G28: 0.54166667 | H28: 0.375 | I28: 0.725 | J28: 0.1125 | K28: 0.39583333 | L28: <0.1 | M28: 0.44166667 | N28: 0.5 | O28: 0.2 | P28: 0.1125
B29: Ijira | C29: Mean | D29: 1.5732342 | E29: 1.3531205 | F29: 1.595082 | G29: 2.3005618 | H29: 2.7394022 | I29: 3.2607955 | J29: 2.9305707 | K29: 4.0974255 | L29: 1.7320225 | M29: 1.6516304 | N29: 1.3129187 | O29: 1.191811 | P29: 2.2031523
B30: (NOx*) | C30: % | D30: 36.155914 | E30: 98.994253 | F30: 98.387097 | G30: 98.888889 | H30: 98.924731 | I30: 97.777778 | J30: 98.924731 | K30: 99.193548 | L30: 98.888889 | M30: 98.924731 | N30: 87.083333 | O30: 85.349462 | P30: 91.370674
C31: Max-d | D31: 3.9583333 | E31: 5.5863636 | F31: 5.6 | G31: 5.0166667 | H31: 6.3083333 | I31: 6.7416667 | J31: 8.6583333 | K31: 7.4208333 | L31: 3.1041667 | M31: 5.9166667 | N31: 4.7333333 | O31: 3.3916667 | P31: 8.6583333
C32: Min-d | D32: 0.325 | E32: 0.10869565 | F32: 0.1625 | G32: <0.1 | H32: <0.1 | I32: 0.24583333 | J32: 0.225 | K32: 1.3458333 | L32: 0.35416667 | M32: 0.325 | N32: 0.29166667 | O32: 0.29583333 | P32: 0.10869565
B33: Oki | C33: Mean | D33: 1.2104828 | E33: 1.4751471 | F33: 1.3555556 | G33: 0.94960937 | H33: 0.52747253 | I33: 0.57560976 | J33: 0.70413793 | K33: 0.68980892 | L33: - | M33: 1.3017582 | N33: 1.1861386 | O33: 1.2884138 | P33: 1.0256823
B34: (NOx*) | C34: % | D34: 97.446237 | E34: 97.701149 | F34: 96.774194 | G34: 71.111111 | H34: 97.849462 | I34: 96.805556 | J34: 97.446237 | K34: 63.306452 | L34: 0 | M34: 61.155914 | N34: 98.194444 | O34: 97.446237 | P34: 81.341075
C35: Max-d | D35: 3.4666667 | E35: 3.7041667 | F35: 3.2 | G35: 1.6 | H35: 1.885 | I35: 1.85 | J35: 1.6416667 | K35: 1.5208333 | L35: - | M35: 2.025 | N35: 2.3791667 | O35: 2.8333333 | P35: 3.7041667
C36: Min-d | D36: 0.25833333 | E36: 0.4 | F36: 0.34583333 | G36: 0.45909091 | H36: <0.1 | I36: <0.1 | J36: 0.2 | K36: <0.1 | L36: - | M36: 0.81666667 | N36: 0.35 | O36: 0.60833333 | P36: 0.2
B37: Banryu | C37: Mean | D37: 3.1192044 | E37: 2.7311307 | F37: 2.6855191 | G37: 1.7995781 | H37: 1.5319672 | I37: 1.6614407 | J37: 1.5738714 | K37: 1.6144809 | L37: 1.4783404 | M37: 1.7576132 | N37: 2.3990113 | O37: 2.2229508 | P37: 2.0457619
C38: % | D38: 97.983871 | E38: 97.844828 | F38: 98.387097 | G38: 98.75 | H38: 98.387097 | I38: 98.333333 | J38: 98.252688 | K38: 98.387097 | L38: 98.75 | M38: 97.983871 | N38: 98.333333 | O38: 98.387097 | P38: 98.315118
C39: Max-d | D39: 5.5 | E39: 4.4916667 | F39: 5.147619 | G39: 3.8875 | H39: 3.1625 | I39: 3.1416667 | J39: 2.4416667 | K39: 3.0833333 | L39: 2.4 | M39: 2.5166667 | N39: 3.8791667 | O39: 4.925 | P39: 5.5
C40: Min-d | D40: 1.4416667 | E40: 1.375 | F40: 1.0190476 | G40: 0.64583333 | H40: 0.17916667 | I40: 0.7 | J40: 0.59130435 | K40: 0.90416667 | L40: 0.79166667 | M40: 1.1190476 | N40: 1.3583333 | O40: 0.68333333 | P40: 0.17916667
B41: Yusuhara | C41: Mean | D41: 2.1563536 | E41: 1.8675 | F41: 2.057953 | G41: 1.228592 | H41: 1.2809066 | I41: 0.90807927 | J41: 0.57847731 | K41: 0.60234114 | L41: 0.68917379 | M41: 1.2352859 | N41: 1.8278383 | O41: 1.9755525 | P41: 1.3817621
B42: (NOx*) | C42: % | D42: 97.311828 | E42: 97.701149 | F42: 97.177419 | G42: 96.666667 | H42: 97.849462 | I42: 91.111111 | J42: 91.801075 | K42: 80.376344 | L42: 97.5 | M42: 96.370968 | N42: 89.305556 | O42: 97.311828 | P42: 94.193989
C43: Max-d | D43: 4.3875 | E43: 4.2916667 | F43: 3.6291667 | G43: 3.0125 | H43: 2.5458333 | I43: 1.6833333 | J43: 1.3958333 | K43: 1.375 | L43: 1.9625 | M43: 2.5541667 | N43: 3.4458333 | O43: 3.2166667 | P43: 4.3875
C44: Min-d | D44: 0.72083333 | E44: 0.65 | F44: 0.715 | G44: 0.15416667 | H44: 0.44166667 | I44: 0.27916667 | J44: 0.225 | K44: <0.1 | L44: 0.1 | M44: 0.62083333 | N44: 0.575 | O44: 0.74166667 | P44: 0.1
B45: Hedo | C45: Mean | D45: 0.33347107 | E45: 0.59141856 | F45: 0.85515818 | G45: 0.709299 | H45: 0.80179063 | I45: 0.26988506 | J45: 0.12581602 | K45: 0.12167939 | L45: <0.1 | M45: 0.25259366 | N45: 0.41481481 | O45: 0.98734694 | P45: 0.45555396
B46: (NOx*) | C46: % | D46: 97.580645 | E46: 82.04023 | F46: 97.715054 | G46: 97.083333 | H46: 97.580645 | I46: 60.416667 | J46: 90.591398 | K46: 88.037634 | L46: 53.333333 | M46: 93.27957 | N46: 60 | O46: 32.930108 | P46: 79.326047
C47: Max-d | D47: 0.57916667 | E47: 1.3791667 | F47: 2.0958333 | G47: 1.6625 | H47: 1.5083333 | I47: 0.9125 | J47: 0.35416667 | K47: 0.36521739 | L47: 0.35 | M47: 0.525 | N47: 0.70833333 | O47: 1.5166667 | P47: 2.0958333
C48: Min-d | D48: 0.16666667 | E48: <0.1 | F48: 0.245 | G48: 0.10833333 | H48: 0.12916667 | I48: <0.1 | J48: <0.1 | K48: <0.1 | L48: <0.1 | M48: <0.1 | N48: 0.18571429 | O48: 0.54615385 | P48: 0.10833333
B49: Ogasawara | C49: Mean | D49: 0.69888889 | E49: 0.60183206 | F49: 0.86191136 | G49: 0.39153515 | H49: 0.21703911 | I49: 0.48769671 | J49: 0.69126214 | K49: 0.56781768 | L49: 0.12623907 | M49: <0.1 | N49: 0.46450216 | O49: 0.53919107 | P49: 0.47942567
B50: (NOx*) | C50: % | D50: 96.774194 | E50: 94.109195 | F50: 97.043011 | G50: 96.805556 | H50: 96.236559 | I50: 97.083333 | J50: 96.908602 | K50: 97.311828 | L50: 95.277778 | M50: 95.698925 | N50: 96.25 | O50: 96.370968 | P50: 96.334244
C51: Max-d | D51: 1.8125 | E51: 2.0625 | F51: 2.7833333 | G51: 1.6291667 | H51: 1.63 | I51: 3.2041667 | J51: 1.7333333 | K51: 2.0588235 | L51: 1.525 | M51: 0.55833333 | N51: 1.6 | O51: 1.5833333 | P51: 3.2041667
C52: Min-d | D52: <0.1 | E52: <0.1 | F52: 0.10416667 | G52: <0.1 | H52: <0.1 | I52: <0.1 | J52: <0.1 | K52: <0.1 | L52: <0.1 | M52: <0.1 | N52: <0.1 | O52: <0.1 | P52: 0.10416667
A53: Thailand | B53: Bangkok | C53: Mean | D53: 40.02391 | E53: 33.810976 | F53: 26.654008 | G53: 29.175043 | H53: 26.582979 | I53: 23.822222 | J53: 26.812321 | K53: 28.733333 | L53: 34.139881 | M53: 48.159879 | N53: 49.709913 | O53: 45.969697 | P53: 34.475589
C54: % | D54: 95.564516 | E54: 94.252874 | F54: 95.564516 | G54: 80.138889 | H54: 94.758065 | I54: 93.75 | J54: 93.817204 | K54: 94.758065 | L54: 93.333333 | M54: 89.112903 | N54: 95.277778 | O54: 93.145161 | P54: 92.8051
C55: Max-d | D55: 93.173913 | E55: 68.26087 | F55: 40.086957 | G55: 61.083333 | H55: 65.136364 | I55: 45.304348 | J55: 38.608696 | K55: 57.217391 | L55: 89.130435 | M55: 104.47826 | N55: 74.26087 | O55: 81.913043 | P55: 104.47826
C56: Min-d | D56: 19.695652 | E56: 16.545455 | F56: 19.73913 | G56: 15.791667 | H56: 10.086957 | I56: 10.434783 | J56: 13.130435 | K56: 15.782609 | L56: 19.956522 | M56: 25 | N56: 23.956522 | O56: 18.75 | P56: 10.086957
B57: Samutprakarn | C57: Mean | D57: - | E57: - | F57: 30.810345 | G57: 20.542453 | H57: 21.906942 | I57: 26.179039 | J57: 29.772036 | K57: 36.442716 | L57: 37.743243 | M57: 44.952113 | N57: 49.053779 | O57: 38.964838 | P57: 34.12859
C58: % | D58: 0 | E58: 0 | F58: 7.7956989 | G58: 88.333333 | H58: 90.994624 | I58: 95.416667 | J58: 88.44086 | K58: 95.026882 | L58: 92.5 | M58: 95.430108 | N58: 95.555556 | O58: 95.564516 | P58: 70.560109
C59: Max-d | D59: - | E59: - | F59: 42.217391 | G59: 45.173913 | H59: 44.73913 | I59: 46.26087 | J59: 55.913043 | K59: 61.130435 | L59: 101.52174 | M59: 96.136364 | N59: 91.956522 | O59: 94.26087 | P59: 101.52174
C60: Min-d | D60: - | E60: - | F60: 21.916667 | G60: 10.347826 | H60: 7.826087 | I60: 5.3478261 | J60: 11 | K60: 20.304348 | L60: 12.521739 | M60: 17.826087 | N60: 13.782609 | O60: 6.9130435 | P60: 5.3478261
B61: Khanchanaburi | C61: Mean | D61: - | E61: - | F61: 2.3636364 | G61: - | H61: - | I61: - | J61: 0.44345238 | K61: - | L61: - | M61: - | N61: 3.1590909 | O61: - | P61: 2.0161751
B62: (Vachiralongkorn Dam) | C62: % | D62: 0 | E62: 0 | F62: 48.790323 | G62: 0 | H62: 0 | I62: 0 | J62: 45.16129 | K62: 0 | L62: 0 | M62: 0 | N62: 48.888889 | O62: 0 | P62: 11.964936
B63: (NOx*) | C63: Max-d | D63: - | E63: - | F63: 4.2173913 | G63: - | H63: - | I63: - | J63: 3.2857143 | K63: - | L63: - | M63: - | N63: 4.826087 | O63: - | P63: 4.826087
C64: Min-d | D64: - | E64: - | F64: 0.66666667 | G64: - | H64: - | I64: - | J64: 0.13043478 | K64: - | L64: - | M64: - | N64: 2.15 | O64: - | P64: 0.13043478
B65: Chiangmai | C65: Mean | D65: 18.728814 | E65: 24.232384 | F65: 24.08542 | G65: 12.516447 | H65: 10.387755 | I65: 8.3047337 | J65: 12.149148 | K65: 12.919718 | L65: 11.902332 | M65: 13.810289 | N65: 16.585652 | O65: 18.294201 | P65: 15.457737
B66: (Mae Hia) | C66: % | D66: 95.16129 | E66: 95.833333 | F66: 91.263441 | G66: 42.222222 | H66: 92.204301 | I66: 93.888889 | J66: 94.623656 | K66: 95.430108 | L66: 95.277778 | M66: 83.602151 | N66: 94.861111 | O66: 95.026882 | P66: 89.162113
B67: (NOx*) | C67: Max-d | D67: 26.173913 | E67: 41.173913 | F67: 40.956522 | G67: 20.2 | H67: 15.73913 | I67: 13.095238 | J67: 17.434783 | K67: 18.434783 | L67: 14.5 | M67: 20.333333 | N67: 25.173913 | O67: 24 | P67: 41.173913
C68: Min-d | D68: 12.304348 | E68: 13.391304 | F68: 11.391304 | G68: 3.75 | H68: 5.8571429 | I68: 5.6086957 | J68: 7.5652174 | K68: 7.7391304 | L68: 8.5238095 | M68: 8 | N68: 11.521739 | O68: 13.304348 | P68: 3.75
A70: Mean : monthly or annual arithmetic average values
A71: Max-d : maximum values of daily data
A72: Min-d : minimum values of daily data
A73: % : monthly or annual percentages of period of available data
A74: NOx* : NOx measured by CLD in remote or rural sites

Sheet O3
A1: Table 4.10 O3
A3: Unit : ppb | D3: ='SO2'!D3:O3 -> 2012 | P3: Annual
A4: Country | B4: Site | D4: Jan | E4: Feb | F4: Mar | G4: Apr | H4: May | I4: Jun | J4: Jul | K4: Aug | L4: Sep | M4: Oct | N4: Nov | O4: Dec
A5: Japan | B5: Rishiri | C5: Mean | D5: 30.34143 | E5: 34.355491 | F5: 41.633333 | G5: 42.312989 | H5: 40.774865 | I5: 30.069456 | J5: 23.171757 | K5: 26.234189 | L5: 26.783468 | M5: 34.505405 | N5: 35.474477 | O5: 39.068378 | P5: 33.752225
C6: % | D6: 99.596774 | E6: 99.425287 | F6: 91.935484 | G6: 99.444444 | H6: 99.462366 | I6: 99.583333 | J6: 99.462366 | K6: 99.462366 | L6: 85.694444 | M6: 99.462366 | N6: 99.583333 | O6: 99.462366 | P6: 97.723133
C7: Max-d | D7: 32.45 | E7: 47.975 | F7: 55.995833 | G7: 52.920833 | H7: 61.779167 | I7: 41.775 | J7: 34.679167 | K7: 38.158333 | L7: 41.9 | M7: 43.526087 | N7: 41.95 | O7: 43.241667 | P7: 61.779167
C8: Min-d | D8: 26.9125 | E8: 30.15 | F8: 35.929167 | G8: 29.4375 | H8: 29.483333 | I8: 18.933333 | J8: 14.045833 | K8: 15.675 | L8: 17.8875 | M8: 27.25 | N8: 31.3625 | O8: 31.2875 | P8: 14.045833
B9: Ochiishi | C9: Mean | D9: 36.429167 | E9: 40.438329 | F9: 48.832301 | G9: 52.032915 | H9: 46.177369 | I9: 34.047994 | J9: 27.590713 | K9: 31.137466 | L9: 31.077361 | M9: 39.166129 | N9: 37.573563 | O9: 38.628243 | P9: 38.588018
C10: % | D10: 100 | E10: 99.712644 | F10: 99.865591 | G10: 99.583333 | H10: 95.026882 | I10: 90 | J10: 99.865591 | K10: 99.731183 | L10: 100 | M10: 100 | N10: 96.666667 | O10: 99.462366 | P10: 98.337887
C11: Max-d | D11: 39.341667 | E11: 47.05 | F11: 62.1375 | G11: 61.079167 | H11: 58.433333 | I11: 42.758333 | J11: 47 | K11: 43.954167 | L11: 42.375 | M11: 47.2625 | N11: 44.2125 | O11: 41.9625 | P11: 62.1375
C12: Min-d | D12: 33.391667 | E12: 36.391667 | F12: 43.033333 | G12: 40.141667 | H12: 36.504167 | I12: 24.6125 | J12: 20.891667 | K12: 14.620833 | L12: 16.0875 | M12: 34.033333 | N12: 32.879167 | O12: 32.545833 | P12: 14.620833
B13: Tappi | C13: Mean | D13: 35.687363 | E13: 39.84806 | F13: 47.679219 | G13: 50.22744 | H13: 48.71087 | I13: 38.054993 | J13: 32.324966 | K13: 38.089674 | L13: 40.187465 | M13: 40.631715 | N13: 37.752882 | O13: 39.454348 | P13: 40.708289
C14: % | D14: 97.849462 | E14: 96.264368 | F14: 96.370968 | G14: 98.194444 | H14: 98.924731 | I14: 98.75 | J14: 99.05914 | K14: 98.924731 | L14: 98.611111 | M14: 88.575269 | N14: 96.388889 | O14: 98.924731 | P14: 97.233607
C15: Max-d | D15: 38.618182 | E15: 48.433333 | F15: 58.620833 | G15: 63.520833 | H15: 63.445833 | I15: 55.9625 | J15: 52.6125 | K15: 50.525 | L15: 50.925 | M15: 49.525 | N15: 48.2 | O15: 43.295833 | P15: 63.520833
C16: Min-d | D16: 32.283333 | E16: 35.15 | F16: 42.695833 | G16: 39.345833 | H16: 33.729167 | I16: 26.508333 | J16: 21.15 | K16: 25.1375 | L16: 26.854545 | M16: 34.816667 | N16: 33.6 | O16: 35.5625 | P16: 21.15
B17: Sado-seki | C17: Mean | D17: 40.218478 | E17: 44.755831 | F17: 54.597965 | G17: 59.431942 | H17: 61.555951 | I17: 50.530791 | J17: 42.700695 | K17: 38.556193 | L17: 39.624255 | M17: 42.140865 | N17: 37.748939 | O17: 40.631315 | P17: 46.196146
C18: % | D18: 98.924731 | E18: 98.563218 | F18: 99.05914 | G18: 96.527778 | H18: 98.252688 | I18: 98.333333 | J18: 96.639785 | K18: 88.978495 | L18: 97.916667 | M18: 96.370968 | N18: 98.194444 | O18: 77.688172 | P18: 95.412113
C19: Max-d | D19: 44.375 | E19: 52.65 | F19: 68.116667 | G19: 78.733333 | H19: 83.2375 | I19: 67.443478 | J19: 58.447826 | K19: 54.475 | L19: 54.308696 | M19: 53.676923 | N19: 46.290909 | O19: 45.675 | P19: 83.2375
C20: Min-d | D20: 31.358333 | E20: 37.629167 | F20: 47.604167 | G20: 50.8625 | H20: 46.358333 | I20: 34.6125 | J20: 26.882609 | K20: 23.270833 | L20: 28.525 | M20: 33.121739 | N20: 33.05 | O20: 33.565217 | P20: 23.270833
B21: Happo | C21: Mean | D21: 40.87292 | E21: 47.74078 | F21: 55.452016 | G21: 63.148045 | H21: 66.515924 | I21: 56.990503 | J21: 40.881486 | K21: 41.683995 | L21: 39.387685 | M21: 45.471487 | N21: 44.527476 | O21: 42.657162 | P21: 48.936407
C22: % | D22: 95.295699 | E22: 81.034483 | F22: 100 | G22: 99.444444 | H22: 99.596774 | I22: 99.444444 | J22: 99.462366 | K22: 98.252688 | L22: 84.583333 | M22: 98.521505 | N22: 99.583333 | O22: 99.462366 | P22: 96.311475
C23: Max-d | D23: 47.120833 | E23: 59.041667 | F23: 74.058333 | G23: 76.875 | H23: 87.3 | I23: 71.3125 | J23: 60.245833 | K23: 60.716667 | L23: 58.55 | M23: 57.545833 | N23: 51.9875 | O23: 50.241667 | P23: 87.3
C24: Min-d | D24: 35.883333 | E24: 40.2125 | F24: 48.9 | G24: 47.979167 | H24: 48.445833 | I24: 39.283333 | J24: 16.891667 | K24: 17.729167 | L24: 26.441667 | M24: 36.226087 | N24: 37.054167 | O24: 36.03913 | P24: 16.891667
B25: Ijira | C25: Mean | D25: 21.085887 | E25: 25.987861 | F25: 31.662953 | G25: 36.900978 | H25: 32.983243 | I25: 19.706601 | J25: 18.459459 | K25: 17.573684 | L25: 19.140922 | M25: 27.579459 | N25: 19.953352 | O25: 22.729283 | P25: 24.479506
C26: % | D26: 100 | E26: 99.425287 | F26: 96.505376 | G26: 99.444444 | H26: 99.462366 | I26: 98.888889 | J26: 99.462366 | K26: 99.596774 | L26: 99.444444 | M26: 99.462366 | N26: 99.444444 | O26: 86.290323 | P26: 98.098816
C27: Max-d | D27: 27.3125 | E27: 36.683333 | F27: 44.608333 | G27: 53.126087 | H27: 52.6375 | I27: 31.708333 | J27: 33.2875 | K27: 40.75 | L27: 30.9625 | M27: 39.320833 | N27: 29.625 | O27: 30.725 | P27: 53.126087
C28: Min-d | D28: 13.245833 | E28: 16.391304 | F28: 15.729167 | G28: 22.129167 | H28: 12.85 | I28: 7.2916667 | J28: 7 | K28: 4.075 | L28: 5.6391304 | M28: 15.7375 | N28: 12.225 | O28: 8.4541667 | P28: 4.075
B29: Oki | C29: Mean | D29: 38.436977 | E29: 42.035057 | F29: 52.92111 | G29: 58.596229 | H29: 60.850538 | I29: 48.429707 | J29: 41.997571 | K29: 40.616689 | L29: 45.804028 | M29: 46.529435 | N29: 40.610292 | O29: 38.298919 | P29: 46.259578
C30: % | D30: 99.596774 | E30: 100 | F30: 99.327957 | G30: 99.444444 | H30: 100 | I30: 99.583333 | J30: 99.596774 | K30: 99.865591 | L30: 100 | M30: 100 | N30: 99.861111 | O30: 99.462366 | P30: 99.726776
C31: Max-d | D31: 43.266667 | E31: 48.05 | F31: 69.845833 | G31: 75.670833 | H31: 84.425 | I31: 60.345833 | J31: 56.275 | K31: 55.841667 | L31: 62.045833 | M31: 59.554167 | N31: 50.758333 | O31: 43.066667 | P31: 84.425
C32: Min-d | D32: 33.366667 | E32: 36.833333 | F32: 45.266667 | G32: 48.583333 | H32: 44.566667 | I32: 35.816667 | J32: 21.3125 | K32: 24.016667 | L32: 23.520833 | M32: 38.079167 | N32: 33.275 | O32: 32.504167 | P32: 21.3125
B33: Banryu | C33: Mean | D33: 29.088978 | E33: 32.593822 | F33: 42.274731 | G33: 48.348194 | H33: 48.239072 | I33: 32.804167 | J33: 24.935215 | K33: 19.842876 | L33: 28.033056 | M33: 31.817473 | N33: 30.630972 | O33: 30.191463 | P33: 33.088922
C34: % | D34: 100 | E34: 100 | F34: 100 | G34: 100 | H34: 89.784946 | I34: 100 | J34: 100 | K34: 100 | L34: 100 | M34: 100 | N34: 100 | O34: 99.193548 | P34: 99.066485
C35: Max-d | D35: 36.429167 | E35: 44.083333 | F35: 62.729167 | G35: 64.175 | H35: 68.825 | I35: 47.791667 | J35: 46.483333 | K35: 37.333333 | L35: 45.616667 | M35: 47.179167 | N35: 43.4375 | O35: 37.854167 | P35: 68.825
C36: Min-d | D36: 17.241667 | E36: 19.75 | F36: 24.275 | G36: 32.504167 | H36: 24.2 | I36: 15.895833 | J36: 11.458333 | K36: 8.3166667 | L36: 7.1083333 | M36: 23.158333 | N36: 21.033333 | O36: 14.429167 | P36: 7.1083333
B37: Yusuhara | C37: Mean | D37: 31.704865 | E37: 35.361216 | F37: 42.783108 | G37: 48.780254 | H37: 49.607442 | I37: 33.024664 | J37: 21.172818 | K37: 11.693069 | L37: 25.098599 | M37: 37.377657 | N37: 34.378802 | O37: 31.876407 | P37: 34.000883
C38: % | D38: 99.462366 | E38: 99.281609 | F38: 99.462366 | G38: 98.472222 | H38: 99.327957 | I38: 92.916667 | J38: 93.951613 | K38: 81.451613 | L38: 99.166667 | M38: 98.655914 | N38: 90.416667 | O38: 62.096774 | P38: 92.827869
C39: Max-d | D39: 37.441667 | E39: 46.254167 | F39: 57.343478 | G39: 65.220833 | H39: 72.716667 | I39: 57.536364 | J39: 35.5625 | K39: 25.9875 | L39: 50.383333 | M39: 45.245833 | N39: 43.233333 | O39: 35.254167 | P39: 72.716667
C40: Min-d | D40: 22.475 | E40: 30.804167 | F40: 29.858333 | G40: 38.95 | H40: 31.947826 | I40: 12.1375 | J40: 5.6 | K40: 5.0125 | L40: 9.2391304 | M40: 27.170833 | N40: 27.72 | O40: 27.466667 | P40: 5.0125
B41: Hedo | C41: Mean | D41: 41.574661 | E41: 43.325694 | F41: 48.167388 | G41: 46.784174 | H41: 45.919648 | I41: 20.380812 | J41: 10.501907 | K41: 13.516737 | L41: 24.27799 | M41: 43.43038 | N41: 44.078299 | O41: 41.714363 | P41: 35.193879
C42: % | D42: 99.193548 | E42: 82.758621 | F42: 99.327957 | G42: 99.166667 | H42: 99.193548 | I42: 99.166667 | J42: 98.655914 | K42: 95.564516 | L42: 87.083333 | M42: 95.564516 | N42: 80 | O42: 99.193548 | P42: 94.672131
C43: Max-d | D43: 47.058333 | E43: 51.825 | F43: 66.982609 | G43: 69.316667 | H43: 71.9125 | I43: 40.741667 | J43: 17.045833 | K43: 22.8 | L43: 52.654167 | M43: 53.130435 | N43: 56.679167 | O43: 46.954167 | P43: 71.9125
C44: Min-d | D44: 38.216667 | E44: 36.775 | F44: 18.352174 | G44: 17.982609 | H44: 16.833333 | I44: 6.025 | J44: 6.6875 | K44: 7.025 | L44: 10.1875 | M44: 24.833333 | N44: 30.370833 | O44: 34.425 | P44: 6.025
B45: Ogasawara | C45: Mean | D45: 40.521146 | E45: 41.748035 | F45: 48.170248 | G45: 48.178249 | H45: 34.374966 | I45: 13.058146 | J45: 12.07367 | K45: 14.786277 | L45: 21.633098 | M45: 27.283288 | N45: 38.810815 | O45: 38.968665 | P45: 31.573801
C46: % | D46: 98.521505 | E46: 98.706897 | F46: 97.580645 | G46: 98.333333 | H46: 98.790323 | I46: 98.888889 | J46: 98.521505 | K46: 98.924731 | L46: 98.194444 | M46: 98.11828 | N46: 98.888889 | O46: 98.655914 | P46: 98.508652
C47: Max-d | D47: 45.516667 | E47: 48.245833 | F47: 63.18 | G47: 59.76 | H47: 66.454167 | I47: 44.654167 | J47: 22.391667 | K47: 25.4375 | L47: 36.5875 | M47: 45.095833 | N47: 47.729167 | O47: 44.830435 | P47: 66.454167
C48: Min-d | D48: 32.925 | E48: 29.430435 | F48: 27.179167 | G48: 17.408333 | H48: 12.033333 | I48: 5.6875 | J48: 5.3583333 | K48: 7.5291667 | L48: 9.4958333 | M48: 9.7869565 | N48: 29.816667 | O48: 26.42381 | P48: 5.3583333
A49: Republic of | B49: Kanghwa | C49: Mean | D49: 30 | E49: 37 | F49: 47 | G49: 53 | H49: 61 | I49: 57 | J49: 44 | K49: 34 | L49: 47 | M49: 45 | N49: 33 | O49: 37 | P49: 43.75
A50: Korea | C50: % | D50: 98 | E50: 100 | F50: 100 | G50: 99 | H50: 98 | I50: 91 | J50: 97 | K50: 78 | L50: 96 | M50: 98 | N50: 98 | O50: 97 | P50: 95.833333
C51: Max-d | D51: 35 | E51: 40 | F51: 54 | G51: 66 | H51: 95 | I51: 73 | J51: 63 | K51: 49 | L51: 52 | M51: 55 | N51: 41 | O51: 40 | P51: 95
C52: Min-d | D52: 25 | E52: 34 | F52: 43 | G52: 42 | H52: 33 | I52: 42 | J52: 25 | K52: 23 | L52: 41 | M52: 38 | N52: 23 | O52: 34 | P52: 23
B53: Cheju | C53: Mean | D53: 27 | E53: 30 | F53: - | G53: - | H53: - | I53: 54 | J53: 42 | K53: 30 | L53: 55 | M53: 45 | N53: 33 | O53: 38 | P53: 39.333333
B54: (Kosan) | C54: % | D54: 100 | E54: 98 | F54: 0 | G54: 0 | H54: 0 | I54: 60 | J54: 99 | K54: 100 | L54: 94 | M54: 100 | N54: 100 | O54: 100 | P54: 70.916667
C55: Max-d | D55: 34 | E55: 34 | F55: - | G55: - | H55: - | I55: 55 | J55: 61 | K55: 61 | L55: 65 | M55: 56 | N55: 40 | O55: 44 | P55: 65
C56: Min-d | D56: 23 | E56: 27 | F56: - | G56: - | H56: - | I56: 53 | J56: 20 | K56: 16 | L56: 48 | M56: 35 | N56: 26 | O56: 32 | P56: 16
B57: Imsil | C57: Mean | D57: 21 | E57: 26 | F57: 38 | G57: 45 | H57: 46 | I57: 47 | J57: 29 | K57: 25 | L57: 30 | M57: 28 | N57: 33 | O57: 24 | P57: 32.666667
C58: % | D58: 98 | E58: 98 | F58: 98 | G58: 100 | H58: 97 | I58: 93 | J58: 99 | K58: 96 | L58: 98 | M58: 93 | N58: 100 | O58: 92 | P58: 96.833333
C59: Max-d | D59: 29 | E59: 29 | F59: 47 | G59: 55 | H59: 55 | I59: 64 | J59: 46 | K59: 45 | L59: 43 | M59: 30 | N59: 45 | O59: 31 | P59: 64
C60: Min-d | D60: 9 | E60: 21 | F60: 32 | G60: 35 | H60: 32 | I60: 37 | J60: 17 | K60: 13 | L60: 14 | M60: 25 | N60: 25 | O60: 7 | P60: 7
A61: Russia | B61: Mondy | C61: Mean | D61: 34.556815 | E61: 39.23046 | F61: 46.653226 | G61: 48.629444 | H61: 44.755645 | I61: 38.903855 | J61: 33.590054 | K61: 34.156425 | L61: 34.919861 | M61: 33.689113 | N61: 32.534167 | O61: 35.225672 | P61: 38.056663
C62: % | D62: 100 | E62: 100 | F62: 100 | G62: 100 | H62: 100 | I62: 100 | J62: 100 | K62: 100 | L62: 100 | M62: 100 | N62: 100 | O62: 100 | P62: 100.27397
C63: Max-d | D63: 38.8 | E63: 45.158333 | F63: 50.625 | G63: 55.879167 | H63: 55.954167 | I63: 47.44898 | J63: 44.975 | K63: 47.125 | L63: 42.354167 | M63: 39.825 | N63: 37.333333 | O63: 39.425 | P63: 55.954167
C64: Min-d | D64: 29.92375 | E64: 34.220833 | F64: 42.625 | G64: 43.3625 | H64: 31.641667 | I64: 27.820833 | J64: 25.416667 | K64: 22.608333 | L64: 23.741667 | M64: 23.933333 | N64: 22.85 | O64: 29.533333 | P64: 22.608333
A65: Thailand | B65: Bangkok | C65: Mean | D65: 15.51715 | E65: 26.229483 | F65: 27.748242 | G65: 22.824286 | H65: 16.015759 | I65: 11.998525 | J65: 10.788051 | K65: 8.350365 | L65: 12.352087 | M65: 12.553797 | N65: 12.062794 | O65: 22.574534 | P65: 16.730849
C66: % | D66: 50.94086 | E66: 94.54023 | F66: 95.564516 | G66: 97.222222 | H66: 93.817204 | I66: 94.166667 | J66: 94.489247 | K66: 92.069892 | L66: 76.527778 | M66: 84.946237 | N66: 88.472222 | O66: 86.55914 | P66: 87.386157
C67: Max-d | D67: 28.0625 | E67: 55.208333 | F67: 56.826087 | G67: 58.285714 | H67: 25.086957 | I67: 21.608696 | J67: 21.73913 | K67: 14.695652 | L67: 32.956522 | M67: 23.26087 | N67: 26.411765 | O67: 46.904762 | P67: 58.285714
C68: Min-d | D68: 8.2608696 | E68: 11.73913 | F68: 5.875 | G68: 10.25 | H68: 3 | I68: 6 | J68: 2.2272727 | K68: 1 | L68: 1 | M68: 4 | N68: <1 | O68: 6.3043478 | P68: 1
B69: Samutprakarn | C69: Mean | D69: 13.192308 | E69: 26.632 | F69: 31.25 | G69: 24.538941 | H69: 16.852339 | I69: 13.41048 | J69: 11.987823 | K69: 13.245739 | L69: 12.160714 | M69: 18.50436 | N69: 18.785714 | O69: 24.724719 | P69: 18.74733
C70: % | D70: 17.473118 | E70: 35.91954 | F70: 88.709677 | G70: 89.166667 | H70: 91.935484 | I70: 95.416667 | J70: 88.306452 | K70: 94.623656 | L70: 85.555556 | M70: 92.473118 | N70: 95.277778 | O70: 95.698925 | P70: 81.010929
C71: Max-d | D71: 23.5 | E71: 46.130435 | F71: 54.26087 | G71: 54.608696 | H71: 23.043478 | I71: 22.086957 | J71: 21.7 | K71: 24.608696 | L71: 28.695652 | M71: 33.173913 | N71: 36 | O71: 40.565217 | P71: 54.608696
C72: Min-d | D72: 7.5652174 | E72: 6.3636364 | F72: 14 | G72: 13.695652 | H72: 9.2608696 | I72: 6.4166667 | J72: 5.3913043 | K72: 4.5217391 | L72: 1.8 | M72: 3.6666667 | N72: 4.1304348 | O72: 12.304348 | P72: 1.8
B73: Khanchanaburi | C73: Mean | D73: - | E73: - | F73: 28.934066 | G73: - | H73: - | I73: - | J73: 7.4119403 | K73: - | L73: - | M73: - | N73: 11.254958 | O73: - | P73: 16.148289
B74: (Vachiralongkorn Dam) | C74: % | D74: 0 | E74: 0 | F74: 48.924731 | G74: 0 | H74: 0 | I74: 0 | J74: 45.026882 | K74: 0 | L74: 0 | M74: 0 | N74: 49.027778 | O74: 0 | P74: 11.976321
C75: Max-d | D75: - | E75: - | F75: 37.478261 | G75: - | H75: - | I75: - | J75: 12.428571 | K75: - | L75: - | M75: - | N75: 16.130435 | O75: - | P75: 37.478261
C76: Min-d | D76: - | E76: - | F76: 16.714286 | G76: - | H76: - | I76: - | J76: <1 | K76: - | L76: - | M76: - | N76: <1 | O76: - | P76: 16.714286
B77: Chiangmai | C77: Mean | D77: 25.659058 | E77: 35.995509 | F77: 40.508824 | G77: 38.1875 | H77: 34.614286 | I77: 14.883929 | J77: 10.635846 | K77: 10.694366 | L77: 11.207299 | M77: 11.852433 | N77: 10.737921 | O77: 16.475921 | P77: 21.358629
B78: (Mae Hia) | C78: % | D78: 94.22043 | E78: 95.977011 | F78: 91.397849 | G78: 66.666667 | H78: 94.086022 | I78: 93.333333 | J78: 94.489247 | K78: 95.430108 | L78: 95.138889 | M78: 85.61828 | N78: 94.861111 | O78: 94.892473 | P78: 91.35929
C79: Max-d | D79: 37.652174 | E79: 49.913043 | F79: 55 | G79: 56.9 | H79: 50.478261 | I79: 19 | J79: 14.26087 | K79: 15.695652 | L79: 16.956522 | M79: 24.272727 | N79: 18.608696 | O79: 24.666667 | P79: 56.9
C80: Min-d | D80: 19.473684 | E80: 20.565217 | F80: 25.541667 | G80: 16.875 | H80: 19.086957 | I80: 10.047619 | J80: 6.826087 | K80: 6.5217391 | L80: 4.7391304 | M80: 4.826087 | N80: 5.5217391 | O80: 3.5714286 | P80: 3.5714286
A82: Mean : monthly or annual arithmetic average values
A83: Max-d : maximum values of daily data
A84: Min-d : minimum values of daily data
A85: % : monthly or annual percentages of period of available data

Sheet PM10
A1: Table 4.11 PM10
A3: Unit : mg/m3 | D3: ='SO2'!D3:O3 -> 2012 | P3: Annual
A4: Country | B4: Site | D4: Jan | E4: Feb | F4: Mar | G4: Apr | H4: May | I4: Jun | J4: Jul | K4: Aug | L4: Sep | M4: Oct | N4: Nov | O4: Dec
A5: China | B5: Jinyunshan | C5: Mean | D5: 47.290323 | E5: 67.172414 | F5: 53.677419 | G5: 47.2 | H5: 26.16129 | I5: 39.433333 | J5: 20.096774 | K5: 34.354839 | L5: 37.566667 | M5: 41.387097 | N5: 47.833333 | O5: 57.774194 | P5: 43.202186
C6: % | D6: 100 | E6: 100 | F6: 100 | G6: 100 | H6: 100 | I6: 100 | J6: 100 | K6: 100 | L6: 100 | M6: 100 | N6: 100 | O6: 100 | P6: 100.27397
C7: Max-d | D7: 107 | E7: 131 | F7: 108 | G7: 92 | H7: 71 | I7: 91 | J7: 44 | K7: 91 | L7: 86 | M7: 116 | N7: 91 | O7: 137 | P7: 137
C8: Min-d | D8: 5 | E8: 12 | F8: 14 | G8: 15 | H8: 3 | I8: 5 | J8: 2 | K8: 6 | L8: 4 | M8: 7 | N8: 12 | O8: 17 | P8: 2
B9: Hongwen | C9: Mean | D9: 47.580645 | E9: 50.448276 | F9: 83.967742 | G9: 77.133333 | H9: 52.548387 | I9: 34.678571 | J9: 40.466667 | K9: 54.37931 | L9: 55.633333 | M9: 70.903226 | N9: 72.333333 | O9: 60.193548 | P9: 58.584488
C10: % | D10: 100 | E10: 100 | F10: 100 | G10: 100 | H10: 100 | I10: 93.333333 | J10: 96.774194 | K10: 93.548387 | L10: 100 | M10: 100 | N10: 100 | O10: 100 | P10: 98.90411
C11: Max-d | D11: 100 | E11: 108 | F11: 149 | G11: 159 | H11: 116 | I11: 83 | J11: 123 | K11: 89 | L11: 119 | M11: 114 | N11: 121 | O11: 119 | P11: 159
C12: Min-d | D12: 14 | E12: 14 | F12: 31 | G12: 18 | H12: 12 | I12: 14 | J12: 16 | K12: 18 | L12: 24 | M12: 39 | N12: 23 | O12: 21 | P12: 12
B13: Xiang Zhou | C13: Mean | D13: 48.806452 | E13: 44.793103 | F13: 49.258065 | G13: 37.3 | H13: 32 | I13: 36.3 | J13: 26.387097 | K13: 49.741935 | L13: 41.5 | M13: 64.419355 | N13: 47.266667 | O13: 52.741935 | P13: 44.245902
C14: % | D14: 100 | E14: 100 | F14: 100 | G14: 100 | H14: 100 | I14: 100 | J14: 100 | K14: 100 | L14: 100 | M14: 100 | N14: 100 | O14: 100 | P14: 100.27397
C15: Max-d | D15: 80 | E15: 97 | F15: 135 | G15: 82 | H15: 46 | I15: 75 | J15: 65 | K15: 126 | L15: 84 | M15: 124 | N15: 91 | O15: 103 | P15: 135
C16: Min-d | D16: 9 | E16: 10 | F16: 20 | G16: 16 | H16: 19 | I16: 22 | J16: 15 | K16: 14 | L16: 15 | M16: 28 | N16: 15 | O16: 19 | P16: 9
A17: Japan | B17: Rishiri | C17: Mean | D17: 6.6473118 | E17: 14.405419 | F17: 17.083717 | G17: 22.255238 | H17: 13.108295 | I17: 10.928571 | J17: 11.828462 | K17: 14.669626 | L17: 11.333042 | M17: 13.302676 | N17: 10.053492 | O17: 11.653303 | P17: 13.103106
C18: % | D18: 87.5 | E18: 87.5 | F18: 87.5 | G18: 87.5 | H18: 87.5 | I18: 87.5 | J18: 87.365591 | K18: 86.290323 | L18: 79.444444 | M18: 80.376344 | N18: 87.5 | O18: 87.5 | P18: 86.122495
C19: Max-d | D19: 14.719048 | E19: 61.628571 | F19: 67.771429 | G19: 101.3381 | H19: 42.447619 | I19: 25.480952 | J19: 41.82381 | K19: 43.16 | L19: 28.371429 | M19: 29.438095 | N19: 45.990476 | O19: 56.190476 | P19: 101.3381
C20: Min-d | D20: 3.2904762 | E20: 3.0952381 | F20: 4.1238095 | G20: 5.3619048 | H20: 2.7238095 | I20: 1.6952381 | J20: 1.4428571 | K20: 2.445 | L20: 4.5761905 | M20: 4.4190476 | N20: 3.1714286 | O20: 3.6619048 | P20: 1.4428571
B21: Ochiishi | C21: Mean | D21: 13.742453 | E21: 19.698271 | F21: 25.574089 | G21: 27.509902 | H21: 21.048714 | I21: 20.316 | J21: 17.289716 | K21: 18.249191 | L21: 13.209697 | M21: 20.644681 | N21: 17.627069 | O21: 15.817227 | P21: 19.555163
C22: % | D22: 99.731183 | E22: 99.712644 | F22: 99.596774 | G22: 99.583333 | H22: 99.327957 | I22: 97.222222 | J22: 99.327957 | K22: 99.731183 | L22: 22.916667 | M22: 31.586022 | N22: 99.027778 | O22: 99.865591 | P22: 87.317851
C23: Max-d | D23: 26.154167 | E23: 74.925 | F23: 48.4625 | G23: 64.8125 | H23: 47.095652 | I23: 71.422222 | J23: 49.483333 | K23: 29.395833 | L23: 33.553333 | M23: 30.704167 | N23: 41.4875 | O23: 39.3 | P23: 74.925
C24: Min-d | D24: 8.425 | E24: 6.7416667 | F24: 12.266667 | G24: 10.691667 | H24: 10.675 | I24: 7.4583333 | J24: 7.8083333 | K24: 11.666667 | L24: 3.3 | M24: 2.3333333 | N24: 5.1916667 | O24: 5.6666667 | P24: 2.3333333
B25: Tappi | C25: Mean | D25: 14.678763 | E25: 16.839799 | F25: 22.339811 | G25: 24.780919 | H25: 18.236339 | I25: 13.585833 | J25: 14.984986 | K25: 15.809066 | L25: 13.046799 | M25: 18.246237 | N25: 18.520226 | O25: 18.488949 | P25: 17.475765
C26: % | D26: 100 | E26: 100 | F26: 99.596774 | G26: 99.722222 | H26: 99.865591 | I26: 100 | J26: 97.580645 | K26: 99.327957 | L26: 97.638889 | M26: 100 | N26: 98.194444 | O26: 99.731183 | P26: 99.305556
C27: Max-d | D27: 28.808333 | E27: 30.495833 | F27: 66.258333 | G27: 73 | H27: 32.9125 | I27: 33.5875 | J27: 38.0875 | K27: 36.658333 | L27: 22.227273 | M27: 32.2 | N27: 47.283333 | O27: 35.273913 | P27: 73
C28: Min-d | D28: 4.3541667 | E28: 5.9958333 | F28: 3.95 | G28: 8.0083333 | H28: 3.475 | I28: 5.1708333 | J28: 4.0875 | K28: 7.1 | L28: 6.6375 | M28: 8.9458333 | N28: 7.7125 | O28: 7.6583333 | P28: 3.475
B29: Sado-seki | C29: Mean | D29: 15.31371 | E29: 19.48958 | F29: 21.350269 | G29: 29.900286 | H29: 22.012908 | I29: 14.394708 | J29: 18.119381 | K29: 14.389637 | L29: 13.296374 | M29: 20.411502 | N29: 20.94375 | O29: 15.515682 | P29: 18.727772
C30: % | D30: 100 | E30: 99.281609 | F30: 100 | G30: 97.222222 | H30: 98.924731 | I30: 99.722222 | J30: 99.865591 | K30: 99.865591 | L30: 99.583333 | M30: 99.327957 | N30: 42.222222 | O30: 59.139785 | P30: 91.290984
C31: Max-d | D31: 27.4375 | E31: 40.5125 | F31: 65.179167 | G31: 112.85 | H31: 53.108333 | I31: 23.7625 | J31: 33.8875 | K31: 22.329167 | L31: 30.433333 | M31: 46.441667 | N31: 36.564706 | O31: 29.075 | P31: 112.85
C32: Min-d | D32: 6.7083333 | E32: 9.1916667 | F32: 3.5083333 | G32: 9.0916667 | H32: 4.2625 | I32: 6.4583333 | J32: 4.8416667 | K32: 7.6958333 | L32: 6.1833333 | M32: 9.875 | N32: 8.6916667 | O32: 5.6291667 | P32: 3.5083333
B33: Happo | C33: Mean | D33: 6.9454282 | E33: 11.456014 | F33: 10.406992 | G33: 19.510437 | H33: 19.079217 | I33: 12.061111 | J33: 12.134946 | K33: 13.186008 | L33: 8.5360724 | M33: 9.4035422 | N33: 6.4789621 | O33: 3.5168022 | P33: 11.074369
C34: % | D34: 92.607527 | E34: 41.810345 | F34: 63.44086 | G34: 98.472222 | H34: 99.596774 | I34: 100 | J34: 100 | K34: 97.983871 | L34: 99.722222 | M34: 98.655914 | N34: 99.027778 | O34: 99.193548 | P34: 91.051913
C35: Max-d | D35: 42.386667 | E35: 25.963158 | F35: 34.6125 | G35: 43.341667 | H35: 53.016667 | I35: 22.270833 | J35: 33.666667 | K35: 22.395833 | L35: 17.079167 | M35: 23.104167 | N35: 13.770833 | O35: 7.15 | P35: 53.016667
C36: Min-d | D36: 1.425 | E36: 3.6958333 | F36: 2.0208333 | G36: 5.1833333 | H36: 1.7958333 | I36: 2.3125 | J36: 2.7625 | K36: 4.0041667 | L36: 2.7208333 | M36: 2.0291667 | N36: 2.5625 | O36: <1 | P36: 1.425
B37: Ijira | C37: Mean | D37: 7.4391854 | E37: 11.339914 | F37: 13.638526 | G37: 26.182778 | H37: 25.276344 | I37: 17.639888 | J37: 22.21922 | K37: 16.258199 | L37: 17.743454 | M37: 14.989502 | N37: 13.245897 | O37: 6.7221766 | P37: 16.378608
C38: % | D38: 95.698925 | E38: 99.712644 | F38: 96.639785 | G38: 100 | H38: 100 | I38: 99.583333 | J38: 100 | K38: 100 | L38: 99.722222 | M38: 99.865591 | N38: 99.861111 | O38: 65.456989 | P38: 96.32286
C39: Max-d | D39: 11.8625 | E39: 33.508333 | F39: 31.75 | G39: 80.570833 | H39: 59.933333 | I39: 31.370833 | J39: 45.0375 | K39: 29.829167 | L39: 33.370833 | M39: 32.954167 | N39: 25.445833 | O39: 10.729167 | P39: 80.570833
C40: Min-d | D40: 2.275 | E40: 4.0875 | F40: 3.1833333 | G40: 11.779167 | H40: 4.4708333 | I40: 5.925 | J40: 8.1333333 | K40: 7.7541667 | L40: 9.9681818 | M40: 2.1916667 | N40: 4.95 | O40: 4.2666667 | P40: 2.1916667
B41: Oki | C41: Mean | D41: 22.015633 | E41: 24.243723 | F41: 27.263735 | G41: 32.113523 | H41: 28.573854 | I41: 17.614146 | J41: 21.442005 | K41: 16.460434 | L41: 18.680362 | M41: 23.336622 | N41: 30.449443 | O41: 19.895231 | P41: 23.350719
C42: % | D42: 99.731183 | E42: 99.568966 | F42: 99.327957 | G42: 78.055556 | H42: 99.731183 | I42: 99.166667 | J42: 99.193548 | K42: 99.193548 | L42: 99.722222 | M42: 99.462366 | N42: 99.722222 | O42: 95.833333 | P42: 97.415756
C43: Max-d | D43: 47.158333 | E43: 46.870833 | F43: 56.983333 | G43: 69.504167 | H43: 69.25 | I43: 31.329167 | J43: 55.779167 | K43: 25.916667 | L43: 34.7875 | M43: 42.691667 | N43: 80.475 | O43: 36.895833 | P43: 80.475
C44: Min-d | D44: 8.3208333 | E44: 7.3458333 | F44: 4.1333333 | G44: 13.541667 | H44: 10.608333 | I44: 5.7833333 | J44: 11.9375 | K44: 10.9125 | L44: 12.054167 | M44: 9.575 | N44: 15.491667 | O44: 6.0083333 | P44: 4.1333333
B45: Banryu | C45: Mean | D45: 22.453436 | E45: 20.519452 | F45: 27.269147 | G45: 32.32371 | H45: 31.95283 | I45: 20.4961 | J45: 20.171448 | K45: 14.947973 | L45: 19.605556 | M45: 19.823648 | N45: 24.382331 | O45: 15.59354 | P45: 22.375251
C46: % | D46: 95.833333 | E46: 99.712644 | F46: 99.327957 | G46: 99.583333 | H46: 99.731183 | I46: 99.722222 | J46: 99.327957 | K46: 99.462366 | L46: 100 | M46: 86.962366 | N46: 36.944444 | O46: 99.865591 | P46: 93.101093
C47: Max-d | D47: 44.895833 | E47: 47.483333 | F47: 56.845833 | G47: 69.25 | H47: 81.208333 | I47: 30.7125 | J47: 49.8625 | K47: 22.5625 | L47: 34.595833 | M47: 33.404167 | N47: 54.8125 | O47: 32.041667 | P47: 81.208333
C48: Min-d | D48: 7.0833333 | E48: 5.4166667 | F48: 6.1625 | G48: 6.5208333 | H48: 10.104167 | I48: 6.6375 | J48: 10.616667 | K48: 8.1458333 | L48: 9.5208333 | M48: 10.104167 | N48: 10.9625 | O48: 5.1791667 | P48: 5.1791667
B49: Yusuhara | C49: Mean | D49: 14.102823 | E49: 11.136063 | F49: 17.741628 | G49: 23.44096 | H49: 25.358065 | I49: 10.945089 | J49: 14.151466 | K49: 9.4538328 | L49: 11.551752 | M49: 13.845046 | N49: 15.231849 | O49: 8.6264209 | P49: 14.75159
C50: % | D50: 100 | E50: 100 | F50: 87.5 | G50: 86.805556 | H50: 100 | I50: 93.333333 | J50: 82.526882 | K50: 77.150538 | L50: 87.222222 | M50: 86.827957 | N50: 81.111111 | O50: 87.5 | P50: 89.12796
C51: Max-d | D51: 31.683333 | E51: 32.370833 | F51: 40.17619 | G51: 72.366667 | H51: 71.075 | I51: 43.870833 | J51: 51.795238 | K51: 26.7 | L51: 29.804762 | M51: 25.061905 | N51: 28.728571 | O51: 20.747619 | P51: 72.366667
C52: Min-d | D52: 3.2041667 | E52: 3.0833333 | F52: 3.9142857 | G52: 1.2142857 | H52: 1.6875 | I52: 1.7791667 | J52: 3.6 | K52: 2.7555556 | L52: 3.0238095 | M52: 1.8428571 | N52: 6.5285714 | O52: 2.4238095 | P52: 1.2142857
B53: Hedo | C53: Mean | D53: 23.932392 | E53: 23 | F53: 34.866801 | G53: 36.597639 | H53: 28.209312 | I53: 18.421429 | J53: 13.238176 | K53: 19.954802 | L53: 16.610467 | M53: 31.845272 | N53: 34.297143 | O53: 31.003495 | P53: 26.705985
C54: % | D54: 100 | E54: 99.281609 | F54: 100 | G54: 100 | H54: 99.596774 | I54: 95.277778 | J54: 39.784946 | K54: 95.16129 | L54: 86.25 | M54: 93.817204 | N54: 77.777778 | O54: 100 | P54: 90.539617
C55: Max-d | D55: 48.970833 | E55: 38.516667 | F55: 111.84583 | G55: 167.60417 | H55: 86.608333 | I55: 40.4375 | J55: 29.845833 | K55: 61.04375 | L55: 41 | M55: 54.4 | N55: 71.116667 | O55: 79.333333 | P55: 167.60417
C56: Min-d | D56: 7.9416667 | E56: 9.1958333 | F56: 14.579167 | G56: 14.475 | H56: 8.9708333 | I56: 5.0058824 | J56: 8.2041667 | K56: 6.6041667 | L56: 3.7041667 | M56: 15.7 | N56: 4.05 | O56: 14.345833 | P56: 3.7041667
B57: Ogasawara | C57: Mean | D57: 11.828437 | E57: 10.795924 | F57: 15.288964 | G57: 16.448189 | H57: 9.9735215 | I57: 5.8637883 | J57: 6.7126685 | K57: 8.0938172 | L57: 9.3765035 | M57: 10.716869 | N57: 13.117778 | O57: 10.898248 | P57: 10.755231
C58: % | D58: 99.731183 | E58: 98.706897 | F58: 99.865591 | G58: 99.722222 | H58: 100 | I58: 99.722222 | J58: 99.731183 | K58: 100 | L58: 99.305556 | M58: 99.596774 | N58: 100 | O58: 99.731183 | P58: 99.681239
C59: Max-d | D59: 19.208333 | E59: 19.35 | F59: 28.604167 | G59: 43.495833 | H59: 24.058333 | I59: 15.270833 | J59: 17.891667 | K59: 17.9375 | L59: 18.090476 | M59: 16.652381 | N59: 25.404167 | O59: 20.9875 | P59: 43.495833
C60: Min-d | D60: 6.5 | E60: 5.0333333 | F60: 3.4875 | G60: 2.8625 | H60: <1 | I60: 1.7458333 | J60: 3.1166667 | K60: 3.2625 | L60: 4.8666667 | M60: 5.8083333 | N60: 7.6583333 | O60: 5.325 | P60: 1.7458333
A61: Republic of | B61: Kanghwa | C61: Mean | D61: 75 | E61: 49 | F61: 46 | G61: 48 | H61: 58 | I61: 39 | J61: 33 | K61: 33 | L61: 28 | M61: 26 | N61: 43 | O61: 58 | P61: 44.666667
A62: Korea | C62: % | D62: 96 | E62: 99 | F62: 100 | G62: 100 | H62: 95 | I62: 96 | J62: 99 | K62: 78 | L62: 98 | M62: 98 | N62: 80 | O62: 97 | P62: 94.666667
C63: Max-d | D63: 103 | E63: 72 | F63: 55 | G63: 76 | H63: 80 | I63: 50 | J63: 51 | K63: 39 | L63: 47 | M63: 39 | N63: 132 | O63: 101 | P63: 132
C64: Min-d | D64: 52 | E64: 34 | F64: 36 | G64: 21 | H64: 25 | I64: 33 | J64: 23 | K64: 25 | L64: 17 | M64: 13 | N64: 23 | O64: 27 | P64: 13
B65: Cheju | C65: Mean | D65: 42 | E65: 32 | F65: 44 | G65: 53 | H65: 45 | I65: 31 | J65: 29 | K65: 29 | L65: 34 | M65: 28 | N65: 43 | O65: 29 | P65: 36.583333
B66: (Kosan) | C66: % | D66: 100 | E66: 98 | F66: 100 | G66: 99 | H66: 94 | I66: 98 | J66: 94 | K66: 93 | L66: 96 | M66: 98 | N66: 80 | O66: 100 | P66: 95.833333
C67: Max-d | D67: 71 | E67: 36 | F67: 63 | G67: 79 | H67: 86 | I67: 39 | J67: 44 | K67: 37 | L67: 51 | M67: 39 | N67: 116 | O67: 45 | P67: 116
C68: Min-d | D68: 31 | E68: 26 | F68: 31 | G68: 32 | H68: 14 | I68: 21 | J68: 14 | K68: 19 | L68: 20 | M68: 22 | N68: 18 | O68: 14 | P68: 14
B69: Imsil | C69: Mean | D69: 59 | E69: 41 | F69: 46 | G69: 38 | H69: 46 | I69: 41 | J69: 23 | K69: 16 | L69: 23 | M69: 28 | N69: 37 | O69: 39 | P69: 36.416667
C70: % | D70: 98 | E70: 98 | F70: 98 | G70: 100 | H70: 98 | I70: 93 | J70: 96 | K70: 96 | L70: 97 | M70: 93 | N70: 80 | O70: 92 | P70: 94.916667
C71: Max-d | D71: 113 | E71: 64 | F71: 60 | G71: 56 | H71: 81 | I71: 52 | J71: 27 | K71: 22 | L71: 45 | M71: 48 | N71: 118 | O71: 57 | P71: 118
C72: Min-d | D72: 39 | E72: 22 | F72: 24 | G72: 24 | H72: 23 | I72: 20 | J72: 16 | K72: 11 | L72: 8 | M72: 15 | N72: 22 | O72: 22 | P72: 8
A73: Thailand | B73: Bangkok | C73: Mean | D73: 42.783217 | E73: 42.6546 | F73: 47.976945 | G73: 37.14557 | H73: 27.490539 | I73: 32.599411 | J73: 26.368195 | K73: 22.617978 | L73: 23.998542 | M73: 41.094444 | N73: 44.767004 | O73: 59.865022 | P73: 37.239098
C74: % | D74: 57.66129 | E74: 95.258621 | F74: 93.27957 | G74: 87.777778 | H74: 92.33871 | I74: 94.305556 | J74: 93.817204 | K74: 95.698925 | L74: 95.277778 | M74: 96.774194 | N74: 95.972222 | O74: 92.607527 | P74: 90.846995
C75: Max-d | D75: 63.666667 | E75: 83.173913 | F75: 86.956522 | G75: 93.083333 | H75: 39.708333 | I75: 68.208333 | J75: 41.26087 | K75: 34.066667 | L75: 61.25 | M75: 85.791667 | N75: 81.458333 | O75: 88.272727 | P75: 93.083333
C76: Min-d | D76: 14.142857 | E76: 16.545455 | F76: 16.681818 | G76: 13.608696 | H76: 14.25 | I76: 15.466667 | J76: 16.695652 | K76: 15.409091 | L76: 15.652174 | M76: 20 | N76: 19.375 | O76: 33.3 | P76: 13.608696
B77: Samutprakarn | C77: Mean | D77: - | E77: 70.710843 | F77: 26.439394 | G77: - | H77: 50.40625 | I77: 31.763636 | J77: 29.587644 | K77: 30.610215 | L77: 28.137691 | M77: 44.770745 | N77: 42.292786 | O77: 54.611413 | P77: 38.830355
C78: % | D78: 0 | E78: 35.775862 | F78: 26.612903 | G78: 0 | H78: 8.6021505 | I78: 84.027778 | J78: 93.548387 | K78: 100 | L78: 99.861111 | M78: 95.564516 | N78: 98.194444 | O78: 98.924731 | P78: 61.805556
C79: Max-d | D79: - | E79: 144.11111 | F79: 52.695652 | G79: - | H79: 55.25 | I79: 64.208333 | J79: 42.125 | K79: 46.958333 | L79: 58.875 | M79: 92.333333 | N79: 87.375 | O79: 75.208333 | P79: 144.11111
C80: Min-d | D80: - | E80: 14.578947 | F80: 13.043478 | G80: - | H80: 37.9375 | I80: 17.625 | J80: 17.833333 | K80: 19.958333 | L80: 13.125 | M80: 20.083333 | N80: 17.416667 | O80: 31.208333 | P80: 13.043478
B81: Khanchanaburi | C81: Mean | D81: - | E81: - | F81: 17.992084 | G81: - | H81: - | I81: - | J81: 4.495356 | K81: - | L81: - | M81: - | N81: 7.8943089 | O81: - | P81: 10.442577
B82: (Vachiralongkorn Dam) | C82: % | D82: 0 | E82: 0 | F82: 50.94086 | G82: 0 | H82: 0 | I82: 0 | J82: 43.413978 | K82: 0 | L82: 0 | M82: 0 | N82: 51.25 | O82: 0 | P82: 12.192623
C83: Max-d | D83: - | E83: - | F83: 33.291667 | G83: - | H83: - | I83: - | J83: 6.75 | K83: - | L83: - | M83: - | N83: 10.916667 | O83: - | P83: 33.291667
C84: Min-d | D84: - | E84: - | F84: 7.5 | G84: - | H84: - | I84: - | J84: 3.047619 | K84: - | L84: - | M84: - | N84: 5.2222222 | O84: - | P84: 3.047619
B85: Chiangmai | C85: Mean | D85: 42.693243 | E85: 81.759036 | F85: 119.58944 | G85: 56.173913 | H85: 31.991814 | I85: 25.876923 | J85: 22.493943 | K85: 22.110215 | L85: 21.458333 | M85: 31.633234 | N85: 27.110181 | O85: 36.732432 | P85: 42.105545
B86: (Mae Hia) | C86: % | D86: 99.462366 | E86: 83.477011 | F86: 91.666667 | G86: 86.25 | H86: 98.521505 | I86: 99.305556 | J86: 99.865591 | K86: 100 | L86: 100 | M86: 89.784946 | N86: 99.583333 | O86: 99.462366 | P86: 95.673953
C87: Max-d | D87: 70.958333 | E87: 196.09091 | F87: 201.41667 | G87: 102.95833 | H87: 49.833333 | I87: 42.5 | J87: 39.875 | K87: 33.208333 | L87: 35.5 | M87: 45.166667 | N87: 41.833333 | O87: 51.958333 | P87: 201.41667
C88: Min-d | D88: 25.5 | E88: 36.666667 | F88: 25.958333 | G88: 18.625 | H88: 7.75 | I88: 15.125 | J88: 15.291667 | K88: 15 | L88: 10.958333 | M88: 17.75 | N88: 20.958333 | O88: 19.863636 | P88: 7.75
A90: Mean : monthly or annual arithmetic average values
A91: Max-d : maximum values of daily data
A92: Min-d : minimum values of daily data
A93: % : monthly or annual percentages of period of available data

Sheet PM25
A1: Table 4.12 PM2.5
A3: Unit : mg/m3 | D3: ='SO2'!D3:O3 -> 2012 | P3: Annual
A4: Country | B4: Site | D4: Jan | E4: Feb | F4: Mar | G4: Apr | H4: May | I4: Jun | J4: Jul | K4: Aug | L4: Sep | M4: Oct | N4: Nov | O4: Dec
A5: Japan | B5: Rishiri | C5: Mean | D5: 4.495664 | E5: 8.9719828 | F5: 10.29328 | G5: 9.4102778 | H5: 8.1494624 | I5: 9.7691238 | J5: 7.6526245 | K5: 7.0259409 | L5: 5.2791667 | M5: 6.0422043 | N5: 5.5038889 | O5: 7.9356183 | P5: 7.5386964
C6: % | D6: 99.193548 | E6: 100 | F6: 100 | G6: 100 | H6: 100 | I6: 99.861111 | J6: 99.865591 | K6: 100 | L6: 100 | M6: 100 | N6: 100 | O6: 100 | P6: 99.908925
C7: Max-d | D7: 8.7708333 | E7: 30.183333 | F7: 25.725 | G7: 20.220833 | H7: 19.6875 | I7: 15.9625 | J7: 18.279167 | K7: 13.845833 | L7: 8.5666667 | M7: 14.666667 | N7: 16.245833 | O7: 40.7625 | P7: 40.7625
C8: Min-d | D8: 1.8083333 | E8: 3.2125 | F8: 3.4666667 | G8: 4.1458333 | H8: 1.025 | I8: 4.825 | J8: 1.5291667 | K8: 1.8291667 | L8: 3.0875 | M8: 2.8375 | N8: 2.5416667 | O8: 2.775 | P8: 1.025
B9: Ochiishi | C9: Mean | D9: 5.2682003 | E9: 9.4137881 | F9: 12.056011 | G9: 11.273986 | H9: 10.584103 | I9: 8.7389205 | J9: 9.1100135 | K9: 8.5636119 | L9: 6.1078788 | M9: 9.2919149 | N9: 7.0644381 | O9: 7.8095559 | P9: 8.9314316
C10: % | D10: 99.327957 | E10: 98.994253 | F10: 98.387097 | G10: 99.305556 | H10: 98.924731 | I10: 97.777778 | J10: 99.327957 | K10: 99.731183 | L10: 22.916667 | M10: 31.586022 | N10: 97.638889 | O10: 99.865591 | P10: 86.999089
C11: Max-d | D11: 10.158333 | E11: 55.704545 | F11: 21.016667 | G11: 25.195833 | H11: 33.24 | I11: 36.880952 | J11: 30.866667 | K11: 15.708333 | L11: 17.053333 | M11: 20.73913 | N11: 16.6875 | O11: 26.1625 | P11: 55.704545
C12: Min-d | D12: 2.65 | E12: <1 | F12: 4.7583333 | G12: 4.4833333 | H12: 3.9541667 | I12: 2.8958333 | J12: 3.85 | K12: 5.3125 | L12: 1.55 | M12: 2.1 | N12: 2.2708333 | O12: 3.3083333 | P12: 1.55
B13: Oki | C13: Mean | D13: 11.358436 | E13: 12.969553 | F13: 14.995277 | G13: 16.094828 | H13: 17.145957 | I13: 11.42577 | J13: 14.574119 | K13: 11.270741 | L13: 9.8015737 | M13: 11.277733 | N13: 12.696508 | O13: 10.33564 | P13: 12.927178
C14: % | D14: 97.983871 | E14: 99.568966 | F14: 99.596774 | G14: 96.666667 | H14: 99.731183 | I14: 99.166667 | J14: 99.193548 | K14: 67.069892 | L14: 97.083333 | M14: 99.596774 | N14: 99.444444 | O14: 77.688172 | P14: 94.330601
C15: Max-d | D15: 32.654167 | E15: 26.066667 | F15: 39.833333 | G15: 39.490909 | H15: 42.020833 | I15: 19.35 | J15: 38.7375 | K15: 21.595833 | L15: 26.545833 | M15: 24.766667 | N15: 23.933333 | O15: 22.770833 | P15: 42.020833
C16: Min-d | D16: 5.2291667 | E16: 6.6458333 | F16: 2.0708333 | G16: 5.35 | H16: 4.075 | I16: 3.125 | J16: 2.9125 | K16: 5.13 | L16: 3.5416667 | M16: 3.5333333 | N16: 4.525 | O16: 3.9791667 | P16: 2.0708333
A18: Mean : monthly or annual arithmetic average values
A19: Max-d : maximum values of daily data
A20: Min-d : minimum values of daily data
A21: % : monthly or annual percentages of period of available data

Sheet SO42-
A1: Table 4.13 Particulate matter component: SO42-
A3: Unit : mg/m3 | D3: ='SO2'!D3:O3 -> 2012 | P3: Annual
A4: Country | B4: Site | D4: Jan | E4: Feb | F4: Mar | G4: Apr | H4: May | I4: Jun | J4: Jul | K4: Aug | L4: Sep | M4: Oct | N4: Nov | O4: Dec
A5: Cambodia | B5: Phnom Penh | C5: Mean | D5: 2.6520676 | E5: 4.3915565 | F5: 2.8385776 | G5: 2.5357159 | H5: 2.6931292 | I5: 2.4765672 | J5: 1.8203864 | K5: 1.7996936 | L5: 1.3615121 | M5: 5.3053149 | N5: 1.6686774 | O5: 2.3052245 | P5: 2.6282737
C6: % | D6: 100 | E6: 100 | F6: 100 | G6: 100 | H6: 100 | I6: 100 | J6: 100 | K6: 100 | L6: 100 | M6: 100 | N6: 100 | O6: 100 | P6: 100
C7: Max-2w | D7: 3.2827107 | E7: 4.6165135 | F7: 3.3698718 | G7: 2.9213895 | H7: 2.9055768 | I7: 2.9748312 | J7: 2.1581083 | K7: 1.995282 | L7: 1.6437838 | M7: 5.5588274 | N7: 1.7168716 | O7: 2.3531321 | P7: 5.5588274
C8: Min-2w | D8: 2.0214245 | E8: 4.1665994 | F8: 2.152132 | G8: 2.1500422 | H8: 2.4806815 | I8: 1.9783033 | J8: 1.4826645 | K8: 1.5110851 | L8: 1.0792405 | M8: 5.0518023 | N8: 1.6204832 | O8: 2.257317 | P8: 1.0792405
A9: China | B9: Hongwen | C9: Mean
C10: %
C11: Max-2w
C12: Min-2w
A13: Indonesia | B13: Serpong | C13: Mean | D13: 0.59687173 | E13: 1.3668486 | F13: 2.9101933 | G13: 3.0109521 | H13: 3.0302503 | I13: 4.6650075 | J13: 8.3950714 | K13: 7.2567542 | L13: 4.0738899 | M13: 7.9949906 | N13: 2.5224911 | O13: 1.4230064 | P13: 4.0253693
C14: % | D14: 96.551724 | E14: 100 | F14: 100 | G14: 100 | H14: 100 | I14: 100 | J14: 100 | K14: 100 | L14: 100 | M14: 100 | N14: 100 | O14: 91.176471 | P14: 98.927614
C15: Max-2w | D15: 0.89872119 | E15: 2.2820568 | F15: 4.14015 | G15: 4.9867744 | H15: 5.2256768 | I15: 5.0757923 | J15: 10.2931 | K15: 8.6746648 | L15: 5.9099118 | M15: 8.7273846 | N15: 4.4988618 | O15: 2.6382553 | P15: 10.2931
C16: Min-2w | D16: 0.29502227 | E16: 0.45164033 | F16: 2.2116465 | G16: 1.0351299 | H16: 0.83482373 | I16: 4.2542226 | J16: 6.4970423 | K16: 5.9945415 | L16: 2.237868 | M16: 7.2625967 | N16: 0.54612026 | O16: 0.20775744 | P16: 0.20775744
A17: Japan | B17: Rishiri | C17: Mean | D17: 1.3539411 | E17: 2.3604147 | F17: 3.1861603 | G17: 2.6770299 | H17: 3.0525356 | I17: 2.6259796 | J17: 2.4978973 | K17: 1.9455199 | L17: 1.7869644 | M17: 1.7243349 | N17: 1.8284082 | O17: 2.6904306 | P17: 2.3167732
C18: % | D18: 100 | E18: 100 | F18: 100 | G18: 100 | H18: 100 | I18: 100 | J18: 100 | K18: 100 | L18: 100 | M18: 100 | N18: 100 | O18: 100 | P18: 100
C19: Max-2w | D19: 1.4936382 | E19: 2.4176712 | F19: 3.2191326 | G19: 2.8890257 | H19: 3.283092 | I19: 3.4707329 | J19: 3.5702256 | K19: 1.9801876 | L19: 2.520761 | M19: 2.3783985 | N19: 2.4513204 | O19: 3.9394644 | P19: 3.9394644
C20: Min-2w | D20: 1.2142441 | E20: 2.3031581 | F20: 3.153188 | G20: 2.4650342 | H20: 2.7915698 | I20: 1.7812263 | J20: 1.425569 | K20: 1.9108522 | L20: 1.0531678 | M20: 1.3773898 | N20: 1.205496 | O20: 1.4413967 | P20: 1.0531678
B21: Ochiishi | C21: Mean | D21: 1.5397062 | E21: 2.9106839 | F21: 3.1953016 | G21: 1.6857154 | H21: 1.2234451 | I21: 2.1795742 | J21: 2.0959097 | K21: 1.6896626 | L21: 2.4861057 | M21: 1.593678 | N21: 0.38304162 | O21: 1.5517877 | P21: 1.9492538
C22: % | D22: 100 | E22: 100 | F22: 100 | G22: 100 | H22: 100 | I22: 100 | J22: 100 | K22: 100 | L22: 100 | M22: 100 | N22: 100 | O22: 100 | P22: 100
C23: Max-2w | D23: 1.6980914 | E23: 3.6674402 | F23: 3.3967487 | G23: 2.7348531 | H23: 2.0487489 | I23: 2.5893331 | J23: 3.129112 | K23: 1.9144793 | L23: 3.4839338 | M23: 2.4453592 | N23: 0.38304162 | O23: 2.5784144 | P23: 3.6674402
C24: Min-2w | D24: 1.3813209 | E24: 2.1539276 | F24: 2.9938544 | G24: 0.63657766 | H24: 0.39814131 | I24: 1.7698154 | J24: 1.5398612 | K24: 1.4648459 | L24: 1.4882775 | M24: 0.74199688 | N24: 0.38304162 | O24: 0.52516102 | P24: 0.38304162
B25: Tappi | C25: Mean | D25: 2.2978328 | E25: 3.682268 | F25: 3.762409 | G25: 3.6574728 | H25: 3.339805 | I25: 3.0823501 | J25: 5.3245091 | K25: 3.7278958 | L25: 3.133118 | M25: 2.3256878 | N25: 4.6428223 | O25: 6.888602 | P25: 3.7622093
C26: % | D26: 100 | E26: 100 | F26: 100 | G26: 100 | H26: 66.666667 | I26: 100 | J26: 100 | K26: 100 | L26: 100 | M26: 100 | N26: 100 | O26: 100 | P26: 96.153846
C27: Max-2w | D27: 2.432652 | E27: 3.8612504 | F27: 4.4261724 | G27: 3.7555845 | H27: 4.5294109 | I27: 4.0002764 | J27: 7.0340366 | K27: 3.794507 | L27: 3.691961 | M27: 3.805893 | N27: 6.7035422 | O27: 9.7782508 | P27: 9.7782508
C28: Min-2w | D28: 2.1630135 | E28: 3.5032856 | F28: 3.0986456 | G28: 3.5593612 | H28: 2.1501991 | I28: 2.1644239 | J28: 3.6149815 | K28: 3.6612846 | L28: 2.574275 | M28: 1.3302042 | N28: 2.5821023 | O28: 3.9989531 | P28: 1.3302042
B29: Sado-seki | C29: Mean | D29: 2.4318949 | E29: 3.9916075 | F29: 3.1430103 | G29: 2.7466852 | H29: 5.7879163 | I29: 3.2194664 | J29: 5.841512 | K29: 4.2767292 | L29: 3.5696047 | M29: 2.7004937 | N29: 2.5057454 | O29: 2.8460245 | P29: 3.5345944
C30: % | D30: 100 | E30: 50 | F30: 100 | G30: 66.666667 | H30: 100 | I30: 100 | J30: 100 | K30: 100 | L30: 100 | M30: 100 | N30: 100 | O30: 100 | P30: 92.200557
C31: Max-2w | D31: 2.9456479 | E31: 3.9916075 | F31: 3.816235 | G31: 3.0748719 | H31: 5.8600841 | I31: 4.0363612 | J31: 7.5180721 | K31: 5.2534775 | L31: 3.8002358 | M31: 3.9791008 | N31: 3.1428295 | O31: 3.1651589 | P31: 7.5180721
C32: Min-2w | D32: 1.9181419 | E32: 3.9916075 | F32: 2.4697856 | G32: 2.4184985 | H32: 5.7157484 | I32: 2.4025716 | J32: 4.1649519 | K32: 3.299981 | L32: 3.3389736 | M32: 1.9649829 | N32: 1.8686614 | O32: 2.5268902 | P32: 1.8686614
B33: Happo | C33: Mean | D33: 1.1893106 | E33: 1.5229014 | F33: 1.8450565 | G33: 2.71735 | H33: 6.627771 | I33: 2.4274949 | J33: - | K33: 3.2248877 | L33: 1.7222277 | M33: 2.2615819 | N33: 0.82254106 | O33: 0.66730545 | P33: 2.3570977
C34: % | D34: 100 | E34: 100 | F34: 100 | G34: 100 | H34: 100 | I34: 100 | J34: 0 | K34: 100 | L34: 100 | M34: 100 | N34: 100 | O34: 100 | P34: 92.200557
C35: Max-2w | D35: 1.2233539 | E35: 1.5848741 | F35: 2.2431581 | G35: 3.5434354 | H35: 6.8998478 | I35: 2.8397131 | J35: - | K35: 4.1327611 | L35: 1.7920491 | M35: 3.4752494 | N35: 0.82254106 | O35: 0.88206673 | P35: 6.8998478
C36: Min-2w | D36: 1.1552673 | E36: 1.4609286 | F36: 1.4469549 | G36: 1.0996369 | H36: 6.3556941 | I36: 2.0152767 | J36: - | K36: 2.3170143 | L36: 1.6524064 | M36: 1.3464347 | N36: 0.82254106 | O36: 0.45254417 | P36: 0.45254417
B37: Ijira | C37: Mean | D37: 1.8567507 | E37: 2.7646608 | F37: 2.6261636 | G37: 2.6413208 | H37: 6.8159813 | I37: 3.49255 | J37: 1.5188181 | K37: 1.9981314 | L37: 3.1247271 | M37: 2.1919892 | N37: 0.49881276 | O37: 0.80953617 | P37: 2.5196998
C38: % | D38: 100 | E38: 100 | F38: 100 | G38: 100 | H38: 100 | I38: 100 | J38: 100 | K38: 100 | L38: 100 | M38: 100 | N38: 100 | O38: 100 | P38: 100
C39: Max-2w | D39: 2.0788265 | E39: 3.6020914 | F39: 3.4427767 | G39: 3.6195488 | H39: 7.5635617 | I39: 3.6355619 | J39: 2.2704893 | K39: 3.8522521 | L39: 3.2051244 | M39: 3.9134163 | N39: 0.88032269 | O39: 1.5505843 | P39: 7.5635617
C40: Min-2w | D40: 1.6346749 | E40: 1.9272301 | F40: 1.8095505 | G40: 0.77456378 | H40: 6.0684009 | I40: 3.349538 | J40: 0.76714701 | K40: 0.14401067 | L40: 3.0443298 | M40: 0.51787838 | N40: 0.11730283 | O40: 0.068488048 | P40: 0.068488048
B41: Oki | C41: Mean | D41: 3.8491645 | E41: 5.3917391 | F41: 5.8691971 | G41: 6.5787674 | H41: 4.9773005 | I41: 4.3000522 | J41: 5.8900855 | K41: 3.4911722 | L41: 3.0722027 | M41: - | N41: - | O41: 4.6577219 | P41: 4.9029952
C42: % | D42: 100 | E42: 100 | F42: 100 | G42: 100 | H42: 100 | I42: 100 | J42: 100 | K42: 100 | L42: 50 | M42: 0 | N42: 0 | O42: 100 | P42: 77.173913
C43: Max-2w | D43: 4.8311226 | E43: 5.45723 | F43: 6.5075925 | G43: 8.3111974 | H43: 8.2462593 | I43: 5.2030197 | J43: 6.8190858 | K43: 3.5920689 | L43: 3.0722027 | M43: - | N43: - | O43: 5.0920266 | P43: 8.3111974
C44: Min-2w | D44: 2.8672065 | E44: 5.3262481 | F44: 5.2308018 | G44: 4.8463373 | H44: 2.8370074 | I44: 3.3970846 | J44: 4.9610852 | K44: 3.3902755 | L44: 3.0722027 | M44: - | N44: - | O44: 4.2234173 | P44: 2.8370074
B45: Banryu | C45: Mean | D45: 5.7786041 | E45: 5.0499283 | F45: 5.7039379 | G45: 6.2864322 | H45: 7.6125297 | I45: 4.9416368 | J45: 6.0903959 | K45: 2.8487825 | L45: 3.950389 | M45: 4.583804 | N45: 4.6707606 | O45: 2.8482467 | P45: 5.0516135
C46: % | D46: 46.153846 | E46: 100 | F46: 100 | G46: 100 | H46: 100 | I46: 100 | J46: 100 | K46: 100 | L46: 100 | M46: 61.904762 | N46: 100 | O46: 100 | P46: 91.620112
C47: Max-2w | D47: 5.7786041 | E47: 5.1450406 | F47: 6.2458711 | G47: 6.7296871 | H47: 9.4503066 | I47: 6.2160434 | J47: 8.5434812 | K47: 3.4125553 | L47: 4.4000807 | M47: 4.8881426 | N47: 5.1768023 | O47: 3.3626485 | P47: 9.4503066
C48: Min-2w | D48: 5.7786041 | E48: 4.954816 | F48: 5.1620047 | G48: 5.4732379 | H48: 5.7747528 | I48: 3.6672303 | J48: 3.6373106 | K48: 2.2850098 | L48: 3.5006972 | M48: 4.2794654 | N48: 4.164719 | O48: 2.333845 | P48: 2.2850098
B49: Yusuhara | C49: Mean | D49: 4.5157017 | E49: 2.7829475 | F49: 5.0569709 | G49: 4.7852761 | H49: 10.149894 | I49: 3.616257 | J49: 5.033267 | K49: 2.5881142 | L49: 3.782568 | M49: 4.1505528 | N49: 4.3558131 | O49: 2.8254632 | P49: 4.4437887
C50: % | D50: 100 | E50: 100 | F50: 100 | G50: 33.333333 | H50: 100 | I50: 100 | J50: 100 | K50: 100 | L50: 100 | M50: 100 | N50: 100 | O50: 100 | P50: 92.045455
C51: Max-2w | D51: 5.6831859 | E51: 3.8446899 | F51: 5.3849717 | G51: 4.7852761 | H51: 12.079367 | I51: 4.70337 | J51: 5.7613368 | K51: 3.5651927 | L51: 5.5998112 | M51: 5.0262548 | N51: 5.0640784 | O51: 3.5346276 | P51: 12.079367
C52: Min-2w | D52: 3.3482176 | E52: 1.7212052 | F52: 4.72897 | G52: 4.7852761 | H52: 8.2204211 | I52: 2.5291439 | J52: 4.3051972 | K52: 1.6110357 | L52: 1.9653248 | M52: 3.0415076 | N52: 3.6475479 | O52: 2.1162989 | P52: 1.6110357
B53: Hedo | C53: Mean | D53: 5.6312437 | E53: 3.3623972 | F53: 3.6258899 | G53: 6.7344142 | H53: 5.6884908 | I53: 2.280867 | J53: 1.4450118 | K53: 1.5609094 | L53: 2.2403325 | M53: 4.7064434 | N53: 5.2203886 | O53: 5.2933475 | P53: 4.2808132
C54: % | D54: 100 | E54: 100 | F54: 100 | G54: 100 | H54: 100 | I54: 100 | J54: 100 | K54: 100 | L54: 100 | M54: 64.285714 | N54: 100 | O54: 100 | P54: 95.821727
C55: Max-2w | D55: 5.9162277 | E55: 5.9379591 | F55: 6.7087204 | G55: 6.8939273 | H55: 8.9615841 | I55: 2.4410198 | J55: 1.6227731 | K55: 2.5370827 | L55: 3.4006219 | M55: 8.5651668 | N55: 6.569902 | O55: 5.4284299 | P55: 8.9615841
C56: Min-2w | D56: 5.3462598 | E56: 0.7868353 | F56: 0.54305936 | G56: 6.4330414 | H56: 2.4153975 | I56: 2.1207141 | J56: 1.2672506 | K56: 0.58473615 | L56: 1.0800432 | M56: 5.5541635 | N56: 3.8708751 | O56: 5.158265 | P56: 0.54305936
B57: Ogasawara | C57: Mean | D57: 3.8406564 | E57: 3.2345457 | F57: 3.9304486 | G57: 4.1251386 | H57: 0.88728135 | I57: 1.1180739 | J57: 0.8321041 | K57: 0.96398885 | L57: 1.1815424 | M57: 1.6857681 | N57: 3.5606833 | O57: 3.0299584 | P57: 2.4073572
C58: % | D58: 100 | E58: 100 | F58: 100 | G58: 100 | H58: 100 | I58: 100 | J58: 100 | K58: 100 | L58: 100 | M58: 100 | N58: 100 | O58: 100 | P58: 100
C59: Max-2w | D59: 4.4478731 | E59: 3.5341436 | F59: 5.4681183 | G59: 4.9233602 | H59: 1.7134398 | I59: 1.3359741 | J59: 0.90826912 | K59: 1.0177574 | L59: 1.2678406 | M59: 2.5776447 | N59: 4.0558042 | O59: 3.5981541 | P59: 5.4681183
C60: Min-2w | D60: 3.2334398 | E60: 2.9349478 | F60: 2.3927789 | G60: 2.7002864 | H60: 0.061122868 | I60: 0.90017371 | J60: 0.75593908 | K60: 0.91022029 | L60: 1.0952441 | M60: 1.2390946 | N60: 3.0655625 | O60: 2.4617627 | P60: 0.061122868
B61: Tokyo | C61: Mean | D61: 2.0035233 | E61: 3.2002066 | F61: 0.39520329 | G61: 3.2550205 | H61: 6.4011508 | I61: 3.257357 | J61: 5.866851 | K61: 3.0286017 | L61: 3.5431598 | M61: 2.8232222 | N61: 2.1778994 | O61: 1.7644854 | P61: 3.1350617
C62: % | D62: 100 | E62: 100 | F62: 100 | G62: 100 | H62: 100 | I62: 100 | J62: 100 | K62: 100 | L62: 100 | M62: 100 | N62: 100 | O62: 100 | P62: 100
C63: Max-2w | D63: 2.3809118 | E63: 3.7948769 | F63: 0.42246047 | G63: 4.6600442 | H63: 6.5776741 | I63: 3.3172124 | J63: 6.9552355 | K63: 3.3469741 | L63: 3.6854438 | M63: 3.3418062 | N63: 2.2249088 | O63: 1.9656396 | P63: 6.9552355
C64: Min-2w | D64: 1.6261347 | E64: 2.6055363 | F64: 0.36794611 | G64: 0.58244466 | H64: 6.2246275 | I64: 3.1975015 | J64: 4.7784665 | K64: 2.7102293 | L64: 3.4008758 | M64: 2.5206923 | N64: 2.13089 | O64: 1.5633313 | P64: 0.36794611
A65: Lao PDR | B65: Vientiane | C65: Mean
C66: %
C67: Max-2w
C68: Min-2w
A69: Malaysia | B69: Petaling Jaya | C69: Mean | D69: 1.7446898 | E69: 1.4819657 | F69: 3.7338522 | G69: 4.9675028 | H69: 4.1565162 | I69: - | J69: - | K69: - | L69: - | M69: - | N69: - | O69: - | P69: 3.2415218
C70: % | D70: 100 | E70: 100 | F70: 100 | G70: 100 | H70: 100 | I70: 0 | J70: 0 | K70: 0 | L70: 0 | M70: 0 | N70: 0 | O70: 0 | P70: 40.384615
C71: Max-w | D71: 2.5801716 | E71: 3.1738224 | F71: 8.0479068 | G71: 7.4456106 | H71: 5.0546772 | I71: - | J71: - | K71: - | L71: - | M71: - | N71: - | O71: - | P71: 8.0479068
C72: Min-w | D72: 0.0374634 | E72: 0.0701238 | F72: 0.8655006 | G72: 1.9759542 | H72: 2.6839164 | I72: - | J72: - | K72: - | L72: - | M72: - | N72: - | O72: - | P72: 0.0374634
B73: Tanah Rata | C73: Mean | D73: 0.5590692 | E73: 0.6738609 | F73: 1.181538 | G73: 0.8832717 | H73: 1.663519 | I73: 4.0871609 | J73: 1.8162544 | K73: 3.4270366 | L73: 1.5285548 | M73: 0.8412947 | N73: 0.307392 | O73: 0.533133 | P73: 1.5194513
C74: % | D74: 100 | E74: 100 | F74: 100 | G74: 100 | H74: 100 | I74: 100 | J74: 100 | K74: 100 | L74: 100 | M74: 100 | N74: 100 | O74: 100 | P74: 100
C75: Max-w | D75: 0.9625212 | E75: 0.926979 | F75: 2.2026558 | G75: 1.9384908 | H75: 2.6916012 | I75: 6.0316074 | J75: 3.3054246 | K75: 4.9009812 | L75: 3.0873684 | M75: 1.7665434 | N75: 0.5369754 | O75: 0.9826938 | P75: 6.0316074
C76: Min-w | D76: 0.2094108 | E76: 0.2238198 | F76: 0.124878 | G76: 0.1575384 | H76: 0.8241948 | I76: 1.551369 | J76: 0.979812 | K76: 0.730056 | L76: 0.341013 | M76: <0.01 | N76: 0.1354446 | O76: 0.1901988 | P76: <0.01
B77: Danum Valley | C77: Mean | D77: <0.01 | E77: <0.01 | F77: <0.01 | G77: - | H77: 0.0182514 | I77: 0.0562936 | J77: 0.24790047 | K77: 0.619587 | L77: 1.3088175 | M77: 1.3006524 | N77: 0.3016284 | O77: 0.4831818 | P77: 0.38010064
C78: % | D78: 66.666667 | E78: 100 | F78: 50 | G78: 0 | H78: 50 | I78: 100 | J78: 100 | K78: 100 | L78: 100 | M78: 50 | N78: 50 | O78: 50 | P78: 69.230769
C79: Max-2w | D79: <0.01 | E79: <0.01 | F79: <0.01 | G79: - | H79: 0.0182514 | I79: 0.1075872 | J79: 0.6368778 | K79: 0.619587 | L79: 2.5955412 | M79: 1.3006524 | N79: 0.3016284 | O79: 0.4831818 | P79: 2.5955412
C80: Min-2w | D80: <0.01 | E80: <0.01 | F80: <0.01 | G80: - | H80: 0.0182514 | I80: <0.01 | J80: <0.01 | K80: 0.619587 | L80: 0.0220938 | M80: 1.3006524 | N80: 0.3016284 | O80: 0.4831818 | P80: <0.01
A81: Mongolia | B81: Ulaanbaatar | C81: Mean
C82: %
C83: Max-w
C84: Min-w
B85: Terelj | C85: Mean
C86: %
C87: Max-2w
C88: Min-2w
A89: Myanmar | B89: Yangon | C89: Mean | D89: 5.9638222 | E89: 5.748145 | F89: 6.8196602 | G89: 3.6683745 | H89: 5.888293 | I89: - | J89: 1.5776822 | K89: 1.8095044 | L89: 2.8483243 | M89: 2.6719476 | N89: 2.3551112 | O89: <0.01 | P89: 3.5935453
C90: % | D90: 100 | E90: 100 | F90: 82.142857 | G90: 100 | H90: 100 | I90: 0 | J90: 100 | K90: 100 | L90: 100 | M90: 100 | N90: 100 | O90: 100 | P90: 90.934066
C91: Max-2w | D91: 6.3221884 | E91: 10.466531 | F91: 11.400838 | G91: 6.4756411 | H91: 6.3813421 | I91: - | J91: 2.5489808 | K91: 1.99887 | L91: 3.7329904 | M91: 4.882865 | N91: 4.5581331 | O91: <0.01 | P91: 11.400838
C92: Min-2w | D92: 5.5081379 | E92: 1.0297586 | F92: 2.238482 | G92: 0.86110789 | H92: 5.3952439 | I92: - | J92: 0.74151655 | K92: 1.6201387 | L92: 1.9636582 | M92: 0.46103017 | N92: 0.15208934 | O92: <0.01 | P92: <0.01
A93: Philippines | B93: Metro Manila | C93: Mean
C94: %
C95: Max-w
C96: Min-w
B97: Los Banos | C97: Mean
C98: %
C99: Max-w
C100: Min-w
A101: Philippines | B101: Mt. Sto. Tomas | C101: Mean | D101: - | E101: - | F101: - | G101: - | H101: - | I101: 0.12785714 | J101: 0.16474382 | K101: 0.067690613 | L101: 0.2448827 | M101: 0.28192971 | N101: 0.12448527 | O101: 0.035029059 | P101: 0.15105335
...

Sheet NO3-
A1: Table 4.14 Particulate matter component: NO3-
A3: Unit : mg/m3 | D3: ='SO2'!D3:O3 -> 2012 | P3: Annual
A4: Country | B4: Site | D4: Jan | E4: Feb | F4: Mar | G4: Apr | H4: May | I4: Jun | J4: Jul | K4: Aug | L4: Sep | M4: Oct | N4: Nov | O4: Dec
A5: Cambodia | B5: Phnom Penh | C5: Mean | D5: 1.7701001 | E5: 2.8237387 | F5: 1.7621002 | G5: 0.81620971 | H5: 0.81071772 | I5: 1.1475498 | J5: 0.84634036 | K5: 1.0968234 | L5: 0.70350391 | M5: 0.61915574 | N5: 0.88200741 | O5: 0.91262023 | P5: 1.2015638
C6: % | D6: 100 | E6: 100 | F6: 100 | G6: 100 | H6: 100 | I6: 100 | J6: 100 | K6: 100 | L6: 100 | M6: 100 | N6: 100 | O6: 100 | P6: 100
C7: Max-2w | D7: 2.0016916 | E7: 3.2959964 | F7: 2.9814638 | G7: 0.96300634 | H7: 0.95564572 | I7: 1.378427 | J7: 1.0033552 | K7: 1.4991578 | L7: 0.8701454 | M7: 0.64874188 | N7: 0.96060308 | O7: 1.1011504 | P7: 3.2959964
C8: Min-2w | D8: 1.5385087 | E8: 2.3514809 | F8: 0.96394236 | G8: 0.66941307 | H8: 0.66578972 | I8: 0.91667269 | J8: 0.68932554 | K8: 0.74913188 | L8: 0.53686241 | M8: 0.58956961 | N8: 0.80341174 | O8: 0.72409001 | P8: 0.53686241
A9: China | B9: Hongwen | C9: Mean
C10: %
C11: Max-2w
C12: Min-2w
A13: Indonesia | B13: Serpong | C13: Mean | D13: 0.28118941 | E13: 0.30028101 | F13: 0.59223426 | G13: 2.7378999 | H13: 0.93493221 | I13: 1.101277 | J13: 2.0721725 | K13: 1.9727724 | L13: 0.71575657 | M13: 1.6239781 | N13: 0.44733564 | O13: 0.11963354 | P13: 1.0909204
C14: % | D14: 96.551724 | E14: 100 | F14: 100 | G14: 100 | H14: 100 | I14: 100 | J14: 100 | K14: 100 | L14: 100 | M14: 100 | N14: 100 | O14: 91.176471 | P14: 98.927614
C15: Max-2w | D15: 0.44229076 | E15: 0.47671187 | F15: 0.91942934 | G15: 5.1335196 | H15: 1.1422641 | I15: 1.2770021 | J15: 2.6532986 | K15: 2.2494315 | L15: 1.0946118 | M15: 2.3461694 | N15: 0.8266355 | O15: 0.1274493 | P15: 5.1335196
C16: Min-2w | D16: 0.12008806 | E16: 0.12385014 | F16: 0.08465518 | G16: 0.34228014 | H16: 0.72760032 | I16: 0.92555196 | J16: 1.4910465 | K16: 1.8207574 | L16: 0.33690137 | M16: 0.9017867 | N16: 0.068035781 | O16: 0.11181778 | P16: 0.068035781
A17: Japan | B17: Rishiri | C17: Mean | D17: 0.17253226 | E17: 0.94138728 | F17: 0.79003967 | G17: 0.91860064 | H17: 1.0112598 | I17: 0.45237773 | J17: 0.33658513 | K17: 0.65332727 | L17: 0.62772294 | M17: 0.48222954 | N17: 0.42326214 | O17: 0.66778667 | P17: 0.63260429
C18: % | D18: 100 | E18: 100 | F18: 100 | G18: 100 | H18: 100 | I18: 100 | J18: 100 | K18: 100 | L18: 100 | M18: 100 | N18: 100 | O18: 100 | P18: 100
C19: Max-2w | D19: 0.1755836 | E19: 1.2057532 | F19: 0.8594259 | G19: 1.1137818 | H19: 1.64445 | I19: 0.54407472 | J19: 0.56816383 | K19: 0.86809041 | L19: 0.84443948 | M19: 0.71715774 | N19: 0.62000382 | O19: 1.0677837 | P19: 1.64445
C20: Min-2w | D20: 0.16948092 | E20: 0.67702137 | F20: 0.72065344 | G20: 0.72341944 | H20: 0.5971566 | I20: 0.36068075 | J20: 0.10500643 | K20: 0.43856413 | L20: 0.4110064 | M20: 0.2768171 | N20: 0.22652046 | O20: 0.26778961 | P20: 0.10500643
B21: Ochiishi | C21: Mean | D21: 0.35014249 | E21: 0.51881704 | F21: 0.7512561 | G21: 0.5248213 | H21: 0.38189455 | I21: 0.41782411 | J21: 0.25784502 | K21: 0.41440583 | L21: 0.58659532 | M21: 0.44367756 | N21: 0.084808746 | O21: 0.32362849 | P21: 0.42851956
C22: % | D22: 100 | E22: 100 | F22: 100 | G22: 100 | H22: 100 | I22: 100 | J22: 100 | K22: 100 | L22: 100 | M22: 100 | N22: 100 | O22: 100 | P22: 100
C23: Max-2w | D23: 0.36531129 | E23: 0.69662277 | F23: 0.92538483 | G23: 0.90259147 | H23: 0.72754282 | I23: 0.43968961 | J23: 0.38836557 | K23: 0.54459136 | L23: 0.85226166 | M23: 0.75584144 | N23: 0.084808746 | O23: 0.54375808 | P23: 0.92538483
C24: Min-2w | D24: 0.33497369 | E24: 0.34101132 | F24: 0.57712737 | G24: 0.14705113 | H24: 0.036246285 | I24: 0.39595862 | J24: 0.14581324 | K24: 0.2842203 | L24: 0.32092898 | M24: 0.13151367 | N24: 0.084808746 | O24: 0.10349889 | P24: 0.036246285
B25: Tappi | C25: Mean | D25: 0.46256281 | E25: 1.5273581 | F25: 1.1430791 | G25: 1.681664 | H25: 1.3534523 | I25: 0.51073373 | J25: 0.27040854 | K25: 0.85930299 | L25: 1.2758408 | M25: 0.78598241 | N25: 0.85613075 | O25: 1.1732082 | P25: 0.9834172
C26: % | D26: 100 | E26: 100 | F26: 100 | G26: 100 | H26: 66.666667 | I26: 100 | J26: 100 | K26: 100 | L26: 100 | M26: 100 | N26: 100 | O26: 100 | P26: 96.153846
C27: Max-2w | D27: 0.46377899 | E27: 1.5386051 | F27: 1.451188 | G27: 2.1349679 | H27: 1.5979045 | I27: 0.51145897 | J27: 0.35532418 | K27: 1.3708416 | L27: 1.3557888 | M27: 1.3781714 | N27: 1.1106534 | O27: 1.5182171 | P27: 2.1349679
C28: Min-2w | D28: 0.46134663 | E28: 1.5161112 | F28: 0.83497029 | G28: 1.2283601 | H28: 1.1090002 | I28: 0.5100085 | J28: 0.1854929 | K28: 0.34776437 | L28: 1.1958928 | M28: 0.1848042 | N28: 0.60160809 | O28: 0.82819931 | P28: 0.1848042
B29: Sado-seki | C29: Mean | D29: 0.57317792 | E29: 0.75850552 | F29: 0.90950046 | G29: 0.95097636 | H29: 1.411589 | I29: 0.82722872 | J29: 0.3897408 | K29: 1.2698118 | L29: 1.2085949 | M29: 1.0604123 | N29: 0.58968972 | O29: 0.73970878 | P29: 0.90332414
C30: % | D30: 100 | E30: 50 | F30: 100 | G30: 66.666667 | H30: 100 | I30: 100 | J30: 100 | K30: 100 | L30: 100 | M30: 100 | N30: 100 | O30: 100 | P30: 92.200557
C31: Max-2w | D31: 0.67136792 | E31: 0.75850552 | F31: 1.3459596 | G31: 1.2682266 | H31: 1.608255 | I31: 1.0075879 | J31: 0.57442572 | K31: 1.6416672 | L31: 1.2404949 | M31: 1.6866757 | N31: 0.72289243 | O31: 1.0020453 | P31: 1.6866757
C32: Min-2w | D32: 0.47498792 | E32: 0.75850552 | F32: 0.47304133 | G32: 0.63372608 | H32: 1.2149229 | I32: 0.64686951 | J32: 0.20505588 | K32: 0.8979564 | L32: 1.176695 | M32: 0.62814889 | N32: 0.456487 | O32: 0.47737224 | P32: 0.20505588
B33: Happo | C33: Mean | D33: 0.057966237 | E33: 0.047734766 | F33: 0.11206427 | G33: 1.0032797 | H33: 0.5778942 | I33: 0.14228814 | J33: - | K33: 0.26207211 | L33: 0.11410142 | M33: 0.39522183 | N33: 0.056613506 | O33: 0.076409915 | P33: 0.30579045
C34: % | D34: 100 | E34: 100 | F34: 100 | G34: 100 | H34: 100 | I34: 100 | J34: 0 | K34: 100 | L34: 100 | M34: 100 | N34: 100 | O34: 100 | P34: 92.200557
C35: Max-2w | D35: 0.059200406 | E35: 0.065841312 | F35: 0.1260445 | G35: 1.9659068 | H35: 1.0327141 | I35: 0.1951408 | J35: - | K35: 0.30013493 | L35: 0.1253413 | M35: 0.5128155 | N35: 0.056613506 | O35: 0.11059874 | P35: 1.9659068
C36: Min-2w | D36: 0.056732069 | E36: 0.02962822 | F36: 0.098084043 | G36: 0.32293575 | H36: 0.12307426 | I36: 0.089435491 | J36: - | K36: 0.22400929 | L36: 0.10286153 | M36: 0.16907873 | N36: 0.056613506 | O36: 0.042221094 | P36: 0.02962822
B37: Ijira | C37: Mean | D37: 0.21127422 | E37: 0.19919824 | F37: 0.37328466 | G37: 0.47615504 | H37: 0.26819117 | I37: 0.2230908 | J37: 0.067254034 | K37: 0.28736227 | L37: 0.21220356 | M37: 0.37099614 | N37: 0.074490731 | O37: 0.070020443 | P37: 0.25054592
C38: % | D38: 100 | E38: 100 | F38: 100 | G38: 100 | H38: 100 | I38: 100 | J38: 100 | K38: 100 | L38: 100 | M38: 100 | N38: 100 | O38: 100 | P38: 100
C39: Max-2w | D39: 0.21153348 | E39: 0.20932699 | F39: 0.39293627 | G39: 0.72796745 | H39: 0.33718706 | I39: 0.24163823 | J39: 0.10864918 | K39: 0.54472232 | L39: 0.28271756 | M39: 0.64425657 | N39: 0.14141354 | O39: 0.14004089 | P39: 0.72796745
C40: Min-2w | D40: 0.21101497 | E40: 0.1890695 | F40: 0.35363304 | G40: 0.054423553 | H40: 0.19919527 | I40: 0.20454338 | J40: 0.025858888 | K40: 0.030002222 | L40: 0.14168956 | M40: 0.099371497 | N40: <0.01 | O40: <0.01 | P40: <0.01
B41: Oki | C41: Mean | D41: 1.4603704 | E41: 2.2471475 | F41: 2.0161205 | G41: 2.6489817 | H41: 1.3625081 | I41: 1.2704545 | J41: 0.39409637 | K41: 1.2074904 | L41: 0.90000512 | M41: - | N41: - | O41: 1.4058123 | P41: 1.5144238
C42: % | D42: 100 | E42: 100 | F42: 100 | G42: 100 | H42: 100 | I42: 100 | J42: 100 | K42: 100 | L42: 50 | M42: 0 | N42: 0 | O42: 100 | P42: 77.173913
C43: Max-2w | D43: 1.9512381 | E43: 2.3302132 | F43: 2.4825012 | G43: 3.2200132 | H43: 2.6921046 | I43: 1.7990453 | J43: 0.53910713 | K43: 1.4297988 | L43: 0.90000512 | M43: - | N43: - | O43: 1.6664301 | P43: 3.2200132
C44: Min-2w | D44: 0.96950264 | E44: 2.1640819 | F44: 1.5497398 | G44: 2.0779503 | H44: 0.5163386 | I44: 0.74186368 | J44: 0.24908561 | K44: 0.98518207 | L44: 0.90000512 | M44: - | N44: - | O44: 1.1451945 | P44: 0.24908561
B45: Banryu | C45: Mean | D45: 3.4329729 | E45: 2.3593444 | F45: 2.18507 | G45: 2.2246481 | H45: 0.87394582 | I45: 0.84180543 | J45: 0.170516 | K45: 0.91751324 | L45: 0.92824468 | M45: 1.5587823 | N45: 2.1065766 | O45: 1.1794434 | P45: 1.5145584
C46: % | D46: 46.153846 | E46: 100 | F46: 100 | G46: 100 | H46: 100 | I46: 100 | J46: 100 | K46: 100 | L46: 100 | M46: 61.904762 | N46: 100 | O46: 100 | P46: 91.620112
C47: Max-2w | D47: 3.4329729 | E47: 2.4184614 | F47: 2.2032366 | G47: 3.6015682 | H47: 1.1600185 | I47: 1.0587159 | J47: 0.28076499 | K47: 0.93218763 | L47: 1.1089108 | M47: 1.6913519 | N47: 2.1508658 | O47: 1.3523449 | P47: 3.6015682
C48: Min-2w | D48: 3.4329729 | E48: 2.3002275 | F48: 2.1669034 | G48: 1.2721841 | H48: 0.58787316 | I48: 0.624895 | J48: 0.060267015 | K48: 0.90283884 | L48: 0.74757852 | M48: 1.4262128 | N48: 2.0622875 | O48: 1.0065419 | P48: 0.060267015
B49: Yusuhara | C49: Mean | D49: 0.93826984 | E49: 0.40531167 | F49: 0.69394887 | G49: 0.92311121 | H49: 0.26485563 | I49: 0.048327187 | J49: <0.01 | K49: <0.01 | L49: 0.050087336 | M49: 0.46138946 | N49: 1.0077223 | O49: 0.33924297 | P49: 0.40912694
C50: % | D50: 100 | E50: 100 | F50: 100 | G50: 33.333333 | H50: 100 | I50: 100 | J50: 100 | K50: 100 | L50: 100 | M50: 100 | N50: 100 | O50: 100 | P50: 92.045455
C51: Max-2w | D51: 1.3768424 | E51: 0.63933847 | F51: 1.0768564 | G51: 0.92311121 | H51: 0.4550844 | I51: 0.052747339 | J51: <0.01 | K51: 0.016235302 | L51: 0.090136857 | M51: 0.71576888 | N51: 1.2812692 | O51: 0.41852846 | P51: 1.3768424
C52: Min-2w | D52: 0.49969723 | E52: 0.17128488 | F52: 0.31104138 | G52: 0.92311121 | H52: 0.074626866 | I52: 0.043907035 | J52: <0.01 | K52: <0.01 | L52: 0.010037816 | M52: 0.32729008 | N52: 0.73417545 | O52: 0.25995749 | P52: <0.01
B53: Hedo | C53: Mean | D53: 1.3501075 | E53: 0.72081992 | F53: 1.312358 | G53: 2.397116 | H53: 1.1314278 | I53: 0.71079158 | J53: 0.44894325 | K53: 0.40447499 | L53: 0.66821541 | M53: 1.0689755 | N53: 2.1577409 | O53: 1.7681423 | P53: 1.2697727
C54: % | D54: 100 | E54: 100 | F54: 100 | G54: 100 | H54: 100 | I54: 100 | J54: 100 | K54: 100 | L54: 100 | M54: 64.285714 | N54: 100 | O54: 100 | P54: 95.821727
C55: Max-2w | D55: 1.4665006 | E55: 1.1857556 | F55: 2.4186757 | G55: 3.2857913 | H55: 1.5888294 | I55: 0.72534221 | J55: 0.58961167 | K55: 0.76693959 | L55: 0.7690025 | M55: 1.9404409 | N55: 2.9733983 | O55: 2.0601094 | P55: 3.2857913
C56: Min-2w | D56: 1.2337143 | E56: 0.25588424 | F56: 0.20604028 | G56: 1.6593469 | H56: 0.67402623 | I56: 0.69624094 | J56: 0.30827483 | K56: 0.042010389 | L56: 0.56742832 | M56: 1.2664855 | N56: 1.3420836 | O56: 1.4761751 | P56: 0.042010389
B57: Ogasawara | C57: Mean | D57: 0.74000305 | E57: 0.626108 | F57: 1.0301035 | G57: 0.94428161 | H57: 0.055850467 | I57: 0.16863427 | J57: 0.13527079 | K57: 0.11014178 | L57: 0.27352875 | M57: 0.42123912 | N57: 0.97369273 | O57: 0.73354364 | P57: 0.53039678
C58: % | D58: 100 | E58: 100 | F58: 100 | G58: 100 | H58: 100 | I58: 100 | J58: 100 | K58: 100 | L58: 100 | M58: 100 | N58: 100 | O58: 100 | P58: 100
C59: Max-2w | D59: 0.89090155 | E59: 0.65079323 | F59: 1.3969311 | G59: 1.4721287 | H59: 0.11170093 | I59: 0.19389442 | J59: 0.1393849 | K59: 0.12798278 | L59: 0.30282631 | M59: 0.82449874 | N59: 1.1205199 | O59: 0.93007826 | P59: 1.4721287
C60: Min-2w | D60: 0.58910455 | E60: 0.60142277 | F60: 0.66327603 | G60: 0.57247262 | H60: <0.01 | I60: 0.14337413 | J60: 0.13115667 | K60: 0.092300786 | L60: 0.24423119 | M60: 0.084881812 | N60: 0.82686553 | O60: 0.53700901 | P60: <0.01
B61: Tokyo | C61: Mean | D61: 3.0465584 | E61: 4.3994147 | F61: 0.24115704 | G61: 3.0570818 | H61: 2.9825192 | I61: 2.9151393 | J61: 1.8034933 | K61: 3.0137112 | L61: 2.4930019 | M61: 2.9386882 | N61: 3.0830131 | O61: 2.4880186 | P61: 2.7276678
C62: % | D62: 100 | E62: 100 | F62: 100 | G62: 100 | H62: 100 | I62: 100 | J62: 100 | K62: 100 | L62: 100 | M62: 100 | N62: 100 | O62: 100 | P62: 100
C63: Max-2w | D63: 3.416223 | E63: 5.2762196 | F63: 0.33565674 | G63: 5.6361439 | H63: 3.3591328 | I63: 3.0292028 | J63: 2.4653529 | K63: 3.3905358 | L63: 2.5293019 | M63: 3.3868577 | N63: 3.8318321 | O63: 2.6663214 | P63: 5.6361439
C64: Min-2w | D64: 2.6768938 | E64: 3.5226097 | F64: 0.14665735 | G64: 0.34871617 | H64: 2.6059055 | I64: 2.8010759 | J64: 1.1416336 | K64: 2.6368867 | L64: 2.4567018 | M64: 2.6204427 | N64: 2.3341942 | O64: 2.3097158 | P64: 0.14665735
A65: Lao PDR | B65: Vientiane | C65: Mean
C66: %
C67: Max-2w
C68: Min-2w
A69: Malaysia | B69: Petaling Jaya | C69: Mean | D69: 1.0403826 | E69: 0.7403994 | F69: 1.6343356 | G69: 1.2130706 | H69: 1.4305707 | I69: - | J69: - | K69: - | L69: - | M69: - | N69: - | O69: - | P69: 1.2318748
C70: % | D70: 100 | E70: 100 | F70: 100 | G70: 100 | H70: 100 | I70: 0 | J70: 0 | K70: 0 | L70: 0 | M70: 0 | N70: 0 | O70: 0 | P70: 40.384615
C71: Max-w | D71: 1.8082116 | E71: 1.903707 | F71: 2.5194663 | G71: 1.3933647 | H71: 1.8801432 | I71: - | J71: - | K71: - | L71: - | M71: - | N71: - | O71: - | P71: 2.5194663
C72: Min-w | D72: <0.01 | E72: 0.0892944 | F72: 0.4390308 | G72: 1.0523097 | H72: 1.1261016 | I72: - | J72: - | K72: - | L72: - | M72: - | N72: - | O72: - | P72: <0.01
B73: Tanah Rata | C73: Mean | D73: 0.12246975 | E73: 0.0812331 | F73: 0.1202994 | G73: 0.019068075 | H73: 0.043872075 | I73: 0.61972794 | J73: 0.19796693 | K73: 0.37119186 | L73: 0.2573415 | M73: 0.024038675 | N73: 0.02492802 | O73: 0.12107453 | P73: 0.1759422
C74: % | D74: 100 | E74: 100 | F74: 100 | G74: 100 | H74: 100 | I74: 100 | J74: 100 | K74: 100 | L74: 100 | M74: 100 | N74: 100 | O74: 100 | P74: 100
C75: Max-w | D75: 0.2424591 | E75: 0.2207556 | F75: 0.3199716 | G75: 0.0297648 | H75: 0.0781326 | I75: 1.7418609 | J75: 0.2523807 | K75: 1.1068785 | L75: 0.3615183 | M75: 0.0663507 | N75: 0.0384462 | O75: 0.1661868 | P75: 1.7418609
C76: Min-w | D76: 0.0179829 | E76: 0.0148824 | F76: 0.0142623 | G76: 0.0105417 | H76: 0.0217035 | I76: 0.0942552 | J76: 0.1078974 | K76: 0.0390663 | L76: 0.1562652 | M76: <0.01 | N76: 0.0198432 | O76: 0.0775125 | P76: <0.01
B77: Danum Valley | C77: Mean | D77: <0.01 | E77: <0.01 | F77: <0.01 | G77: - | H77: <0.01 | I77: 0.07288135 | J77: 0.029364467 | K77: <0.01 | L77: 0.46042425 | M77: <0.01 | N77: 0.0341055 | O77: 0.1891305 | P77: 0.079084528
C78: % | D78: 66.666667 | E78: 100 | F78: 50 | G78: 0 | H78: 50 | I78: 100 | J78: 100 | K78: 100 | L78: 100 | M78: 50 | N78: 50 | O78: 50 | P78: 69.230769
C79: Max-2w | D79: <0.01 | E79: <0.01 | F79: <0.01 | G79: - | H79: <0.01 | I79: 0.1407627 | J79: 0.0775125 | K79: <0.01 | L79: 0.7149753 | M79: <0.01 | N79: 0.0341055 | O79: 0.1891305 | P79: 0.7149753
C80: Min-2w | D80: <0.01 | E80: <0.01 | F80: <0.01 | G80: - | H80: <0.01 | I80: <0.01 | J80: <0.01 | K80: <0.01 | L80: 0.2058732 | M80: <0.01 | N80: 0.0341055 | O80: 0.1891305 | P80: <0.01
A81: Mongolia | B81: Ulaanbaatar | C81: Mean
C82: %
C83: Max-w
C84: Min-w
B85: Terelj | C85: Mean
C86: %
C87: Max-2w
C88: Min-2w
A89: Myanmar | B89: Yangon | C89: Mean | D89: 1.718899 | E89: 1.1039087 | F89: 2.2147766 | G89: 0.18268364 | H89: 0.52190727 | I89: - | J89: 0.21929639 | K89: 0.42647743 | L89: 0.97475278 | M89: 0.57725465 | N89: 1.1502947 | O89: 0.93510507 | P89: 0.91620449
C90: % | D90: 100 | E90: 100 | F90: 82.142857 | G90: 100 | H90: 100 | I90: 0 | J90: 100 | K90: 100 | L90: 100 | M90: 100 | N90: 100 | O90: 100 | P90: 90.934066
C91: Max-2w | D91: 2.7888178 | E91: 1.9878621 | F91: 3.473468 | G91: 0.36536727 | H91: 1.0269252 | I91: - | J91: 0.63959088 | K91: 0.69104943 | L91: 1.0386269 | M91: 1.0635944 | N91: 2.1721787 | O91: 1.7423701 | P91: 3.473468
C92: Min-2w | D92: 0.034465543 | E92: 0.21995531 | F92: 0.95608529 | G92: <0.01 | H92: 0.016889304 | I92: - | J92: <0.01 | K92: 0.16190542 | L92: 0.91087865 | M92: 0.090914934 | N92: 0.12841076 | O92: 0.12784008 | P92: <0.01
A93: Philippines | B93: Metro Manila | C93: Mean
C94: %
C95: Max-w
C96: Min-w
B97: Los Banos | C97: Mean
C98: %
C99: Max-w
C100: Min-w
A101: Philippines | B101: Mt. Sto. Tomas | C101: Mean | D101: - | E101: - | F101: - | G101: - | H101: - | I101: 0.19511311 | J101: 0.24923829 | K101: 0.20656826 | L101: 0.30613443 | M101: 0.16761921 | N101: 0.12894905 | O101: 0.076109379 | P101: 0.18702064
...

Sheet Cl-
A1: Table 4.15 Particulate matter component: Cl-
A3: Unit : mg/m3 | D3: ='SO2'!D3:O3 -> 2012 | P3: Annual
A4: Country | B4: Site | D4: Jan | E4: Feb | F4: Mar | G4: Apr | H4: May | I4: Jun | J4: Jul | K4: Aug | L4: Sep | M4: Oct | N4: Nov | O4: Dec
A5: Cambodia | B5: Phnom Penh | C5: Mean | D5: 0.17287166 | E5: 0.33357848 | F5: 0.31863649 | G5: 0.16006894 | H5: 0.14194579 | I5: 0.42460494 | J5: 0.34040841 | K5: 0.30175277 | L5: 0.12025739 | M5: 0.17686603 | N5: 0.16842292 | O5: 0.15077121 | P5: 0.24002921
C6: % | D6: 100 | E6: 100 | F6: 100 | G6: 100 | H6: 100 | I6: 100 | J6: 100 | K6: 100 | L6: 100 | M6: 100 | N6: 100 | O6: 100 | P6: 100
C7: Max-2w | D7: 0.24415074 | E7: 0.38822422 | F7: 0.58811574 | G7: 0.16477701 | H7: 0.15451995 | I7: 0.52398389 | J7: 0.41290337 | K7: 0.3801266 | L7: 0.12502275 | M7: 0.17716088 | N7: 0.16960203 | O7: 0.21257239 | P7: 0.58811574
C8: Min-2w | D8: 0.10159259 | E8: 0.27893275 | F8: 0.16493717 | G8: 0.15536088 | H8: 0.12937162 | I8: 0.32522599 | J8: 0.26791345 | K8: 0.23573602 | L8: 0.11549203 | M8: 0.17657117 | N8: 0.16724381 | O8: 0.088970038 | P8: 0.088970038
A9: China | B9: Hongwen | C9: Mean
C10: %
C11: Max-2w
C12: Min-2w
A13: Indonesia | B13: Serpong | C13: Mean | D13: 0.23648066 | E13: 0.18890745 | F13: 0.095861974 | G13: 0.37448247 | H13: 0.083832199 | I13: 0.12376415 | J13: 0.19193674 | K13: 0.20054212 | L13: 0.23485156 | M13: 0.1169902 | N13: 0.077418704 | O13: 0.060156596 | P13: 0.16410976
C14: % | D14: 96.551724 | E14: 100 | F14: 100 | G14: 100 | H14: 100 | I14: 100 | J14: 100 | K14: 100 | L14: 100 | M14: 100 | N14: 100 | O14: 91.176471 | P14: 98.927614
C15: Max-2w | D15: 0.4044432 | E15: 0.3329666 | F15: 0.1475604 | G15: 0.712104 | H15: 0.11872325 | I15: 0.16595843 | J15: 0.28882979 | K15: 0.22635581 | L15: 0.27550651 | M15: 0.13186639 | N15: 0.11194528 | O15: 0.07458246 | P15: 0.712104
C16: Min-2w | D16: 0.068518118 | E16: 0.044848304 | F16: 0.065726071 | G16: 0.036860938 | H16: 0.048941144 | I16: 0.081569861 | J16: 0.095043692 | K16: 0.17315397 | L16: 0.19419661 | M16: 0.102114 | N16: 0.042892123 | O16: 0.045730733 | P16: 0.036860938
A17: Japan | B17: Rishiri | C17: Mean | D17: 0.75553937 | E17: 1.9472882 | F17: 2.4702915 | G17: 2.8592889 | H17: 1.3696188 | I17: 0.14572726 | J17: 0.32702827 | K17: 0.92705522 | L17: 2.4400554 | M17: 4.0320347 | N17: 2.5192649 | O17: 2.7473023 | P17: 1.9416401
C18: % | D18: 100 | E18: 100 | F18: 100 | G18: 100 | H18: 100 | I18: 100 | J18: 100 | K18: 100 | L18: 100 | M18: 100 | N18: 100 | O18: 100 | P18: 100
C19: Max-2w | D19: 0.96160973 | E19: 1.9713677 | F19: 3.6155577 | G19: 3.1954414 | H19: 2.9783246 | I19: 0.21943754 | J19: 0.57467958 | K19: 1.4326468 | L19: 3.3776749 | M19: 7.4027002 | N19: 3.0307657 | O19: 4.6619419 | P19: 7.4027002
C20: Min-2w | D20: 0.54946901 | E20: 1.9232088 | F20: 1.3250252 | G20: 2.5231363 | H20: 0.52518186 | I20: 0.072016981 | J20: 0.079376961 | K20: 0.42146361 | L20: 1.5024359 | M20: 2.1568107 | N20: 2.007764 | O20: 0.83266272 | P20: 0.072016981
B21: Ochiishi | C21: Mean | D21: 4.483728 | E21: 3.7628192 | F21: 5.2749157 | G21: 2.3111772 | H21: 1.8564954 | I21: 1.4674225 | J21: 0.64242839 | K21: 0.51119042 | L21: 3.6930464 | M21: 6.2670353 | N21: 1.4101698 | O21: 5.3898182 | P21: 3.057198
C22: % | D22: 100 | E22: 100 | F22: 100 | G22: 100 | H22: 100 | I22: 100 | J22: 100 | K22: 100 | L22: 100 | M22: 100 | N22: 100 | O22: 100 | P22: 100
C23: Max-2w | D23: 5.001885 | E23: 7.491408 | F23: 5.6197757 | G23: 2.5328117 | H23: 1.9837686 | I23: 1.6615366 | J23: 0.90629566 | K23: 0.69110482 | L23: 5.0461795 | M23: 8.5587137 | N23: 1.4101698 | O23: 8.2148612 | P23: 8.5587137
C24: Min-2w | D24: 3.9655711 | E24: 0.034230303 | F24: 4.9300557 | G24: 2.0895426 | H24: 1.7292223 | I24: 1.2733084 | J24: 0.15575954 | K24: 0.33127602 | L24: 2.3399133 | M24: 3.975357 | N24: 1.4101698 | O24: 2.5647751 | P24: 0.034230303
B25: Tappi | C25: Mean | D25: 6.190518 | E25: 8.1449201 | F25: 6.3440993 | G25: 9.4329569 | H25: 1.1584058 | I25: 0.22285494 | J25: 0.59464866 | K25: 0.27908605 | L25: 1.083819 | M25: 7.3148271 | N25: 19.215818 | O25: 38.188445 | P25: 8.1462249
C26: % | D26: 100 | E26: 100 | F26: 100 | G26: 100 | H26: 66.666667 | I26: 100 | J26: 100 | K26: 100 | L26: 100 | M26: 100 | N26: 100 | O26: 100 | P26: 96.153846
C27: Max-2w | D27: 7.7079817 | E27: 9.0349141 | F27: 8.9612575 | G27: 16.893745 | H27: 1.4039901 | I27: 0.26846168 | J27: 1.0993614 | K27: 0.34919805 | L27: 1.1160804 | M27: 12.930543 | N27: 32.869344 | O27: 59.003803 | P27: 59.003803
C28: Min-2w | D28: 4.6730542 | E28: 7.254926 | F28: 3.7269411 | G28: 1.9721688 | H28: 0.91282147 | I28: 0.17724821 | J28: 0.08993595 | K28: 0.20897406 | L28: 1.0515575 | M28: 2.0187087 | N28: 5.5622915 | O28: 17.373087 | P28: 0.08993595
B29: Sado-seki | C29: Mean | D29: 3.8813706 | E29: 8.6917459 | F29: 5.3753557 | G29: 0.95182402 | H29: 0.62479061 | I29: 0.91949915 | J29: 0.24624896 | K29: 0.50270357 | L29: 0.77412497 | M29: 4.2239647 | N29: 5.9866953 | O29: 6.2876735 | P29: 3.0193422
C30: % | D30: 100 | E30: 50 | F30: 100 | G30: 66.666667 | H30: 100 | I30: 100 | J30: 100 | K30: 100 | L30: 100 | M30: 100 | N30: 100 | O30: 100 | P30: 92.200557
C31: Max-2w | D31: 3.903701 | E31: 8.6917459 | F31: 6.1997455 | G31: 1.0403592 | H31: 1.0352288 | I31: 1.6825429 | J31: 0.48189652 | K31: 0.69077612 | L31: 1.005476 | M31: 5.5507246 | N31: 8.5514197 | O31: 7.098338 | P31: 8.6917459
C32: Min-2w | D32: 3.8590403 | E32: 8.6917459 | F32: 4.5509659 | G32: 0.86328887 | H32: 0.21435242 | I32: 0.15645543 | J32: 0.010601399 | K32: 0.31463102 | L32: 0.54277392 | M32: 1.9712989 | N32: 3.4219709 | O32: 5.4770091 | P32: 0.010601399
B33: Happo | C33: Mean | D33: <0.01 | E33: <0.01 | F33: <0.01 | G33: 0.059443945 | H33: 0.010196369 | I33: <0.01 | J33: - | K33: 0.042444016 | L33: 0.01756044 | M33: 0.038346005 | N33: <0.01 | O33: <0.01 | P33: 0.021156259
C34: % | D34: 100 | E34: 100 | F34: 100 | G34: 100 | H34: 100 | I34: 100 | J34: 0 | K34: 100 | L34: 100 | M34: 100 | N34: 100 | O34: 100 | P34: 92.200557
C35: Max-2w | D35: 0.010659005 | E35: <0.01 | F35: <0.01 | G35: 0.14051164 | H35: 0.012054572 | I35: 0.011575128 | J35: - | K35: 0.065206283 | L35: 0.025496461 | M35: 0.074631143 | N35: <0.01 | O35: <0.01 | P35: 0.14051164
C36: Min-2w | D36: <0.01 | E36: <0.01 | F36: <0.01 | G36: 0.014141106 | H36: <0.01 | I36: <0.01 | J36: - | K36: 0.01968175 | L36: <0.01 | M36: 0.014435887 | N36: <0.01 | O36: <0.01 | P36: <0.01
B37: Ijira | C37: Mean | D37: 0.021555434 | E37: 0.010992667 | F37: 0.065638099 | G37: 0.030109442 | H37: 0.011619563 | I37: <0.01 | J37: <0.01 | K37: <0.01 | L37: 0.018882771 | M37: 0.040282265 | N37: 0.022017544 | O37: 0.01315801 | P37: 0.022482102
C38: % | D38: 100 | E38: 100 | F38: 100 | G38: 100 | H38: 100 | I38: 100 | J38: 100 | K38: 100 | L38: 100 | M38: 100 | N38: 100 | O38: 100 | P38: 100
C39: Max-2w | D39: 0.037582091 | E39: 0.017354205 | F39: 0.089177026 | G39: 0.059654183 | H39: 0.018356888 | I39: <0.01 | J39: 0.015786633 | K39: 0.010050227 | L39: 0.025791778 | M39: 0.047876901 | N39: 0.042143107 | O39: 0.023954362 | P39: 0.089177026
C40: Min-2w | D40: <0.01 | E40: <0.01 | F40: 0.042099171 | G40: <0.01 | H40: <0.01 | I40: <0.01 | J40: <0.01 | K40: <0.01 | L40: 0.011973765 | M40: 0.036308816 | N40: <0.01 | O40: <0.01 | P40: <0.01
B41: Oki | C41: Mean | D41: 4.6373117 | E41: 5.8872856 | F41: 4.7194879 | G41: 10.651792 | H41: 0.4880694 | I41: 1.3217728 | J41: 0.1369781 | K41: 0.95184063 | L41: 1.154009 | M41: - | N41: - | O41: 12.421224 | P41: 4.2036802
C42: % | D42: 100 | E42: 100 | F42: 100 | G42: 100 | H42: 100 | I42: 100 | J42: 100 | K42: 100 | L42: 50 | M42: 0 | N42: 0 | O42: 100 | P42: 77.173913
C43: Max-2w | D43: 4.9281283 | E43: 6.7636651 | F43: 5.3599002 | G43: 19.605593 | H43: 1.0623081 | I43: 2.1692968 | J43: 0.23063695 | K43: 1.1958591 | L43: 1.154009 | M43: - | N43: - | O43: 15.879359 | P43: 19.605593
C44: Min-2w | D44: 4.346495 | E44: 5.0109062 | F44: 4.0790756 | G44: 1.6979913 | H44: 0.077449209 | I44: 0.47424871 | J44: 0.043319253 | K44: 0.70782215 | L44: 1.154009 | M44: - | N44: - | O44: 8.9630896 | P44: 0.043319253
B45: Banryu | C45: Mean | D45: 1.0332878 | E45: 2.1386556 | F45: 1.6176964 | G45: 1.0811145 | H45: 0.14589363 | I45: 0.36221651 | J45: 0.025183611 | K45: 0.26985192 | L45: 0.17639461 | M45: 1.4615447 | N45: 1.6212981 | O45: 1.9343256 | P45: 0.99094803
C46: % | D46: 46.153846 | E46: 100 | F46: 100 | G46: 100 | H46: 100 | I46: 100 | J46: 100 | K46: 100 | L46: 100 | M46: 61.904762 | N46: 100 | O46: 100 | P46: 91.620112
C47: Max-2w | D47: 1.0332878 | E47: 2.4009431 | F47: 1.644115 | G47: 2.4405356 | H47: 0.20368159 | I47: 0.59527591 | J47: 0.032095233 | K47: 0.31647113 | L47: 0.178521 | M47: 1.690492 | N47: 1.9557924 | O47: 2.4492856 | P47: 2.4492856
C48: Min-2w | D48: 1.0332878 | E48: 1.8763681 | F48: 1.5912778 | G48: 0.13413255 | H48: 0.088105671 | I48: 0.1291571 | J48: 0.018271988 | K48: 0.22323271 | L48: 0.17426821 | M48: 1.2325973 | N48: 1.2868039 | O48: 1.4193656 | P48: 0.018271988
B49: Yusuhara | C49: Mean | D49: 0.047313862 | E49: 1.4905621 | F49: 0.084643759 | G49: 0.032373108 | H49: 0.011031818 | I49: <0.01 | J49: <0.01 | K49: 0.063041594 | L49: 0.019183363 | M49: 0.063124491 | N49: 0.17204086 | O49: 0.059653721 | P49: 0.17212071
C50: % | D50: 100 | E50: 100 | F50: 100 | G50: 33.333333 | H50: 100 | I50: 100 | J50: 100 | K50: 100 | L50: 100 | M50: 100 | N50: 100 | O50: 100 | P50: 92.045455
C51: Max-2w | D51: 0.062824333 | E51: 2.9811243 | F51: 0.15020402 | G51: 0.032373108 | H51: 0.017022616 | I51: <0.01 | J51: 0.014208263 | K51: 0.086540765 | L51: 0.036573428 | M51: 0.12618297 | N51: 0.24667687 | O51: 0.063122576 | P51: 2.9811243
C52: Min-2w | D52: 0.03180339 | E52: <0.01 | F52: 0.0190835 | G52: 0.032373108 | H52: <0.01 | I52: <0.01 | J52: <0.01 | K52: 0.039542423 | L52: <0.01 | M52: 0.023091603 | N52: 0.097404863 | O52: 0.056184866 | P52: <0.01
B53: Hedo | C53: Mean | D53: 6.4720061 | E53: 3.4032628 | F53: 3.0065418 | G53: 4.973157 | H53: 3.9936983 | I53: 5.1288199 | J53: 4.047009 | K53: 5.4008262 | L53: 3.2281594 | M53: 13.960306 | N53: 5.1652515 | O53: 7.0608125 | P53: 6.0245266
C54: % | D54: 100 | E54: 100 | F54: 100 | G54: 100 | H54: 100 | I54: 100 | J54: 100 | K54: 100 | L54: 100 | M54: 64.285714 | N54: 100 | O54: 100 | P54: 95.821727
C55: Max-2w | D55: 7.7417993 | E55: 5.4579698 | F55: 5.6323982 | G55: 9.4547416 | H55: 6.3427626 | I55: 5.5855093 | J55: 4.7470787 | K55: 7.4896732 | L55: 4.0743998 | M55: 37.256773 | N55: 5.8855222 | O55: 7.285677 | P55: 37.256773
C56: Min-2w | D56: 5.2022129 | E56: 1.3485559 | F56: 0.38068547 | G56: 2.7262857 | H56: 1.6446339 | I56: 4.6721306 | J56: 3.3469394 | K56: 3.3119793 | L56: 2.3819189 | M56: 4.6241448 | N56: 4.4449807 | O56: 6.8359481 | P56: 0.38068547
B57: Ogasawara | C57: Mean | D57: 3.7675057 | E57: 3.0055595 | F57: 3.9425624 | G57: 3.5866691 | H57: 0.87494886 | I57: 1.5174155 | J57: 3.1289573 | K57: 4.9060052 | L57: 4.5656472 | M57: 5.0906861 | N57: 3.7539628 | O57: 3.6157426 | P57: 3.5457185
C58: % | D58: 100 | E58: 100 | F58: 100 | G58: 100 | H58: 100 | I58: 100 | J58: 100 | K58: 100 | L58: 100 | M58: 100 | N58: 100 | O58: 100 | P58: 100
C59: Max-2w | D59: 4.5949489 | E59: 3.4523726 | F59: 4.2603939 | G59: 5.3252162 | H59: 1.7364311 | I59: 2.1640736 | J59: 3.8429672 | K59: 5.491996 | L59: 4.634053 | M59: 6.3859826 | N59: 4.0810723 | O59: 4.2076361 | P59: 6.3859826
C60: Min-2w | D60: 2.9400625 | E60: 2.5587464 | F60: 3.6247309 | G60: 1.1662456 | H60: 0.013466647 | I60: 0.87075743 | J60: 2.4149474 | K60: 4.3200144 | L60: 4.4972414 | M60: 3.5881027 | N60: 3.4268532 | O60: 3.0238491 | P60: 0.013466647
B61: Tokyo | C61: Mean | D61: 0.81942659 | E61: 0.7173579 | F61: 0.018579528 | G61: 0.55471573 | H61: 0.081655869 | I61: 0.27135324 | J61: 0.19101003 | K61: 0.37780274 | L61: 0.40246909 | M61: 0.83443895 | N61: 0.7723141 | O61: 0.67608996 | P61: 0.4932147
C62: % | D62: 100 | E62: 100 | F62: 100 | G62: 100 | H62: 100 | I62: 100 | J62: 100 | K62: 100 | L62: 100 | M62: 100 | N62: 100 | O62: 100 | P62: 100
C63: Max-2w | D63: 0.902986 | E63: 0.73617322 | F63: 0.019560653 | G63: 1.0852951 | H63: 0.082641413 | I63: 0.311838 | J63: 0.30692452 | K63: 0.4424165 | L63: 0.69930855 | M63: 1.0610747 | N63: 1.217668 | O63: 0.80120987 | P63: 1.217668
C64: Min-2w | D64: 0.73586719 | E64: 0.69854257 | F64: 0.017598404 | G64: 0.15724211 | H64: 0.080670326 | I64: 0.23086848 | J64: 0.075095535 | K64: 0.31318897 | L64: 0.10562963 | M64: 0.67920084 | N64: 0.32696023 | O64: 0.55097005 | P64: 0.017598404
A65: Lao PDR | B65: Vientiane | C65: Mean
C66: %
C67: Max-2w
C68: Min-2w
A69: Malaysia | B69: Petaling Jaya | C69: Mean | D69: 0.10804313 | E69: 0.040413 | F69: 0.092879 | G69: 0.13834363 | H69: 0.26578638 | I69: - | J69: - | K69: - | L69: - | M69: - | N69: - | O69: - | P69: 0.12736855
C70: % | D70: 100 | E70: 100 | F70: 100 | G70: 100 | H70: 100 | I70: 0 | J70: 0 | K70: 0 | L70: 0 | M70: 0 | N70: 0 | O70: 0 | P70: 40.384615
C71: Max-w | D71: 0.1967475 | E71: 0.1159215 | F71: 0.243187 | G71: 0.174414 | H71: 0.292817 | I71: - | J71: - | K71: - | L71: - | M71: - | N71: - | O71: - | P71: 0.292817
C72: Min-w | D72: <0.01 | E72: <0.01 | F72: 0.0202065 | G72: 0.0989055 | H72: 0.231843 | I72: - | J72: - | K72: - | L72: - | M72: - | N72: - | O72: - | P72: <0.01
B73: Tanah Rata | C73: Mean | D73: 0.055399875 | E73: 0.0350955 | F73: 0.0259568 | G73: 0.01435725 | H73: 0.035184125 | I73: 0.0573581 | J73: 0.0164935 | K73: 0.031196 | L73: <0.01 | M73: 0.015695875 | N73: <0.01 | O73: 0.095449125 | P73: 0.032949058
C74: % | D74: 100 | E74: 100 | F74: 100 | G74: 100 | H74: 100 | I74: 100 | J74: 100 | K74: 100 | L74: 100 | M74: 100 | N74: 100 | O74: 100 | P74: 100
C75: Max-w | D75: 0.1435725 | E75: 0.1017415 | F75: 0.061683 | G75: 0.014889 | H75: 0.0421855 | I75: 0.1513715 | J75: 0.0308415 | K75: 0.0740905 | L75: 0.0159525 | M75: 0.029069 | N75: 0.019143 | O75: 0.121239 | P75: 0.1513715
C76: Min-w | D76: <0.01 | E76: <0.01 | F76: <0.01 | G76: 0.0138255 | H76: 0.0287145 | I76: 0.014889 | J76: <0.01 | K76: <0.01 | L76: <0.01 | M76: <0.01 | N76: <0.01 | O76: 0.0655825 | P76: <0.01
B77: Danum Valley | C77: Mean | D77: <0.01 | E77: 0.0223335 | F77: <0.01 | G77: - | H77: <0.01 | I77: 0.02641025 | J77: <0.01 | K77: <0.01 | L77: 0.03741825 | M77: <0.01 | N77: <0.01 | O77: 0.185758 | P77: 0.022527194
C78: % | D78: 66.666667 | E78: 100 | F78: 50 | G78: 0 | H78: 50 | I78: 100 | J78: 100 | K78: 100 | L78: 100 | M78: 50 | N78: 50 | O78: 50 | P78: 69.230769
C79: Max-2w | D79: <0.01 | E79: 0.0223335 | F79: <0.01 | G79: - | H79: <0.01 | I79: 0.0450215 | J79: <0.01 | K79: <0.01 | L79: 0.0698365 | M79: <0.01 | N79: <0.01 | O79: 0.185758 | P79: 0.185758
C80: Min-2w | D80: <0.01 | E80: 0.0223335 | F80: <0.01 | G80: - | H80: <0.01 | I80: <0.01 | J80: <0.01 | K80: <0.01 | L80: <0.01 | M80: <0.01 | N80: <0.01 | O80: 0.185758 | P80: <0.01
A81: Mongolia | B81: Ulaanbaatar | C81: Mean
C82: %
C83: Max-w
C84: Min-w
B85: Terelj | C85: Mean
C86: %
C87: Max-2w
C88: Min-2w
A89: Myanmar | B89: Yangon | C89: Mean | D89: 0.77488911 | E89: 0.65015966 | F89: 0.63044514 | G89: 0.53745534 | H89: 0.59920117 | I89: - | J89: 1.0934903 | K89: 0.47794477 | L89: 0.3231068 | M89: 0.26312646 | N89: 0.21610136 | O89: 0.17819966 | P89: 0.55652579
C90: % | D90: 100 | E90: 100 | F90: 82.142857 | G90: 100 | H90: 100 | I90: 0 | J90: 100 | K90: 100 | L90: 100 | M90: 100 | N90: 100 | O90: 100 | P90: 90.934066
C91: Max-2w | D91: 0.94268473 | E91: 1.1263354 | F91: 0.73250857 | G91: 0.86915563 | H91: 1.0621496 | I91: - | J91: 1.4840385 | K91: 0.64863995 | L91: 0.50082675 | M91: 0.41207597 | N91: 0.40943485 | O91: 0.32119698 | P91: 1.4840385
C92: Min-2w | D92: 0.4752617 | E92: 0.17398395 | F92: 0.52838172 | G92: 0.20575505 | H92: 0.13625277 | I92: - | J92: 0.67093742 | K92: 0.3072496 | L92: 0.14538685 | M92: 0.11417696 | N92: 0.022767865 | O92: 0.03520234 | P92: 0.022767865
A93: Philippines | B93: Metro Manila | C93: Mean
C94: %
C95: Max-w
C96: Min-w
B97: Los Banos | C97: Mean
C98: %
C99: Max-w
C100: Min-w
A101: Philippines | B101: Mt. Sto. Tomas | C101: Mean | D101: - | E101: - | F101: - | G101: - | H101: - | I101: 0.013946764 | J101: 0.06763274 | K101: 0.040571323 | L101: 0.032356102 | M101: 0.063288458 | N101: 0.059936351 | O101: 0.026569649 | P101: 0.0475116
...

Sheet NH4+
A1: Table 4.16 Particulate matter component: NH4+
A3: Unit : mg/m3 | D3: ='SO2'!D3:O3 -> 2012 | P3: Annual
A4: Country | B4: Site | D4: Jan | E4: Feb | F4: Mar | G4: Apr | H4: May | I4: Jun | J4: Jul | K4: Aug | L4: Sep | M4: Oct | N4: Nov | O4: Dec
A5: Cambodia | B5: Phnom Penh | C5: Mean | D5: 0.369102 | E5: 0.7098398 | F5: 0.36652023 | G5: 0.30791898 | H5: 0.29508931 | I5: 0.30727265 | J5: 0.22566499 | K5: 0.15425468 | L5: 0.19818451 | M5: 0.69497888 | N5: 0.26594601 | O5: 0.28832788 | P5: 0.34180672
C6: % | D6: 100 | E6: 100 | F6: 100 | G6: 100 | H6: 100 | I6: 100 | J6: 100 | K6: 100 | L6: 100 | M6: 100 | N6: 100 | O6: 100 | P6: 100
C7: Max-2w | D7: 0.42224422 | E7: 0.75942107 | F7: 0.43558305 | G7: 0.34507833 | H7: 0.34321052 | I7: 0.35281582 | J7: 0.25118288 | K7: 0.20646161 | L7: 0.2088349 | M7: 0.73308217 | N7: 0.27791929 | O7: 0.35808369 | P7: 0.75942107
C8: Min-2w | D8: 0.31595978 | E8: 0.66025852 | F8: 0.2710228 | G8: 0.27075963 | H8: 0.24696811 | I8: 0.26172949 | J8: 0.2001471 | K8: 0.091580915 | L8: 0.18753413 | M8: 0.65687559 | N8: 0.25397272 | O8: 0.21857206 | P8: 0.091580915
A9: China | B9: Hongwen | C9: Mean
C10: %
C11: Max-2w
C12: Min-2w
A13: Indonesia | B13: Serpong | C13: Mean | D13: 0.27343234 | E13: 0.2630644 | F13: 1.5208653 | G13: 1.4840379 | H13: 0.53503379 | I13: 0.61218094 | J13: 1.3342782 | K13: 0.53998709 | L13: 0.50007072 | M13: 1.793521 | N13: 0.02170506 | O13: 0.22592982 | P13: 0.77957944
C14: % | D14: 96.551724 | E14: 100 | F14: 100 | G14: 100 | H14: 100 | I14: 100 | J14: 100 | K14: 100 | L14: 100 | M14: 100 | N14: 100 | O14: 91.176471 | P14: 98.927614
C15: Max-2w | D15: 0.47841251 | E15: 0.42478419 | F15: 4.0835409 | G15: 2.4548764 | H15: 0.79106975 | I15: 0.70336813 | J15: 1.7354785 | K15: 0.71204893 | L15: 0.62078575 | M15: 2.6509419 | N15: 0.032169426 | O15: 0.43788242 | P15: 4.0835409
C16: Min-2w | D16: 0.068452172 | E16: 0.10134461 | F16: 0.19480762 | G16: 0.51319938 | H16: 0.27899784 | I16: 0.52099375 | J16: 0.93307783 | K16: 0.42646263 | L16: 0.3793557 | M16: 0.93610009 | N16: 0.011240694 | O16: 0.013977223 | P16: 0.011240694
A17: Japan | B17: Rishiri | C17: Mean | D17: 0.17734465 | E17: 0.50689414 | F17: 0.59101209 | G17: 0.48149499 | H17: 0.55847586 | I17: 0.58183361 | J17: 0.52177221 | K17: 0.29312961 | L17: 0.23767849 | M17: 0.23936334 | N17: 0.2846719 | O17: 0.44864861 | P17: 0.40932609
C18: % | D18: 100 | E18: 100 | F18: 100 | G18: 100 | H18: 100 | I18: 100 | J18: 100 | K18: 100 | L18: 100 | M18: 100 | N18: 100 | O18: 100 | P18: 100
C19: Max-2w | D19: 0.21624657 | E19: 0.55313745 | F19: 0.67282031 | G19: 0.48761887 | H19: 0.63201629 | I19: 0.75039993 | J19: 0.72580954 | K19: 0.41697192 | L19: 0.31729093 | M19: 0.30928908 | N19: 0.403292 | O19: 0.72813927 | P19: 0.75039993
C20: Min-2w | D20: 0.13844273 | E20: 0.46065083 | F20: 0.50920388 | G20: 0.47537111 | H20: 0.47106799 | I20: 0.41326728 | J20: 0.31773489 | K20: 0.16928729 | L20: 0.15806606 | M20: 0.17253091 | N20: 0.16605181 | O20: 0.16915796 | P20: 0.13844273
B21: Ochiishi | C21: Mean | D21: 0.30189899 | E21: 0.72807236 | F21: 0.45694723 | G21: 0.31300689 | H21: 0.17193007 | I21: 0.21285278 | J21: 0.3783469 | K21: 0.24387002 | L21: 0.34341511 | M21: 0.20421185 | N21: 0.070169141 | O21: 0.23886826 | P21: 0.31813987
C22: % | D22: 100 | E22: 100 | F22: 100 | G22: 100 | H22: 100 | I22: 100 | J22: 100 | K22: 100 | L22: 100 | M22: 100 | N22: 100 | O22: 100 | P22: 100
C23: Max-2w | D23: 0.35658813 | E23: 0.96555287 | F23: 0.47228538 | G23: 0.46922721 | H23: 0.30931734 | I23: 0.31254576 | J23: 0.64102442 | K23: 0.29100991 | L23: 0.46454811 | M23: 0.33788619 | N23: 0.070169141 | O23: 0.41277231 | P23: 0.96555287
C24: Min-2w | D24: 0.24720984 | E24: 0.49059184 | F24: 0.44160908 | G24: 0.15678657 | H24: 0.034542805 | I24: 0.11315981 | J24: 0.2229472 | K24: 0.19673014 | L24: 0.22228211 | M24: 0.07053751 | N24: 0.070169141 | O24: 0.064964214 | P24: 0.034542805
B25: Tappi | C25: Mean | D25: 0.21879623 | E25: 0.48615543 | F25: 0.61708323 | G25: 0.64393443 | H25: 0.66423964 | I25: 0.59283992 | J25: 1.0876996 | K25: 0.75170068 | L25: 0.50339059 | M25: 0.2273036 | N25: 0.34833002 | O25: 0.38373644 | P25: 0.53110893
C26: % | D26: 100 | E26: 100 | F26: 100 | G26: 100 | H26: 66.666667 | I26: 100 | J26: 100 | K26: 100 | L26: 100 | M26: 100 | N26: 100 | O26: 100 | P26: 96.153846
C27: Max-2w | D27: 0.23132957 | E27: 0.55963569 | F27: 0.723141 | G27: 0.77762103 | H27: 0.84824478 | I27: 0.79423202 | J27: 1.5004117 | K27: 0.84269774 | L27: 0.52684664 | M27: 0.37786975 | N27: 0.36628242 | O27: 0.4809163 | P27: 1.5004117
C28: Min-2w | D28: 0.20626289 | E28: 0.41267516 | F28: 0.51102545 | G28: 0.51024783 | H28: 0.48023449 | I28: 0.39144782 | J28: 0.67498753 | K28: 0.66070363 | L28: 0.47993454 | M28: 0.10200298 | N28: 0.33037762 | O28: 0.28655658 | P28: 0.10200298
B29: Sado-seki | C29: Mean | D29: 0.28798192 | E29: 0.45019217 | F29: 0.49028582 | G29: 0.42243206 | H29: 1.0221245 | I29: 0.6003925 | J29: 0.94504629 | K29: 0.84851309 | L29: 0.67275925 | M29: 0.35005537 | N29: 0.1878795 | O29: 0.29664761 | P29: 0.54368681
C30: % | D30: 100 | E30: 50 | F30: 100 | G30: 66.666667 | H30: 100 | I30: 100 | J30: 100 | K30: 100 | L30: 100 | M30: 100 | N30: 100 | O30: 100 | P30: 92.200557
C31: Max-2w | D31: 0.35226107 | E31: 0.45019217 | F31: 0.65382241 | G31: 0.5787722 | H31: 1.3417331 | I31: 0.95176129 | J31: 1.4544734 | K31: 1.0573775 | L31: 0.67691338 | M31: 0.59900034 | N31: 0.19860293 | O31: 0.3777127 | P31: 1.4544734
C32: Min-2w | D32: 0.22370276 | E32: 0.45019217 | F32: 0.32674923 | G32: 0.26609192 | H32: 0.70251602 | I32: 0.24902371 | J32: 0.43561918 | K32: 0.63964872 | L32: 0.66860511 | M32: 0.14608367 | N32: 0.17715607 | O32: 0.21558252 | P32: 0.14608367
B33: Happo | C33: Mean | D33: 0.16912856 | E33: 0.25332086 | F33: 0.40611296 | G33: 0.83054636 | H33: 1.9006567 | I33: 0.75663053 | J33: - | K33: 1.0927052 | L33: 0.52430304 | M33: 0.57116441 | N33: 0.12572752 | O33: 0.094960899 | P33: 0.64028249
C34: % | D34: 100 | E34: 100 | F34: 100 | G34: 100 | H34: 100 | I34: 100 | J34: 0 | K34: 100 | L34: 100 | M34: 100 | N34: 100 | O34: 100 | P34: 92.200557
C35: Max-2w | D35: 0.20711848 | E35: 0.28863808 | F35: 0.48585072 | G35: 1.1191266 | H35: 2.0729128 | I35: 0.87571933 | J35: - | K35: 1.3865013 | L35: 0.56119598 | M35: 0.90947389 | N35: 0.12572752 | O35: 0.12964725 | P35: 2.0729128
C36: Min-2w | D36: 0.13113863 | E36: 0.21800363 | F36: 0.32637521 | G36: 0.2815645 | H36: 1.7284005 | I36: 0.63754172 | J36: - | K36: 0.79890921 | L36: 0.4874101 | M36: 0.29911073 | N36: 0.12572752 | O36: 0.060274549 | P36: 0.060274549
B37: Ijira | C37: Mean | D37: 0.51926406 | E37: 0.83120977 | F37: 0.75166824 | G37: 0.80910269 | H37: 1.9605375 | I37: 0.96270726 | J37: 0.40388465 | K37: 0.39698398 | L37: 0.7506875 | M37: 0.57265039 | N37: 0.14015092 | O37: 0.23050546 | P37: 0.69386376
C38: % | D38: 100 | E38: 100 | F38: 100 | G38: 100 | H38: 100 | I38: 100 | J38: 100 | K38: 100 | L38: 100 | M38: 100 | N38: 100 | O38: 100 | P38: 100
C39: Max-2w | D39: 0.55103471 | E39: 1.0586759 | F39: 0.9673454 | G39: 1.1723274 | H39: 2.2399704 | I39: 1.0158332 | J39: 0.5868913 | K39: 0.79396796 | L39: 0.76432535 | M39: 1.0543326 | N39: 0.25192213 | O39: 0.44684099 | P39: 2.2399704
C40: Min-2w | D40: 0.48749341 | E40: 0.60374366 | F40: 0.53599108 | G40: 0.2371312 | H40: 1.6811045 | I40: 0.90958129 | J40: 0.220878 | K40: <0.01 | L40: 0.73704965 | M40: 0.1586122 | N40: 0.028379716 | O40: 0.014169941 | P40: <0.01
B41: Oki | C41: Mean | D41: 0.69704871 | E41: 1.1729015 | F41: 1.3405206 | G41: 1.3227403 | H41: 1.1369215 | I41: 0.75465565 | J41: 1.0397981 | K41: 0.54591196 | L41: 0.47257398 | M41: - | N41: - | O41: 0.54525986 | P41: 0.93605059
C42: % | D42: 100 | E42: 100 | F42: 100 | G42: 100 | H42: 100 | I42: 100 | J42: 100 | K42: 100 | L42: 50 | M42: 0 | N42: 0 | O42: 100 | P42: 77.173913
C43: Max-2w | D43: 0.89428987 | E43: 1.1739206 | F43: 1.4321375 | G43: 1.538158 | H43: 1.7659151 | I43: 0.77819991 | J43: 1.1194894 | K43: 0.61622781 | L43: 0.47257398 | M43: - | N43: - | O43: 0.56622258 | P43: 1.7659151
C44: Min-2w | D44: 0.49980755 | E44: 1.1718825 | F44: 1.2489038 | G44: 1.1073226 | H44: 0.66772491 | I44: 0.73111139 | J44: 0.96010672 | K44: 0.47559612 | L44: 0.47257398 | M44: - | N44: - | O44: 0.52429715 | P44: 0.47257398
B45: Banryu | C45: Mean | D45: 1.9054079 | E45: 1.5474551 | F45: 1.6136772 | G45: 1.4453061 | H45: 1.8670105 | I45: 1.0604345 | J45: 1.3631685 | K45: 0.5767255 | L45: 0.89382085 | M45: 1.1161966 | N45: 0.92354203 | O45: 0.74627872 | P45: 1.2357477
C46: % | D46: 46.153846 | E46: 100 | F46: 100 | G46: 100 | H46: 100 | I46: 100 | J46: 100 | K46: 100 | L46: 100 | M46: 61.904762 | N46: 100 | O46: 100 | P46: 91.620112
C47: Max-2w | D47: 1.9054079 | E47: 1.6122019 | F47: 1.9204205 | G47: 1.6325109 | H47: 2.1956246 | I47: 1.4619303 | J47: 1.9253961 | K47: 0.64954863 | L47: 1.0308272 | M47: 1.1405318 | N47: 0.96767649 | O47: 0.80830782 | P47: 2.1956246
C48: Min-2w | D48: 1.9054079 | E48: 1.4827083 | F48: 1.3069339 | G48: 1.1091251 | H48: 1.5383965 | I48: 0.65893864 | J48: 0.80094089 | K48: 0.50390237 | L48: 0.75681451 | M48: 1.0918614 | N48: 0.87940757 | O48: 0.68424961 | P48: 0.50390237
B49: Yusuhara | C49: Mean | D49: 1.4225686 | E49: 0.70986233 | F49: 1.5828542 | G49: 0.85146581 | H49: 2.4418791 | I49: 0.90637674 | J49: 0.96893338 | K49: 0.23678903 | L49: 0.76554072 | M49: 0.95628229 | N49: 1.2346914 | O49: 0.63638379 | P49: 1.0638363
C50: % | D50: 100 | E50: 100 | F50: 100 | G50: 33.333333 | H50: 100 | I50: 100 | J50: 100 | K50: 100 | L50: 100 | M50: 100 | N50: 100 | O50: 100 | P50: 92.045455
C51: Max-2w | D51: 1.9666548 | E51: 1.0435854 | F51: 1.787073 | G51: 0.85146581 | H51: 3.1124821 | I51: 1.3403335 | J51: 1.1029443 | K51: 0.34990563 | L51: 1.1318546 | M51: 1.6211117 | N51: 1.5591409 | O51: 0.80432639 | P51: 3.1124821
C52: Min-2w | D52: 0.8784825 | E52: 0.37613922 | F52: 1.3786353 | G52: 0.85146581 | H52: 1.7712761 | I52: 0.47241997 | J52: 0.83492242 | K52: 0.12367244 | L52: 0.39922679 | M52: 0.34513359 | N52: 0.91024197 | O52: 0.4684412 | P52: 0.12367244
B53: Hedo | C53: Mean | D53: 0.9039542 | E53: 0.54799858 | F53: 0.73666369 | G53: 1.026823 | H53: 0.90937355 | I53: 0.17687778 | J53: 0.15986232 | K53: 0.10498822 | L53: 0.99502261 | M53: 0.63308778 | N53: 0.94606358 | O53: 0.84686107 | P53: 0.70540254
C54: % | D54: 100 | E54: 100 | F54: 100 | G54: 100 | H54: 100 | I54: 100 | J54: 100 | K54: 100 | L54: 100 | M54: 64.285714 | N54: 100 | O54: 100 | P54: 95.821727
C55: Max-2w | D55: 1.0904532 | E55: 0.93044044 | F55: 1.3289288 | G55: 1.1127947 | H55: 1.6287376 | I55: 0.18801436 | J55: 0.21512646 | K55: 0.18662918 | L55: 1.5382823 | M55: 1.2940957 | N55: 1.1478836 | O55: 0.92451883 | P55: 1.6287376
C56: Min-2w | D56: 0.71745523 | E56: 0.16555671 | F56: 0.14439858 | G56: 0.97728232 | H56: 0.1900095 | I56: 0.1657412 | J56: 0.10459818 | K56: 0.023347264 | L56: 0.45176293 | M56: 0.60516765 | N56: 0.74424359 | O56: 0.76920331 | P56: 0.023347264
B57: Ogasawara | C57: Mean | D57: 0.41482661 | E57: 0.30221165 | F57: 0.37139648 | G57: 0.40069453 | H57: 0.073057559 | I57: 0.076172563 | J57: 0.045954977 | K57: 0.05482242 | L57: 0.077262195 | M57: 0.11910148 | N57: 0.30123692 | O57: 0.29927422 | P57: 0.21506997
C58: % | D58: 100 | E58: 100 | F58: 100 | G58: 100 | H58: 100 | I58: 100 | J58: 100 | K58: 100 | L58: 100 | M58: 100 | N58: 100 | O58: 100 | P58: 100
C59: Max-2w | D59: 0.52371548 | E59: 0.30697539 | F59: 0.53851869 | G59: 0.60637491 | H59: 0.097707083 | I59: 0.080223062 | J59: 0.072576469 | K59: 0.057571319 | L59: 0.080669366 | M59: 0.27238414 | N59: 0.40405254 | O59: 0.37921033 | P59: 0.60637491
C60: Min-2w | D60: 0.30593774 | E60: 0.2974479 | F60: 0.20427428 | G60: 0.12688098 | H60: 0.048408034 | I60: 0.072122065 | J60: 0.019333485 | K60: 0.052073521 | L60: 0.073855023 | M60: 0.032913379 | N60: 0.19842129 | O60: 0.21933811 | P60: 0.019333485
B61: Tokyo | C61: Mean | D61: 1.4812826 | E61: 2.1449363 | F61: 0.16485185 | G61: 1.0219843 | H61: 1.9848656 | I61: 0.87119397 | J61: 1.1913234 | K61: 0.59444249 | L61: 0.87543779 | M61: 0.76671599 | N61: 1.1640676 | O61: 1.1343084 | P61: 1.0992123
