Workbook

Sheet SO2
A1: Table 4.3 SO2
A3: Unit : ppb | D3: 2012 | P3: Annual
A4: Country | B4: Site | D4: Jan | E4: Feb | F4: Mar | G4: Apr | H4: May | I4: Jun | J4: Jul | K4: Aug | L4: Sep | M4: Oct | N4: Nov | O4: Dec
A5: Cambodia | B5: Phnom Penh | C5: Mean | D5: 1.7375311 | E5: 1.6790248 | F5: 1.2919901 | G5: 1.2481636 | H5: 1.4749962 | I5: 1.1944414 | J5: 0.95693425 | K5: 1.4014011 | L5: 1.5357304 | M5: 1.102919 | N5: 1.2274799 | O5: 1.1390822 | P5: 1.3335684
C6: % | D6: 100 | E6: 100 | F6: 100 | G6: 100 | H6: 100 | I6: 100 | J6: 100 | K6: 100 | L6: 100 | M6: 100 | N6: 100 | O6: 100 | P6: 100
C7: Max-2w | D7: 2.0298509 | E7: 1.7380516 | F7: 1.763698 | G7: 1.6160014 | H7: 1.6072544 | I7: 1.3788902 | J7: 1.2536887 | K7: 1.8081862 | L7: 1.6635902 | M7: 1.1572545 | N7: 1.6709169 | O7: 1.2002273 | P7: 2.0298509
C8: Min-2w | D8: 1.4452113 | E8: 1.6199981 | F8: 0.88118143 | G8: 0.88032578 | H8: 1.3427381 | I8: 1.0099926 | J8: 0.66017977 | K8: 0.99642234 | L8: 1.4078706 | M8: 1.0485835 | N8: 0.78404297 | O8: 1.0779371 | P8: 0.66017977
A9: China | B9: Jinyunshan | C9: Mean | D9: 14.455645 | E9: 11.857759 | F9: 8.6008065 | G9: 11.75 | H9: 10.475806 | I9: 10.65 | J9: 6.7016129 | K9: 5.6975806 | L9: 6.35 | M9: 9.1209677 | N9: 11.25 | O9: 10.681452 | P9: 9.7858607
C10: % | D10: 100 | E10: 100 | F10: 100 | G10: 100 | H10: 100 | I10: 100 | J10: 100 | K10: 100 | L10: 100 | M10: 100 | N10: 100 | O10: 100 | P10: 100.27397
C11: Max-d | D11: 30.75 | E11: 34.125 | F11: 22.5 | G11: 28.5 | H11: 25.125 | I11: 23.625 | J11: 23.25 | K11: 25.875 | L11: 15.75 | M11: 28.125 | N11: 25.875 | O11: 35.25 | P11: 35.25
C12: Min-d | D12: 3 | E12: 3.375 | F12: 1.5 | G12: 4.5 | H12: 2.625 | I12: 1.5 | J12: 0.75 | K12: 0.375 | L12: 0.375 | M12: 1.875 | N12: 2.25 | O12: 0.75 | P12: 0.375
B13: Hongwen | C13: Mean | D13: 6.9193548 | E13: 8.2241379 | F13: 9.3024194 | G13: 8.4 | H13: 7.391129 | I13: 4.9913793 | J13: 4.8348214 | K13: 6.7625 | L13: 7.2375 | M13: 7.0403226 | N13: 7.975 | O13: 7.5967742 | P13: 7.2454986
C14: % | D14: 100 | E14: 100 | F14: 100 | G14: 100 | H14: 100 | I14: 96.666667 | J14: 90.322581 | K14: 96.774194 | L14: 100 | M14: 100 | N14: 100 | O14: 100 | P14: 98.90411
C15: Max-d | D15: 13.875 | E15: 15.75 | F15: 16.875 | G15: 16.125 | H15: 14.625 | I15: 16.5 | J15: 10.5 | K15: 11.25 | L15: 15.375 | M15: 14.25 | N15: 13.5 | O15: 11.25 | P15: 16.875
C16: Min-d | D16: 3.375 | E16: 3.375 | F16: 5.25 | G16: 2.625 | H16: 2.25 | I16: 1.875 | J16: 1.875 | K16: 3.375 | L16: 2.625 | M16: 4.5 | N16: 4.125 | O16: 4.125 | P16: 1.875
B17: Xiang Zhou | C17: Mean | D17: 4.8991935 | E17: 4.0862069 | F17: 3.3145161 | G17: 2.975 | H17: 2.25 | I17: 1.7125 | J17: 1.4758065 | K17: 3.3387097 | L17: 3.9375 | M17: 3.7258065 | N17: 3.675 | O17: 3.483871 | P17: 3.2366803
C18: % | D18: 100 | E18: 100 | F18: 100 | G18: 100 | H18: 100 | I18: 100 | J18: 100 | K18: 100 | L18: 100 | M18: 100 | N18: 100 | O18: 100 | P18: 100.27397
C19: Max-d | D19: 12.375 | E19: 9 | F19: 7.125 | G19: 8.625 | H19: 4.125 | I19: 3 | J19: 4.5 | K19: 9.375 | L19: 12.375 | M19: 6.75 | N19: 9.375 | O19: 6.375 | P19: 12.375
C20: Min-d | D20: 1.125 | E20: 1.5 | F20: 1.125 | G20: 0.75 | H20: 0.75 | I20: 0.75 | J20: 0.75 | K20: 0.75 | L20: 1.125 | M20: 1.5 | N20: 1.5 | O20: 1.5 | P20: 0.75
A21: Indonesia | B21: Jakarta | C21: Mean | D21: 4 | E21: 4 | F21: 5 | G21: 5 | H21: 4 | I21: 6 | J21: 7 | K21: 6 | L21: 6 | M21: 8 | N21: 7 | O21: 6 | P21: 5.6666667
C22: % | D22: 100 | E22: 100 | F22: 100 | G22: 100 | H22: 100 | I22: 100 | J22: 100 | K22: 100 | L22: 100 | M22: 100 | N22: 100 | O22: 100 | P22: 100
C23: Max-m | D23: 4 | E23: 4 | F23: 5 | G23: 5 | H23: 4 | I23: 6 | J23: 7 | K23: 6 | L23: 6 | M23: 8 | N23: 7 | O23: 6 | P23: 8
C24: Min-m | D24: 4 | E24: 4 | F24: 5 | G24: 5 | H24: 4 | I24: 6 | J24: 7 | K24: 6 | L24: 6 | M24: 8 | N24: 7 | O24: 6 | P24: 4
B25: Serpong | C25: Mean | D25: 0.5402688 | E25: 0.32491378 | F25: 0.12687211 | G25: 0.86092076 | H25: 2.384181 | I25: 1.6227196 | J25: 1.6667311 | K25: 0.83585866 | L25: 0.94256164 | M25: 0.87703487 | N25: 0.77100777 | O25: 0.64908176 | P25: 0.92950133
C26: % | D26: 96.551724 | E26: 100 | F26: 100 | G26: 100 | H26: 100 | I26: 100 | J26: 100 | K26: 100 | L26: 100 | M26: 100 | N26: 100 | O26: 91.176471 | P26: 98.927614
C27: Max-2w | D27: 0.79414724 | E27: 0.34442019 | F27: 0.16941747 | G27: 1.2519714 | H27: 2.9531528 | I27: 1.9028638 | J27: 1.7211838 | K27: 1.2167695 | L27: 0.99388667 | M27: 1.0306255 | N27: 1.2221163 | O27: 0.65209711 | P27: 2.9531528
C28: Min-2w | D28: 0.28639035 | E28: 0.30540736 | F28: <0.1 | G28: 0.46987012 | H28: 1.8152092 | I28: 1.3425754 | J28: 1.6122784 | K28: 0.51117058 | L28: 0.8912366 | M28: 0.72344418 | N28: 0.31989929 | O28: 0.64606641 | P28: <0.1
B29: Kototabang | C29: Mean
C30: %
C31: Max-w
C32: Min-w
B33: Bandung | C33: Mean | D33: 2.4720047 | E33: 4.04159 | F33: 2.6705793 | G33: 3.6849934 | H33: 1.3223911 | I33: 5.6107644 | J33: 4.786859 | K33: 2.2775431 | L33: 3.6357707 | M33: 6.6438867 | N33: 5.4405951 | O33: 5.2524641 | P33: 3.9866201
C34: % | D34: 100 | E34: 100 | F34: 100 | G34: 100 | H34: 100 | I34: 100 | J34: 100 | K34: 100 | L34: 100 | M34: 100 | N34: 100 | O34: 100 | P34: 100
C35: Max-m | D35: 2.4720047 | E35: 4.04159 | F35: 2.6705793 | G35: 3.6849934 | H35: 1.3223911 | I35: 5.6107644 | J35: 4.786859 | K35: 2.2775431 | L35: 3.6357707 | M35: 6.6438867 | N35: 5.4405951 | O35: 5.2524641 | P35: 6.6438867
C36: Min-m | D36: 2.4720047 | E36: 4.04159 | F36: 2.6705793 | G36: 3.6849934 | H36: 1.3223911 | I36: 5.6107644 | J36: 4.786859 | K36: 2.2775431 | L36: 3.6357707 | M36: 6.6438867 | N36: 5.4405951 | O36: 5.2524641 | P36: 1.3223911
A37: Japan | B37: Rishiri | C37: Mean | D37: 0.2014966 | E37: 0.99459064 | F37: 0.22677515 | G37: 0.14378531 | H37: 0.11379781 | I37: <0.1 | J37: <0.1 | K37: <0.1 | L37: <0.1 | M37: <0.1 | N37: 0.20520394 | O37: 0.77140903 | P37: 0.24329606
C38: % | D38: 98.790323 | E38: 98.275862 | F38: 90.860215 | G38: 98.333333 | H38: 98.387097 | I38: 98.75 | J38: 98.387097 | K38: 98.387097 | L38: 84.861111 | M38: 98.387097 | N38: 98.75 | O38: 98.252688 | P38: 96.709927
C39: Max-d | D39: 0.50416667 | E39: 6.7291667 | F39: 2.3958333 | G39: 0.38333333 | H39: 0.6047619 | I39: 0.29583333 | J39: 1.647619 | K39: 0.23333333 | L39: 0.10833333 | M39: 0.24166667 | N39: 1.0125 | O39: 6.4958333 | P39: 6.7291667
C40: Min-d | D40: <0.1 | E40: <0.1 | F40: <0.1 | G40: <0.1 | H40: <0.1 | I40: <0.1 | J40: <0.1 | K40: <0.1 | L40: <0.1 | M40: <0.1 | N40: <0.1 | O40: 0.10833333 | P40: 0.10833333
B41: Ochiishi | C41: Mean | D41: 0.16297521 | E41: 0.31128527 | F41: 0.18294036 | G41: <0.1 | H41: <0.1 | I41: 0.13583725 | J41: <0.1 | K41: <0.1 | L41: <0.1 | M41: 0.10687237 | N41: 0.13125 | O41: 0.42976023 | P41: 0.14322581
...

Sheet HNO3
A1: Table 4.4 HNO3
A3: Unit : ppb | D3: ='SO2'!D3:O3 -> 2012 | P3: Annual
A4: Country | B4: Site | D4: Jan | E4: Feb | F4: Mar | G4: Apr | H4: May | I4: Jun | J4: Jul | K4: Aug | L4: Sep | M4: Oct | N4: Nov | O4: Dec
A5: Cambodia | B5: Phnom Penh | C5: Mean | D5: 0.38999216 | E5: 0.66045124 | F5: 0.37844912 | G5: 0.37521839 | H5: 0.36302943 | I5: <0.1 | J5: <0.1 | K5: 0.15319724 | L5: 0.17143098 | M5: 0.57722817 | N5: 0.33559054 | O5: 0.24811568 | P5: 0.30636648
C6: % | D6: 100 | E6: 100 | F6: 100 | G6: 100 | H6: 100 | I6: 100 | J6: 100 | K6: 100 | L6: 100 | M6: 100 | N6: 100 | O6: 100 | P6: 100
C7: Max-2w | D7: 0.51135807 | E7: 0.70429438 | F7: 0.59007686 | G7: 0.54069336 | H7: 0.53776674 | I7: <0.1 | J7: <0.1 | K7: 0.2227847 | L7: 0.21956049 | M7: 0.61809092 | N7: 0.44917611 | O7: 0.33138826 | P7: 0.70429438
C8: Min-2w | D8: 0.26862625 | E8: 0.6166081 | F8: 0.20994729 | G8: 0.20974342 | H8: 0.18829211 | I8: <0.1 | J8: <0.1 | K8: 0.11113161 | L8: 0.12330147 | M8: 0.53636542 | N8: 0.22200498 | O8: 0.1648431 | P8: <0.1
A9: China | B9: Hongwen | C9: Mean
C10: %
C11: Max-2w
C12: Min-2w
A13: Indonesia | B13: Serpong | C13: Mean | D13: 0.43592114 | E13: 0.27152871 | F13: 0.23800801 | G13: 0.53785888 | H13: 1.8429823 | I13: 1.7714987 | J13: 1.8789734 | K13: 1.7184433 | L13: 0.12376455 | M13: 1.0836694 | N13: 0.70073226 | O13: 0.37758068 | P13: 0.91993746
C14: % | D14: 96.551724 | E14: 100 | F14: 100 | G14: 100 | H14: 100 | I14: 100 | J14: 100 | K14: 100 | L14: 100 | M14: 100 | N14: 100 | O14: 91.176471 | P14: 98.927614
C15: Max-2w | D15: 0.49571505 | E15: 0.35230323 | F15: 0.36673833 | G15: 0.92991848 | H15: 2.3842466 | I15: 2.3466904 | J15: 2.5380028 | K15: 2.5239075 | L15: 0.24752911 | M15: 1.2224284 | N15: 0.86615186 | O15: 0.67284658 | P15: 2.5380028
C16: Min-2w | D16: 0.37612723 | E16: 0.19075419 | F16: <0.1 | G16: 0.14579927 | H16: 1.301718 | I16: 1.1963069 | J16: 1.219944 | K16: 1.2612934 | L16: <0.1 | M16: 0.94491036 | N16: 0.53531267 | O16: <0.1 | P16: <0.1
A17: Japan | B17: Rishiri | C17: Mean | D17: <0.1 | E17: <0.1 | F17: <0.1 | G17: <0.1 | H17: <0.1 | I17: 0.14047476 | J17: 0.10527161 | K17: <0.1 | L17: <0.1 | M17: <0.1 | N17: <0.1 | O17: <0.1 | P17: <0.1
C18: % | D18: 100 | E18: 100 | F18: 100 | G18: 100 | H18: 100 | I18: 100 | J18: 100 | K18: 100 | L18: 100 | M18: 100 | N18: 100 | O18: 100 | P18: 100
C19: Max-2w | D19: <0.1 | E19: <0.1 | F19: <0.1 | G19: <0.1 | H19: 0.15829845 | I19: 0.1535055 | J19: 0.10671109 | K19: <0.1 | L19: <0.1 | M19: <0.1 | N19: <0.1 | O19: <0.1 | P19: 0.15829845
C20: Min-2w | D20: <0.1 | E20: <0.1 | F20: <0.1 | G20: <0.1 | H20: <0.1 | I20: 0.12744401 | J20: 0.10383213 | K20: <0.1 | L20: <0.1 | M20: <0.1 | N20: <0.1 | O20: <0.1 | P20: <0.1
B21: Ochiishi | C21: Mean | D21: <0.1 | E21: 0.19285919 | F21: <0.1 | G21: <0.1 | H21: <0.1 | I21: <0.1 | J21: <0.1 | K21: <0.1 | L21: <0.1 | M21: <0.1 | N21: <0.1 | O21: <0.1 | P21: <0.1
C22: % | D22: 100 | E22: 100 | F22: 100 | G22: 100 | H22: 100 | I22: 100 | J22: 100 | K22: 100 | L22: 100 | M22: 53.333333 | N22: 100 | O22: 100 | P22: 96.164384
C23: Max-2w | D23: <0.1 | E23: 0.34364643 | F23: <0.1 | G23: <0.1 | H23: <0.1 | I23: <0.1 | J23: 0.10290696 | K23: 0.10392756 | L23: 0.15455294 | M23: <0.1 | N23: <0.1 | O23: <0.1 | P23: 0.34364643
C24: Min-2w | D24: <0.1 | E24: <0.1 | F24: <0.1 | G24: <0.1 | H24: <0.1 | I24: <0.1 | J24: <0.1 | K24: <0.1 | L24: <0.1 | M24: <0.1 | N24: <0.1 | O24: <0.1 | P24: <0.1
B25: Tappi | C25: Mean | D25: <0.1 | E25: <0.1 | F25: <0.1 | G25: <0.1 | H25: 0.2192556 | I25: 0.29991339 | J25: 0.46601635 | K25: 0.39658164 | L25: 0.26360472 | M25: <0.1 | N25: <0.1 | O25: <0.1 | P25: 0.1582313
C26: % | D26: 100 | E26: 100 | F26: 100 | G26: 100 | H26: 66.666667 | I26: 100 | J26: 100 | K26: 100 | L26: 100 | M26: 100 | N26: 100 | O26: 100 | P26: 96.153846
C27: Max-2w | D27: <0.1 | E27: <0.1 | F27: <0.1 | G27: <0.1 | H27: 0.23482514 | I27: 0.36611875 | J27: 0.57666796 | K27: 0.52675092 | L27: 0.27853631 | M27: <0.1 | N27: <0.1 | O27: <0.1 | P27: 0.57666796
C28: Min-2w | D28: <0.1 | E28: <0.1 | F28: <0.1 | G28: <0.1 | H28: 0.20368606 | I28: 0.23370803 | J28: 0.35536473 | K28: 0.26641237 | L28: 0.24867313 | M28: <0.1 | N28: <0.1 | O28: <0.1 | P28: <0.1
B29: Sado-seki | C29: Mean | D29: <0.1 | E29: <0.1 | F29: <0.1 | G29: 0.41598995 | H29: 0.53276863 | I29: 0.41291214 | J29: 0.77218197 | K29: 0.37610134 | L29: 0.27626845 | M29: 0.1087672 | N29: <0.1 | O29: <0.1 | P29: 0.27521907
C30: % | D30: 100 | E30: 50 | F30: 100 | G30: 66.666667 | H30: 100 | I30: 100 | J30: 100 | K30: 100 | L30: 100 | M30: 100 | N30: 100 | O30: 100 | P30: 92.200557
C31: Max-2w | D31: <0.1 | E31: <0.1 | F31: <0.1 | G31: 0.63535263 | H31: 0.65390547 | I31: 0.65805062 | J31: 1.0413386 | K31: 0.56322885 | L31: 0.3361351 | M31: 0.15583816 | N31: <0.1 | O31: 0.11236741 | P31: 1.0413386
C32: Min-2w | D32: <0.1 | E32: <0.1 | F32: <0.1 | G32: 0.19662728 | H32: 0.41163179 | I32: 0.16777366 | J32: 0.50302537 | K32: 0.18897383 | L32: 0.2164018 | M32: <0.1 | N32: <0.1 | O32: <0.1 | P32: <0.1
B33: Happo | C33: Mean | D33: <0.1 | E33: 0.10698374 | F33: 0.13925722 | G33: 0.28588272 | H33: 0.70945949 | I33: 0.38762187 | J33: - | K33: 0.47624925 | L33: 0.29946942 | M33: 0.18540434 | N33: <0.1 | O33: <0.1 | P33: 0.25977386
C34: % | D34: 100 | E34: 100 | F34: 100 | G34: 100 | H34: 100 | I34: 100 | J34: 0 | K34: 100 | L34: 100 | M34: 100 | N34: 100 | O34: 100 | P34: 92.200557
C35: Max-2w | D35: <0.1 | E35: 0.1433878 | F35: 0.17221365 | G35: 0.41605887 | H35: 0.83498505 | I35: 0.44598936 | J35: - | K35: 0.53790591 | L35: 0.37452726 | M35: 0.28949986 | N35: <0.1 | O35: <0.1 | P35: 0.83498505
C36: Min-2w | D36: <0.1 | E36: <0.1 | F36: 0.10630079 | G36: 0.14496917 | H36: 0.58393393 | I36: 0.32925437 | J36: - | K36: 0.4145926 | L36: 0.22441157 | M36: <0.1 | N36: <0.1 | O36: <0.1 | P36: <0.1
B37: Ijira | C37: Mean | D37: <0.1 | E37: 0.10942458 | F37: 0.1322727 | G37: 0.20468131 | H37: 0.60968047 | I37: 0.38879071 | J37: 0.15411291 | K37: 0.34549668 | L37: 0.20151019 | M37: 0.12825395 | N37: <0.1 | O37: <0.1 | P37: 0.19818544
C38: % | D38: 100 | E38: 100 | F38: 100 | G38: 100 | H38: 100 | I38: 100 | J38: 100 | K38: 100 | L38: 100 | M38: 100 | N38: 100 | O38: 100 | P38: 100
C39: Max-2w | D39: <0.1 | E39: 0.15547004 | F39: 0.18568337 | G39: 0.27238249 | H39: 0.69988679 | I39: 0.4131448 | J39: 0.15955264 | K39: 0.65959121 | L39: 0.26612149 | M39: 0.20819003 | N39: <0.1 | O39: <0.1 | P39: 0.69988679
C40: Min-2w | D40: <0.1 | E40: <0.1 | F40: <0.1 | G40: 0.15103557 | H40: 0.51947416 | I40: 0.36443662 | J40: 0.14867319 | K40: <0.1 | L40: 0.1368989 | M40: <0.1 | N40: <0.1 | O40: <0.1 | P40: <0.1
B41: Oki | C41: Mean | D41: <0.1 | E41: <0.1 | F41: 0.12661638 | G41: 0.14927047 | H41: 0.26186083 | I41: 0.22984145 | J41: 0.42530924 | K41: 0.18300368 | L41: 0.10255943 | M41: - | N41: - | O41: <0.1 | P41: 0.17668108
...

Sheet HCl
A1: Table 4.5 HCl
A3: Unit : ppb | D3: ='SO2'!D3:O3 -> 2012 | P3: Annual
A4: Country | B4: Site | D4: Jan | E4: Feb | F4: Mar | G4: Apr | H4: May | I4: Jun | J4: Jul | K4: Aug | L4: Sep | M4: Oct | N4: Nov | O4: Dec
A5: Cambodia | B5: Phnom Penh | C5: Mean | D5: 1.0895032 | E5: 1.4863075 | F5: 0.73725689 | G5: 0.52649426 | H5: 0.65086244 | I5: 0.33973342 | J5: 0.32017893 | K5: 0.71233263 | L5: 0.84870779 | M5: 0.68433017 | N5: 0.54085363 | O5: 0.58159057 | P5: 0.71099586
C6: % | D6: 100 | E6: 100 | F6: 100 | G6: 100 | H6: 100 | I6: 100 | J6: 100 | K6: 100 | L6: 100 | M6: 100 | N6: 100 | O6: 100 | P6: 100
C7: Max-2w | D7: 1.1807996 | E7: 1.6448135 | F7: 1.1691961 | G7: 0.63846586 | H7: 0.66671486 | I7: 0.43016001 | J7: 0.3859137 | K7: 0.8191022 | L7: 0.98615263 | M7: 0.73251724 | N7: 0.68906648 | O7: 0.5934164 | P7: 1.6448135
C8: Min-2w | D8: 0.99820673 | E8: 1.3278014 | F8: 0.41492557 | G8: 0.41452267 | H8: 0.63501003 | I8: 0.24930683 | J8: 0.25444416 | K8: 0.6359053 | L8: 0.71126294 | M8: 0.6361431 | N8: 0.39264078 | O8: 0.56976475 | P8: 0.24930683
A9: China | B9: Hongwen | C9: Mean
C10: %
C11: Max-2w
C12: Min-2w
A13: Indonesia | B13: Serpong | C13: Mean | D13: 0.5452216 | E13: 0.55177818 | F13: 0.54898147 | G13: 0.43898339 | H13: 0.94229804 | I13: 1.0953864 | J13: 1.3489527 | K13: 1.242895 | L13: 0.91161564 | M13: 0.55889082 | N13: 0.5484742 | O13: 0.35347466 | P13: 0.76791465
C14: % | D14: 96.551724 | E14: 100 | F14: 100 | G14: 100 | H14: 100 | I14: 100 | J14: 100 | K14: 100 | L14: 100 | M14: 100 | N14: 100 | O14: 91.176471 | P14: 98.927614
C15: Max-2w | D15: 0.65037113 | E15: 0.66600715 | F15: 0.75112116 | G15: 0.54141337 | H15: 1.3249595 | I15: 1.4137542 | J15: 1.4295955 | K15: 1.3813317 | L15: 1.3795453 | M15: 0.59118002 | N15: 0.62714704 | O15: 0.44115338 | P15: 1.4295955
C16: Min-2w | D16: 0.44007207 | E16: 0.4375492 | F16: 0.40495485 | G16: 0.3365534 | H16: 0.55963661 | I16: 0.77701859 | J16: 1.2683099 | K16: 1.1622262 | L16: 0.44368595 | M16: 0.52660162 | N16: 0.46980136 | O16: 0.26579595 | P16: 0.26579595
A17: Japan | B17: Rishiri | C17: Mean | D17: 0.1745592 | E17: 0.52107069 | F17: 0.56275164 | G17: 0.4510068 | H17: 0.54492477 | I17: 0.51167647 | J17: 0.39003299 | K17: 0.55525528 | L17: 0.32041827 | M17: 0.27204543 | N17: 0.27819725 | O17: 0.5577734 | P17: 0.42678441
C18: % | D18: 100 | E18: 100 | F18: 100 | G18: 100 | H18: 100 | I18: 100 | J18: 100 | K18: 100 | L18: 100 | M18: 100 | N18: 100 | O18: 100 | P18: 100
C19: Max-2w | D19: 0.22225563 | E19: 0.52419239 | F19: 0.5905439 | G19: 0.4697236 | H19: 0.56605209 | I19: 0.60087608 | J19: 0.55310134 | K19: 0.71617323 | L19: 0.5116149 | M19: 0.28936812 | N19: 0.38772134 | O19: 0.83026678 | P19: 0.83026678
C20: Min-2w | D20: 0.12686276 | E20: 0.517949 | F20: 0.53495939 | G20: 0.43229001 | H20: 0.51351352 | I20: 0.42247685 | J20: 0.22696464 | K20: 0.39433734 | L20: 0.12922164 | M20: 0.24573391 | N20: 0.16867317 | O20: 0.28528002 | P20: 0.12686276
B21: Ochiishi | C21: Mean | D21: 0.13060822 | E21: 0.37999518 | F21: 0.42894766 | G21: 3.2506265 | H21: 0.26786867 | I21: 0.34174242 | J21: 0.39568084 | K21: 0.51899384 | L21: 0.60902064 | M21: 0.35788187 | N21: <0.1 | O21: 0.27575246 | P21: 0.61061708
C22: % | D22: 100 | E22: 100 | F22: 100 | G22: 100 | H22: 100 | I22: 100 | J22: 100 | K22: 100 | L22: 100 | M22: 53.333333 | N22: 100 | O22: 100 | P22: 96.164384
C23: Max-2w | D23: 0.14206625 | E23: 0.42349555 | F23: 0.46714935 | G23: 5.8910095 | H23: 0.33853375 | I23: 0.43646812 | J23: 0.72171291 | K23: 0.54951995 | L23: 0.9368534 | M23: 0.35788187 | N23: <0.1 | O23: 0.32112326 | P23: 5.8910095
C24: Min-2w | D24: 0.11915018 | E24: 0.3364948 | F24: 0.39074598 | G24: 0.61024357 | H24: 0.19720358 | I24: 0.24701672 | J24: 0.23164506 | K24: 0.48846772 | L24: 0.28118788 | M24: 0.35788187 | N24: <0.1 | O24: 0.23038167 | P24: <0.1
B25: Tappi | C25: Mean | D25: 0.31428669 | E25: 0.36108249 | F25: 0.3600071 | G25: 0.45842048 | H25: 0.80422198 | I25: 0.56326349 | J25: 0.67839646 | K25: 0.93269904 | L25: 0.82470516 | M25: 0.48013632 | N25: 0.46923699 | O25: 0.66297121 | P25: 0.55692884
C26: % | D26: 100 | E26: 100 | F26: 100 | G26: 100 | H26: 66.666667 | I26: 100 | J26: 100 | K26: 50 | L26: 100 | M26: 100 | N26: 100 | O26: 100 | P26: 92.307692
C27: Max-2w | D27: 0.38554758 | E27: 0.42958386 | F27: 0.49073837 | G27: 0.49638001 | H27: 0.8702474 | I27: 0.62591891 | J27: 0.73982143 | K27: 0.93269904 | L27: 0.867568 | M27: 0.66790076 | N27: 0.57437358 | O27: 0.89195153 | P27: 0.93269904
C28: Min-2w | D28: 0.24302579 | E28: 0.29258111 | F28: 0.22927583 | G28: 0.42046094 | H28: 0.73819657 | I28: 0.50060808 | J28: 0.61697149 | K28: 0.93269904 | L28: 0.78184231 | M28: 0.27660001 | N28: 0.36410039 | O28: 0.43399089 | P28: 0.22927583
B29: Sado-seki | C29: Mean | D29: 0.55339617 | E29: 0.69163777 | F29: 0.63881699 | G29: 0.84549493 | H29: 1.2878388 | I29: 0.79768749 | J29: 1.0777521 | K29: 1.0108584 | L29: 0.87526437 | M29: 0.85184976 | N29: 0.76308106 | O29: 1.1620472 | P29: 0.88631926
C30: % | D30: 100 | E30: 50 | F30: 100 | G30: 66.666667 | H30: 100 | I30: 100 | J30: 100 | K30: 100 | L30: 100 | M30: 100 | N30: 100 | O30: 100 | P30: 92.200557
C31: Max-2w | D31: 0.59941293 | E31: 0.69163777 | F31: 0.70150108 | G31: 0.91227675 | H31: 1.5987638 | I31: 0.88837126 | J31: 1.3978343 | K31: 1.0273794 | L31: 0.95759041 | M31: 1.0405888 | N31: 0.78456868 | O31: 1.5568872 | P31: 1.5987638
C32: Min-2w | D32: 0.50737942 | E32: 0.69163777 | F32: 0.57613289 | G32: 0.77871311 | H32: 0.97691383 | I32: 0.70700373 | J32: 0.75766982 | K32: 0.99433752 | L32: 0.79293832 | M32: 0.53171909 | N32: 0.74159344 | O32: 0.7672072 | P32: 0.50737942
B33: Happo | C33: Mean | D33: <0.1 | E33: <0.1 | F33: 0.11591505 | G33: 0.19497628 | H33: 0.2321573 | I33: 0.17012275 | J33: - | K33: 0.23778625 | L33: 0.15019309 | M33: 0.27301444 | N33: 0.23891743 | O33: <0.1 | P33: 0.17262809
C34: % | D34: 100 | E34: 100 | F34: 100 | G34: 100 | H34: 100 | I34: 100 | J34: 0 | K34: 100 | L34: 100 | M34: 100 | N34: 100 | O34: 100 | P34: 92.200557
C35: Max-2w | D35: <0.1 | E35: 0.10678184 | F35: 0.14323231 | G35: 0.22062109 | H35: 0.23614441 | I35: 0.19627981 | J35: - | K35: 0.26351616 | L35: 0.15815643 | M35: 0.32791038 | N35: 0.23891743 | O35: <0.1 | P35: 0.32791038
C36: Min-2w | D36: <0.1 | E36: <0.1 | F36: <0.1 | G36: 0.1640694 | H36: 0.2281702 | I36: 0.14396569 | J36: - | K36: 0.21205635 | L36: 0.14222975 | M36: 0.22162388 | N36: 0.23891743 | O36: <0.1 | P36: <0.1
B37: Ijira | C37: Mean | D37: <0.1 | E37: 0.10333927 | F37: 0.12797761 | G37: 0.13962472 | H37: 0.22273175 | I37: 0.19193484 | J37: 0.10141929 | K37: 0.23122029 | L37: 0.17632691 | M37: 0.16117612 | N37: <0.1 | O37: <0.1 | P37: 0.13679139
C38: % | D38: 100 | E38: 100 | F38: 100 | G38: 100 | H38: 100 | I38: 100 | J38: 100 | K38: 100 | L38: 100 | M38: 100 | N38: 100 | O38: 100 | P38: 100
C39: Max-2w | D39: <0.1 | E39: 0.1205884 | F39: 0.13605767 | G39: 0.21868779 | H39: 0.24564633 | I39: 0.19382555 | J39: 0.11908957 | K39: 0.40276422 | L39: 0.20650654 | M39: 0.2159619 | N39: <0.1 | O39: <0.1 | P39: 0.40276422
C40: Min-2w | D40: <0.1 | E40: <0.1 | F40: 0.11989756 | G40: <0.1 | H40: 0.19981718 | I40: 0.19004413 | J40: <0.1 | K40: <0.1 | L40: 0.14614729 | M40: 0.11468042 | N40: <0.1 | O40: <0.1 | P40: <0.1
B41: Oki | C41: Mean | D41: 1.0861759 | E41: 0.93515337 | F41: 0.93601372 | G41: 0.80281679 | H41: 0.88061963 | I41: 1.1329574 | J41: 1.0747962 | K41: 0.59854754 | L41: 0.74553817 | M41: - | N41: - | O41: 0.58776536 | P41: 0.88479248
...

Sheet NH3
A1: Table 4.6 NH3
A3: Unit : ppb | D3: ='SO2'!D3:O3 -> 2012 | P3: Annual
A4: Country | B4: Site | D4: Jan | E4: Feb | F4: Mar | G4: Apr | H4: May | I4: Jun | J4: Jul | K4: Aug | L4: Sep | M4: Oct | N4: Nov | O4: Dec
A5: Cambodia | B5: Phnom Penh | C5: Mean | D5: 13.101131 | E5: 17.086651 | F5: 9.1438319 | G5: 7.0028043 | H5: 8.4154245 | I5: 6.5592787 | J5: 7.9154064 | K5: 12.917553 | L5: 10.844664 | M5: 7.8056819 | N5: 8.5125715 | O5: 7.7338301 | P5: 9.8515016
C6: % | D6: 100 | E6: 100 | F6: 100 | G6: 100 | H6: 100 | I6: 100 | J6: 100 | K6: 100 | L6: 100 | M6: 100 | N6: 100 | O6: 100 | P6: 100
C7: Max-2w | D7: 17.164763 | E7: 18.322779 | F7: 15.847199 | G7: 9.1997926 | H7: 9.1499968 | I7: 7.9148919 | J7: 8.7975979 | K7: 13.828617 | L7: 15.027652 | M7: 8.203889 | N7: 10.826855 | O7: 8.5468034 | P7: 18.322779
C8: Min-2w | D8: 9.0374998 | E8: 15.850522 | F8: 4.810487 | G8: 4.8058159 | H8: 7.6808522 | I8: 5.2036655 | J8: 7.0332149 | K8: 11.915852 | L8: 6.661675 | M8: 7.4074748 | N8: 6.1982876 | O8: 6.9208567 | P8: 4.8058159
A9: China | B9: Hongwen | C9: Mean
C10: %
C11: Max-2w
C12: Min-2w
A13: Indonesia | B13: Serpong | C13: Mean | D13: 8.6890357 | E13: 9.799111 | F13: 9.0450786 | G13: 12.659409 | H13: 23.976505 | I13: 21.974885 | J13: 23.896531 | K13: 22.505219 | L13: 21.882187 | M13: 19.450551 | N13: 10.069289 | O13: 8.9363925 | P13: 16.050719
C14: % | D14: 96.551724 | E14: 100 | F14: 100 | G14: 100 | H14: 100 | I14: 100 | J14: 100 | K14: 100 | L14: 100 | M14: 100 | N14: 100 | O14: 91.176471 | P14: 98.927614
C15: Max-2w | D15: 10.048228 | E15: 10.639638 | F15: 11.953681 | G15: 15.864493 | H15: 33.465707 | I15: 24.964365 | J15: 27.92161 | K15: 24.808393 | L15: 27.378697 | M15: 20.495815 | N15: 10.942145 | O15: 10.187137 | P15: 33.465707
C16: Min-2w | D16: 7.3298437 | E16: 8.9585843 | F16: 5.6756684 | G16: 9.4543236 | H16: 14.487303 | I16: 18.985405 | J16: 19.871453 | K16: 19.559955 | L16: 16.385678 | M16: 18.405287 | N16: 9.1964317 | O16: 7.6856477 | P16: 5.6756684
A17: Japan | B17: Rishiri | C17: Mean | D17: <0.1 | E17: <0.1 | F17: 0.14314558 | G17: 0.43448921 | H17: 0.47010844 | I17: 0.55913374 | J17: 0.4542316 | K17: 0.63398322 | L17: 0.53864579 | M17: 0.34322883 | N17: 0.13104585 | O17: 0.10211207 | P17: 0.33484441
C18: % | D18: 100 | E18: 100 | F18: 100 | G18: 100 | H18: 100 | I18: 100 | J18: 100 | K18: 100 | L18: 100 | M18: 100 | N18: 100 | O18: 100 | P18: 100
C19: Max-2w | D19: <0.1 | E19: <0.1 | F19: 0.16474956 | G19: 0.63082493 | H19: 0.75667953 | I19: 0.57912788 | J19: 0.45847471 | K19: 0.77964551 | L19: 0.65932191 | M19: 0.37572671 | N19: 0.13374126 | O19: 0.10899202 | P19: 0.77964551
C20: Min-2w | D20: <0.1 | E20: <0.1 | F20: 0.1215416 | G20: 0.23815349 | H20: 0.28505166 | I20: 0.53913959 | J20: 0.44998849 | K20: 0.48832093 | L20: 0.41796967 | M20: 0.28372215 | N20: 0.12835043 | O20: <0.1 | P20: <0.1
B21: Ochiishi | C21: Mean | D21: 0.1200846 | E21: 0.16568002 | F21: <0.1 | G21: 0.21264254 | H21: 0.33704069 | I21: 0.34242335 | J21: 0.33744817 | K21: 0.52099656 | L21: 1.0242439 | M21: 0.90243178 | N21: 0.42041538 | O21: 0.22669415 | P21: 0.36570943
C22: % | D22: 100 | E22: 100 | F22: 100 | G22: 100 | H22: 100 | I22: 100 | J22: 100 | K22: 100 | L22: 100 | M22: 53.333333 | N22: 100 | O22: 100 | P22: 96.164384
C23: Max-2w | D23: 0.14679956 | E23: 0.17851333 | F23: 0.14661526 | G23: 0.30331219 | H23: 0.43195998 | I23: 0.406106 | J23: 0.36675435 | K23: 0.53748912 | L23: 1.4588262 | M23: 0.90243178 | N23: 0.42041538 | O23: 0.33550423 | P23: 1.4588262
C24: Min-2w | D24: <0.1 | E24: 0.15284671 | F24: <0.1 | G24: 0.1219729 | H24: 0.2421214 | I24: 0.2787407 | J24: 0.28142805 | K24: 0.50450401 | L24: 0.58966147 | M24: 0.90243178 | N24: 0.42041538 | O24: 0.11788407 | P24: <0.1
B25: Tappi | C25: Mean | D25: 0.12653744 | E25: <0.1 | F25: 0.19422774 | G25: 0.46452595 | H25: 0.51651669 | I25: 0.51161209 | J25: 0.62117257 | K25: 0.86462893 | L25: 0.90593034 | M25: 0.47377769 | N25: 0.23416746 | O25: 0.12235601 | P25: 0.4249116
C26: % | D26: 100 | E26: 100 | F26: 100 | G26: 100 | H26: 66.666667 | I26: 100 | J26: 100 | K26: 100 | L26: 100 | M26: 100 | N26: 100 | O26: 100 | P26: 96.153846
C27: Max-2w | D27: 0.19072598 | E27: <0.1 | F27: 0.25338243 | G27: 0.48630514 | H27: 0.56913101 | I27: 0.55455367 | J27: 0.67133859 | K27: 0.88121427 | L27: 0.96898601 | M27: 0.59177659 | N27: 0.27237233 | O27: 0.1366984 | P27: 0.96898601
C28: Min-2w | D28: <0.1 | E28: <0.1 | F28: 0.13507306 | G28: 0.44274675 | H28: 0.46390237 | I28: 0.4686705 | J28: 0.57100655 | K28: 0.84804359 | L28: 0.84287468 | M28: 0.32314599 | N28: 0.19596258 | O28: 0.10801361 | P28: <0.1
B29: Sado-seki | C29: Mean | D29: <0.1 | E29: 0.1227093 | F29: 0.24314449 | G29: 1.0226702 | H29: 1.1674266 | I29: 0.83006718 | J29: 1.1055936 | K29: 0.75756154 | L29: 0.5121361 | M29: 0.5760111 | N29: 0.23720367 | O29: 0.15590586 | P29: 0.5878551
C30: % | D30: 100 | E30: 50 | F30: 100 | G30: 66.666667 | H30: 100 | I30: 100 | J30: 100 | K30: 100 | L30: 100 | M30: 100 | N30: 100 | O30: 100 | P30: 92.200557
C31: Max-2w | D31: 0.10053976 | E31: 0.1227093 | F31: 0.31694365 | G31: 1.2255712 | H31: 1.5346514 | I31: 0.85755013 | J31: 1.490344 | K31: 0.84882875 | L31: 0.62833746 | M31: 0.68021453 | N31: 0.34988989 | O31: 0.17494464 | P31: 1.5346514
C32: Min-2w | D32: <0.1 | E32: 0.1227093 | F32: 0.16934534 | G32: 0.8197692 | H32: 0.80020177 | I32: 0.80258422 | J32: 0.72084331 | K32: 0.66629433 | L32: 0.39593473 | M32: 0.5015355 | N32: 0.12451744 | O32: 0.13686708 | P32: <0.1
B33: Happo | C33: Mean | D33: <0.1 | E33: <0.1 | F33: 0.17177752 | G33: 0.45909601 | H33: 0.7528729 | I33: 0.46922028 | J33: - | K33: 0.95930142 | L33: 0.4860683 | M33: 0.37243367 | N33: 0.2168651 | O33: 0.22187801 | P33: 0.39971144
C34: % | D34: 100 | E34: 100 | F34: 100 | G34: 100 | H34: 100 | I34: 100 | J34: 0 | K34: 100 | L34: 100 | M34: 100 | N34: 100 | O34: 100 | P34: 92.200557
C35: Max-2w | D35: 0.11837721 | E35: <0.1 | F35: 0.20123783 | G35: 0.6627818 | H35: 0.81500456 | I35: 0.49567147 | J35: - | K35: 1.3210428 | L35: 0.51630922 | M35: 0.52342261 | N35: 0.2168651 | O35: 0.22609679 | P35: 1.3210428
C36: Min-2w | D36: <0.1 | E36: <0.1 | F36: 0.1423172 | G36: 0.28664401 | H36: 0.69074124 | I36: 0.44276908 | J36: - | K36: 0.59756007 | L36: 0.45582739 | M36: 0.18483796 | N36: 0.2168651 | O36: 0.21765923 | P36: <0.1
B37: Ijira | C37: Mean | D37: 0.18525819 | E37: 0.23509972 | F37: 0.3877976 | G37: 1.3359969 | H37: 1.4163687 | I37: 1.3487862 | J37: 1.9745898 | K37: 1.8765079 | L37: 1.1524202 | M37: 1.0404673 | N37: 0.40364879 | O37: 0.28478791 | P37: 0.9869201
C38: % | D38: 100 | E38: 100 | F38: 100 | G38: 100 | H38: 100 | I38: 100 | J38: 100 | K38: 100 | L38: 100 | M38: 100 | N38: 100 | O38: 100 | P38: 100
C39: Max-2w | D39: 0.29468378 | E39: 0.26532296 | F39: 0.49635608 | G39: 2.1069471 | H39: 1.4457475 | I39: 1.554942 | J39: 2.4234734 | K39: 1.9793269 | L39: 1.2857105 | M39: 1.4923945 | N39: 0.56779643 | O39: 0.40752455 | P39: 2.4234734
C40: Min-2w | D40: <0.1 | E40: 0.20487647 | F40: 0.27923913 | G40: 0.47941923 | H40: 1.3869899 | I40: 1.1426305 | J40: 1.5257061 | K40: 1.7736889 | L40: 1.0191299 | M40: 0.61299607 | N40: 0.23950115 | O40: 0.16205126 | P40: <0.1
B41: Oki | C41: Mean | D41: 0.15996714 | E41: 0.20917738 | F41: 0.28728667 | G41: 0.39122471 | H41: 1.177578 | I41: 1.0740934 | J41: 0.44827397 | K41: 0.52618578 | L41: 0.94820943 | M41: - | N41: - | O41: 0.10065027 | P41: 0.54373311
...

Sheet NO
A1: Table 4.7 NO
A3: Unit : ppb | D3: ='SO2'!D3:O3 -> 2012 | P3: Annual
A4: Country | B4: Site | D4: Jan | E4: Feb | F4: Mar | G4: Apr | H4: May | I4: Jun | J4: Jul | K4: Aug | L4: Sep | M4: Oct | N4: Nov | O4: Dec
A5: China | B5: Jinyunshan | C5: Mean | D5: 3.1733333 | E5: 2.7034483 | F5: 1.0666667 | G5: 1.6275862 | H5: 1.5172414 | I5: 1.1862069 | J5: 1.4967742 | K5: 1.36 | L5: 2.7466667 | M5: 2.2709677 | N5: 2.2133333 | O5: 3.3548387 | P5: 2.0741573
C6: % | D6: 96.774194 | E6: 100 | F6: 87.096774 | G6: 96.666667 | H6: 93.548387 | I6: 96.666667 | J6: 100 | K6: 96.774194 | L6: 100 | M6: 100 | N6: 100 | O6: 100 | P6: 97.534247
C7: Max-d | D7: 6.4 | E7: 6.4 | F7: 2.4 | G7: 3.2 | H7: 4.8 | I7: 4 | J7: 6.4 | K7: 4 | L7: 4.8 | M7: 4.8 | N7: 7.2 | O7: 15.2 | P7: 15.2
C8: Min-d | D8: 1.6 | E8: 0.8 | F8: 0.8 | G8: 0.8 | H8: 0.8 | I8: 0.8 | J8: 0.8 | K8: 0.8 | L8: 2.4 | M8: 0.8 | N8: 0.8 | O8: 0.8 | P8: 0.8
A9: Japan | B9: Rishiri | C9: Mean | D9: <0.1 | E9: <0.1 | F9: <0.1 | G9: <0.1 | H9: <0.1 | I9: 0.18983051 | J9: 0.17307692 | K9: 0.10357143 | L9: <0.1 | M9: <0.1 | N9: <0.1 | O9: <0.1 | P9: <0.1
C10: % | D10: 98.387097 | E10: 97.701149 | F10: 89.919355 | G10: 97.5 | H10: 97.849462 | I10: 98.333333 | J10: 97.849462 | K10: 97.849462 | L10: 84.444444 | M10: 97.849462 | N10: 98.194444 | O10: 97.043011 | P10: 96.083789
C11: Max-d | D11: 0.17083333 | E11: 0.16 | F11: 0.19583333 | G11: 0.25 | H11: 0.19583333 | I11: 0.555 | J11: 0.425 | K11: 0.3875 | L11: 0.14583333 | M11: 0.20833333 | N11: 0.125 | O11: 0.11666667 | P11: 0.555
C12: Min-d | D12: <0.1 | E12: <0.1 | F12: <0.1 | G12: <0.1 | H12: <0.1 | I12: <0.1 | J12: <0.1 | K12: <0.1 | L12: <0.1 | M12: <0.1 | N12: <0.1 | O12: <0.1 | P12: <0.1
B13: Ochiishi | C13: Mean | D13: <0.1 | E13: <0.1 | F13: <0.1 | G13: <0.1 | H13: <0.1 | I13: 0.17492163 | J13: 0.21360449 | K13: 0.12187938 | L13: <0.1 | M13: <0.1 | N13: <0.1 | O13: <0.1 | P13: <0.1
C14: % | D14: 81.317204 | E14: 91.666667 | F14: 96.908602 | G14: 98.055556 | H14: 95.698925 | I14: 88.611111 | J14: 95.833333 | K14: 95.833333 | L14: 95.694444 | M14: 95.698925 | N14: 91.111111 | O14: 95.295699 | P14: 93.48816
C15: Max-d | D15: <0.1 | E15: 0.10434783 | F15: 0.11304348 | G15: 0.1875 | H15: 0.8125 | I15: 1.8 | J15: 1.0652174 | K15: 0.3826087 | L15: 0.42608696 | M15: 0.2 | N15: <0.1 | O15: 0.11304348 | P15: 1.8
C16: Min-d | D16: <0.1 | E16: <0.1 | F16: <0.1 | G16: <0.1 | H16: <0.1 | I16: <0.1 | J16: <0.1 | K16: <0.1 | L16: <0.1 | M16: <0.1 | N16: <0.1 | O16: <0.1 | P16: <0.1
B17: Tappi | C17: Mean | D17: <0.1 | E17: 0.10540146 | F17: 0.11202186 | G17: 0.21197183 | H17: 0.19307065 | I17: 0.33178622 | J17: 0.15481682 | K17: 0.16100543 | L17: 0.17768362 | M17: <0.1 | N17: 0.1286123 | O17: <0.1 | P17: 0.14424892
C18: % | D18: 98.387097 | E18: 98.41954 | F18: 98.387097 | G18: 98.611111 | H18: 98.924731 | I18: 98.75 | J18: 99.05914 | K18: 98.924731 | L18: 98.333333 | M18: 88.575269 | N18: 97.083333 | O18: 98.924731 | P18: 97.68898
C19: Max-d | D19: 0.1375 | E19: 0.23181818 | F19: 0.27916667 | G19: 0.75 | H19: 0.625 | I19: 1.2916667 | J19: 0.4826087 | K19: 0.2875 | L19: 0.47083333 | M19: 0.20416667 | N19: 0.275 | O19: <0.1 | P19: 1.2916667
C20: Min-d | D20: <0.1 | E20: <0.1 | F20: <0.1 | G20: <0.1 | H20: <0.1 | I20: <0.1 | J20: <0.1 | K20: <0.1 | L20: <0.1 | M20: <0.1 | N20: <0.1 | O20: <0.1 | P20: <0.1
B21: Sado-seki | C21: Mean | D21: <0.1 | E21: <0.1 | F21: <0.1 | G21: <0.1 | H21: <0.1 | I21: <0.1 | J21: <0.1 | K21: <0.1 | L21: <0.1 | M21: <0.1 | N21: 0.11313756 | O21: <0.1 | P21: <0.1
C22: % | D22: 97.983871 | E22: 97.126437 | F22: 97.580645 | G22: 94.583333 | H22: 95.698925 | I22: 97.083333 | J22: 96.908602 | K22: 87.634409 | L22: 94.722222 | M22: 95.026882 | N22: 89.861111 | O22: 80.241935 | P22: 93.681694
C23: Max-d | D23: 0.21666667 | E23: 0.215 | F23: 0.21666667 | G23: 0.125 | H23: 0.10833333 | I23: 0.20833333 | J23: 0.1173913 | K23: 0.14583333 | L23: 0.125 | M23: 0.10416667 | N23: 0.23333333 | O23: 0.1625 | P23: 0.23333333
C24: Min-d | D24: <0.1 | E24: <0.1 | F24: <0.1 | G24: <0.1 | H24: <0.1 | I24: <0.1 | J24: <0.1 | K24: <0.1 | L24: <0.1 | M24: <0.1 | N24: <0.1 | O24: <0.1 | P24: <0.1
B25: Happo | C25: Mean | D25: <0.1 | E25: 0.1544 | F25: <0.1 | G25: <0.1 | H25: <0.1 | I25: <0.1 | J25: <0.1 | K25: <0.1 | L25: <0.1 | M25: <0.1 | N25: <0.1 | O25: <0.1 | P25: <0.1
C26: % | D26: 99.731183 | E26: 71.83908 | F26: 100 | G26: 97.777778 | H26: 98.387097 | I26: 97.777778 | J26: 97.849462 | K26: 96.639785 | L26: 82.777778 | M26: 97.311828 | N26: 98.333333 | O26: 97.849462 | P26: 94.820128
C27: Max-d | D27: 0.60833333 | E27: 0.29166667 | F27: 0.325 | G27: <0.1 | H27: 0.2375 | I27: 0.19583333 | J27: 0.1875 | K27: 0.1625 | L27: 0.10416667 | M27: 0.15416667 | N27: 0.17916667 | O27: 0.24 | P27: 0.60833333
C28: Min-d | D28: <0.1 | E28: <0.1 | F28: <0.1 | G28: <0.1 | H28: <0.1 | I28: <0.1 | J28: <0.1 | K28: <0.1 | L28: <0.1 | M28: <0.1 | N28: <0.1 | O28: <0.1 | P28: <0.1
B29: Ijira | C29: Mean | D29: <0.1 | E29: <0.1 | F29: <0.1 | G29: <0.1 | H29: <0.1 | I29: <0.1 | J29: 0.20298913 | K29: 0.72398374 | L29: 0.13370787 | M29: <0.1 | N29: <0.1 | O29: <0.1 | P29: 0.11222278
C30: % | D30: 36.155914 | E30: 98.994253 | F30: 98.387097 | G30: 98.888889 | H30: 98.924731 | I30: 97.777778 | J30: 98.924731 | K30: 99.193548 | L30: 98.888889 | M30: 98.924731 | N30: 87.083333 | O30: 85.349462 | P30: 91.370674
C31: Max-d | D31: 0.10833333 | E31: 0.33333333 | F31: 0.18181818 | G31: <0.1 | H31: 0.12916667 | I31: 0.35 | J31: 0.8375 | K31: 1.8875 | L31: 0.48333333 | M31: 0.2 | N31: 0.10416667 | O31: 0.275 | P31: 1.8875
C32: Min-d | D32: <0.1 | E32: <0.1 | F32: <0.1 | G32: <0.1 | H32: <0.1 | I32: <0.1 | J32: <0.1 | K32: <0.1 | L32: <0.1 | M32: <0.1 | N32: <0.1 | O32: <0.1 | P32: <0.1
B33: Oki | C33: Mean | D33: <0.1 | E33: <0.1 | F33: <0.1 | G33: <0.1 | H33: <0.1 | I33: <0.1 | J33: <0.1 | K33: 0.1403397 | L33: - | M33: <0.1 | N33: <0.1 | O33: 0.1542069 | P33: <0.1
C34: % | D34: 97.446237 | E34: 97.701149 | F34: 96.774194 | G34: 71.111111 | H34: 97.849462 | I34: 96.805556 | J34: 97.446237 | K34: 63.306452 | L34: 0 | M34: 61.155914 | N34: 98.194444 | O34: 97.446237 | P34: 81.341075
C35: Max-d | D35: 0.12083333 | E35: <0.1 | F35: <0.1 | G35: <0.1 | H35: 0.1875 | I35: <0.1 | J35: 0.21666667 | K35: 0.33333333 | L35: - | M35: 0.18333333 | N35: 0.2125 | O35: 0.20416667 | P35: 0.33333333
C36: Min-d | D36: <0.1 | E36: <0.1 | F36: <0.1 | G36: <0.1 | H36: <0.1 | I36: <0.1 | J36: <0.1 | K36: <0.1 | L36: - | M36: <0.1 | N36: <0.1 | O36: 0.10833333 | P36: 0.10833333
B37: Banryu | C37: Mean | D37: 0.34540466 | E37: 0.13612335 | F37: <0.1 | G37: <0.1 | H37: 0.11161202 | I37: 0.18036723 | J37: 0.21477428 | K37: 0.23702186 | L37: 0.19395218 | M37: 0.1733882 | N37: 0.15155367 | O37: <0.1 | P37: 0.1602478
C38: % | D38: 97.983871 | E38: 97.844828 | F38: 98.387097 | G38: 98.75 | H38: 98.387097 | I38: 98.333333 | J38: 98.252688 | K38: 98.387097 | L38: 98.75 | M38: 97.983871 | N38: 98.333333 | O38: 98.387097 | P38: 98.315118
C39: Max-d | D39: 0.52083333 | E39: 0.34761905 | F39: 0.20952381 | G39: 0.2375 | H39: 0.25714286 | I39: 0.37916667 | J39: 0.46666667 | K39: 0.4625 | L39: 0.53333333 | M39: 0.33333333 | N39: 0.31666667 | O39: 0.28333333 | P39: 0.53333333
C40: Min-d | D40: 0.18571429 | E40: <0.1 | F40: <0.1 | G40: <0.1 | H40: <0.1 | I40: 0.1 | J40: <0.1 | K40: <0.1 | L40: 0.11666667 | M40: <0.1 | N40: <0.1 | O40: <0.1 | P40: 0.1
B41: Yusuhara | C41: Mean | D41: 0.10690608 | E41: <0.1 | F41: <0.1 | G41: <0.1 | H41: <0.1 | I41: <0.1 | J41: <0.1 | K41: <0.1 | L41: <0.1 | M41: <0.1 | N41: <0.1 | O41: <0.1 | P41: <0.1
...

Sheet NO2
A1: Table 4.8 NO2
A3: Unit : ppb | D3: ='SO2'!D3:O3 -> 2012 | P3: Annual
A4: Country | B4: Site | D4: Jan | E4: Feb | F4: Mar | G4: Apr | H4: May | I4: Jun | J4: Jul | K4: Aug | L4: Sep | M4: Oct | N4: Nov | O4: Dec
A5: China | B5: Hongwen | C5: Mean | D5: 20.07871 | E5: 25.65931 | F5: 26.670968 | G5: 25.428 | H5: 17.16 | I5: 11.368276 | J5: 17.16 | K5: 16.310667 | L5: 16.102667 | M5: 16.338065 | N5: 23.209333 | O5: 24.523871 | P5: 20.038006
C6: % | D6: 100 | E6: 100 | F6: 100 | G6: 100 | H6: 100 | I6: 96.666667 | J6: 90.322581 | K6: 96.774194 | L6: 100 | M6: 100 | N6: 100 | O6: 100 | P6: 98.90411
C7: Max-d | D7: 36.92 | E7: 48.36 | F7: 46.8 | G7: 57.2 | H7: 49.4 | I7: 23.92 | J7: 41.08 | K7: 31.2 | L7: 30.16 | M7: 27.56 | N7: 46.28 | O7: 42.64 | P7: 57.2
C8: Min-d | D8: 8.32 | E8: 11.44 | F8: 9.36 | G8: 2.6 | H8: 3.64 | I8: 4.16 | J8: 6.24 | K8: 4.68 | L8: 10.4 | M8: 10.4 | N8: 13.52 | O8: 15.6 | P8: 2.6
B9: Xiang Zhou | C9: Mean | D9: 18.384516 | E9: 19.24 | F9: 17.747097 | G9: 13.797333 | H9: 17.864516 | I9: 7.5226667 | J9: 5.7367742 | K9: 11.892903 | L9: 10.590667 | M9: 9.6787097 | N9: 16.466667 | O9: 17.36129 | P9: 13.846776
C10: % | D10: 100 | E10: 100 | F10: 100 | G10: 100 | H10: 100 | I10: 100 | J10: 100 | K10: 100 | L10: 100 | M10: 100 | N10: 100 | O10: 100 | P10: 100.27397
C11: Max-d | D11: 34.32 | E11: 31.2 | F11: 37.96 | G11: 27.04 | H11: 27.56 | I11: 28.6 | J11: 15.6 | K11: 26.52 | L11: 24.44 | M11: 20.28 | N11: 28.6 | O11: 30.68 | P11: 37.96
C12: Min-d | D12: 8.32 | E12: 10.4 | F12: 10.92 | G12: 5.2 | H12: 6.76 | I12: 3.12 | J12: 1.56 | K12: 3.12 | L12: 2.08 | M12: 5.2 | N12: 7.28 | O12: 7.8 | P12: 1.56
A13: Indonesia | B13: Jakarta | C13: Mean | D13: 9 | E13: 9 | F13: 9 | G13: 15 | H13: 16 | I13: 15 | J13: 19 | K13: 29 | L13: 24 | M13: 13 | N13: 24 | O13: 13 | P13: 16.25
C14: % | D14: 100 | E14: 100 | F14: 100 | G14: 100 | H14: 100 | I14: 100 | J14: 100 | K14: 100 | L14: 100 | M14: 100 | N14: 100 | O14: 100 | P14: 100
C15: Max-m | D15: 9 | E15: 9 | F15: 9 | G15: 15 | H15: 16 | I15: 15 | J15: 19 | K15: 29 | L15: 24 | M15: 13 | N15: 24 | O15: 13 | P15: 29
C16: Min-m | D16: 9 | E16: 9 | F16: 9 | G16: 15 | H16: 16 | I16: 15 | J16: 19 | K16: 29 | L16: 24 | M16: 13 | N16: 24 | O16: 13 | P16: 9
B17: Kototabang | C17: Mean
C18: %
C19: Max-w
C20: Min-w
B21: Bandung | C21: Mean | D21: 29.465183 | E21: 40.910386 | F21: 30.69832 | G21: 44.394676 | H21: 42.730231 | I21: 41.423247 | J21: 40.781836 | K21: 30.954398 | L21: 49.185966 | M21: 51.741366 | N21: 56.927495 | O21: 54.760697 | P21: 42.83115
C22: % | D22: 100 | E22: 100 | F22: 100 | G22: 100 | H22: 100 | I22: 100 | J22: 100 | K22: 100 | L22: 100 | M22: 100 | N22: 100 | O22: 100 | P22: 100
C23: Max-m | D23: 29.465183 | E23: 40.910386 | F23: 30.69832 | G23: 44.394676 | H23: 42.730231 | I23: 41.423247 | J23: 40.781836 | K23: 30.954398 | L23: 49.185966 | M23: 51.741366 | N23: 56.927495 | O23: 54.760697 | P23: 56.927495
C24: Min-m | D24: 29.465183 | E24: 40.910386 | F24: 30.69832 | G24: 44.394676 | H24: 42.730231 | I24: 41.423247 | J24: 40.781836 | K24: 30.954398 | L24: 49.185966 | M24: 51.741366 | N24: 56.927495 | O24: 54.760697 | P24: 29.465183
A25: Japan | B25: Banryu | C25: Mean | D25: 2.7761317 | E25: 2.5929515 | F25: 2.6185792 | G25: 1.7770745 | H25: 1.4173497 | I25: 1.4829096 | J25: 1.3612859 | K25: 1.3789617 | L25: 1.2874824 | M25: 1.5855967 | N25: 2.2440678 | O25: 2.1282787 | P25: 1.8851088
C26: % | D26: 97.983871 | E26: 97.844828 | F26: 98.387097 | G26: 98.75 | H26: 98.387097 | I26: 98.333333 | J26: 98.252688 | K26: 98.387097 | L26: 98.75 | M26: 97.983871 | N26: 98.333333 | O26: 98.387097 | P26: 98.315118
C27: Max-d | D27: 5.1333333 | E27: 4.35 | F27: 4.947619 | G27: 3.6458333 | H27: 3.0416667 | I27: 2.9041667 | J27: 2.0416667 | K27: 2.6083333 | L27: 2.1458333 | M27: 2.4083333 | N27: 3.5833333 | O27: 4.6875 | P27: 5.1333333
C28: Min-d | D28: 1.1916667 | E28: 1.2714286 | F28: 1.0047619 | G28: 0.61666667 | H28: <0.1 | I28: 0.56666667 | J28: 0.46521739 | K28: 0.74166667 | L28: 0.6125 | M28: 0.93809524 | N28: 1.1375 | O28: 0.74166667 | P28: 0.46521739
A29: Republic of | B29: Kanghwa | C29: Mean | D29: 7.5 | E29: 4.4 | F29: 5.6 | G29: 6 | H29: 7.2 | I29: 3.7 | J29: 2.7 | K29: 4 | L29: 3.7 | M29: 3.4 | N29: 8.3 | O29: 2.9 | P29: 4.95
A30: Korea | C30: % | D30: 98 | E30: 100 | F30: 100 | G30: 100 | H30: 98 | I30: 95 | J30: 95 | K30: 78 | L30: 96 | M30: 98 | N30: 98 | O30: 97 | P30: 96.083333
C31: Max-d | D31: 12.7 | E31: 9.1 | F31: 11.5 | G31: 9.6 | H31: 14.1 | I31: 5.7 | J31: 3.6 | K31: 6.2 | L31: 4.5 | M31: 4.2 | N31: 13.7 | O31: 3.6 | P31: 14.1
C32: Min-d | D32: 3.3 | E32: 2.5 | F32: 3 | G32: 2.3 | H32: 3 | I32: 2 | J32: 1.8 | K32: 2.3 | L32: 2.3 | M32: 2.5 | N32: 3.7 | O32: 2.5 | P32: 1.8
B33: Cheju | C33: Mean | D33: 3.9 | E33: 2 | F33: 3.6 | G33: 3.4 | H33: 3.6 | I33: 3.4 | J33: 2.6 | K33: 2 | L33: 2.6 | M33: 2.3 | N33: 3.9 | O33: 2.9 | P33: 3.0166667
B34: (Kosan) | C34: % | D34: 100 | E34: 98 | F34: 100 | G34: 100 | H34: 93 | I34: 100 | J34: 99 | K34: 100 | L34: 94 | M34: 100 | N34: 100 | O34: 100 | P34: 98.666667
C35: Max-d | D35: 5.8 | E35: 4.5 | F35: 5.4 | G35: 4.7 | H35: 4.2 | I35: 4.6 | J35: 3.3 | K35: 3.8 | L35: 3.3 | M35: 3.6 | N35: 9 | O35: 5.6 | P35: 9
C36: Min-d | D36: 2 | E36: 0.3 | F36: 2.6 | G36: 2 | H36: 3 | I36: 2.2 | J36: 2.2 | K36: 1.2 | L36: 1.4 | M36: 1.4 | N36: 2.3 | O36: 1.7 | P36: 0.3
B37: Imsil | C37: Mean | D37: 7.3 | E37: 7.4 | F37: 6.2 | G37: 4.9 | H37: 4.1 | I37: 3.4 | J37: 1.6 | K37: 0.9 | L37: 2.2 | M37: 3 | N37: 3 | O37: 11.5 | P37: 4.625
C38: % | D38: 98 | E38: 98 | F38: 97 | G38: 100 | H38: 97 | I38: 93 | J38: 99 | K38: 96 | L38: 98 | M38: 93 | N38: 100 | O38: 92 | P38: 96.75
C39: Max-d | D39: 15.3 | E39: 13.2 | F39: 8.4 | G39: 8.9 | H39: 4.9 | I39: 6.2 | J39: 2.4 | K39: 1.8 | L39: 3.4 | M39: 3.8 | N39: 6.8 | O39: 26.7 | P39: 26.7
C40: Min-d | D40: 3.8 | E40: 2.6 | F40: 4.1 | G40: 2.8 | H40: 3.4 | I40: 1.7 | J40: 0.7 | K40: 0.2 | L40: 1.2 | M40: 2 | N40: 1.2 | O40: 4.8 | P40: 0.2
A41: Thailand | B41: Bangkok | C41: Mean | D41: 30.725738 | E41: 28.403963 | F41: 23.360056 | G41: 25.157712 | H41: 21.160284 | I41: 17.112593 | J41: 16.332378 | K41: 15.900709 | L41: 20.325893 | M41: 30.702866 | N41: 33.409621 | O41: 34.686869 | P41: 24.736874
...

Sheet NOx
A1: Table 4.9 NOx
A3: Unit : ppb | D3: ='SO2'!D3:O3 -> 2012 | P3: Annual
A4: Country | B4: Site | D4: Jan | E4: Feb | F4: Mar | G4: Apr | H4: May | I4: Jun | J4: Jul | K4: Aug | L4: Sep | M4: Oct | N4: Nov | O4: Dec
A5: China | B5: Jinyunshan | C5: Mean | D5: 10.384 | E5: 9.5172414 | F5: 8.2696296 | G5: 10.431724 | H5: 6.6275862 | I5: 5.6331034 | J5: 5.0193548 | K5: 5.364 | L5: 8.1026667 | M5: 8.9135484 | N5: 7.0493333 | O5: 15.130323 | P5: 8.3857303
B6: (NOx*) | C6: % | D6: 96.774194 | E6: 100 | F6: 87.096774 | G6: 96.666667 | H6: 93.548387 | I6: 96.666667 | J6: 100 | K6: 96.774194 | L6: 100 | M6: 100 | N6: 100 | O6: 100 | P6: 97.534247
C7: Max-d | D7: 19.08 | E7: 21.72 | F7: 13.04 | G7: 23.48 | H7: 11.8 | I7: 10.16 | J7: 14.72 | K7: 9.4 | L7: 12.32 | M7: 15.2 | N7: 11.84 | O7: 30.88 | P7: 30.88
C8: Min-d | D8: 3.68 | E8: 3.4 | F8: 3.92 | G8: 5.48 | H8: 2.36 | I8: 2.88 | J8: 1.84 | K8: 2.36 | L8: 5 | M8: 4.44 | N8: 2.88 | O8: 3.4 | P8: 1.84
A9: Japan | B9: Rishiri | C9: Mean | D9: 0.68715847 | E9: 1.1263235 | F9: 1.0509716 | G9: 0.93490028 | H9: 0.48983516 | I9: 0.67245763 | J9: 0.60728022 | K9: 0.48447802 | L9: 0.47944079 | M9: 0.58131868 | N9: 0.5330976 | O9: 0.77493075 | P9: 0.69986967
B10: (NOx*) | C10: % | D10: 98.387097 | E10: 97.701149 | F10: 89.919355 | G10: 97.5 | H10: 97.849462 | I10: 98.333333 | J10: 97.849462 | K10: 97.849462 | L10: 84.444444 | M10: 97.849462 | N10: 98.194444 | O10: 97.043011 | P10: 96.083789
C11: Max-d | D11: 1.4041667 | E11: 3.8333333 | F11: 2.3833333 | G11: 2.0666667 | H11: 1.4083333 | I11: 1.7958333 | J11: 2 | K11: 1.3708333 | L11: 0.8125 | M11: 1.15 | N11: 1.3916667 | O11: 3.4125 | P11: 3.8333333
C12: Min-d | D12: 0.2875 | E12: 0.42916667 | F12: 0.37 | G12: 0.20833333 | H12: <0.1 | I12: <0.1 | J12: <0.1 | K12: <0.1 | L12: 0.2125 | M12: <0.1 | N12: <0.1 | O12: 0.21666667 | P12: 0.20833333
B13: Ochiishi | C13: Mean | D13: 0.69553719 | E13: 0.88761755 | F13: 1.1234397 | G13: 1.3113314 | H13: 1.1258427 | I13: 1.2302508 | J13: 1.3214586 | K13: 1.1060309 | L13: 0.97053701 | M13: 0.85702247 | N13: 0.64375 | O13: 0.85599436 | P13: 1.0165977
B14: (NOx*) | C14: % | D14: 81.317204 | E14: 91.666667 | F14: 96.908602 | G14: 98.055556 | H14: 95.698925 | I14: 88.611111 | J14: 95.833333 | K14: 95.833333 | L14: 95.694444 | M14: 95.698925 | N14: 91.111111 | O14: 95.295699 | P14: 93.48816
C15: Max-d | D15: 1.4041667 | E15: 1.6 | F15: 2.2217391 | G15: 2.1565217 | H15: 2.4458333 | I15: 3.6071429 | J15: 3.1521739 | K15: 2.6608696 | L15: 2.5826087 | M15: 2.1434783 | N15: 1.1130435 | O15: 1.8956522 | P15: 3.6071429
C16: Min-d | D16: 0.15 | E16: 0.42173913 | F16: 0.46956522 | G16: 0.5173913 | H16: 0.3375 | I16: 0.33478261 | J16: 0.26956522 | K16: 0.41304348 | L16: 0.26086957 | M16: 0.37391304 | N16: 0.20869565 | O16: 0.16521739 | P16: 0.15
B17: Tappi | C17: Mean | D17: 0.57172131 | E17: 0.62248175 | F17: 1.0845628 | G17: 1.7643662 | H17: 2.051087 | I17: 2.3170183 | J17: 1.2164179 | K17: 0.90461957 | L17: 0.65225989 | M17: 0.7262519 | N17: 1.0517883 | O17: 0.96616848 | P17: 1.165074
B18: (NOx*) | C18: % | D18: 98.387097 | E18: 98.41954 | F18: 98.387097 | G18: 98.611111 | H18: 98.924731 | I18: 98.75 | J18: 99.05914 | K18: 98.924731 | L18: 98.333333 | M18: 88.575269 | N18: 97.083333 | O18: 98.924731 | P18: 97.68898
C19: Max-d | D19: 1.1782609 | E19: 2.1333333 | F19: 2.1375 | G19: 6.0541667 | H19: 6.5416667 | I19: 7.5666667 | J19: 2.625 | K19: 1.9541667 | L19: 1.8375 | M19: 1.7958333 | N19: 2.2083333 | O19: 2.0272727 | P19: 7.5666667
C20: Min-d | D20: 0.14166667 | E20: <0.1 | F20: 0.24583333 | G20: 0.77083333 | H20: 0.5375 | I20: <0.1 | J20: 0.16666667 | K20: 0.1125 | L20: 0.15 | M20: 0.325 | N20: 0.48461538 | O20: 0.275 | P20: 0.1125
B21: Sado-seki | C21: Mean | D21: 0.51358025 | E21: 0.79230769 | F21: 1.0012397 | G21: 1.0531571 | H21: 0.65407303 | I21: 0.76552217 | J21: 0.65436893 | K21: 0.59815951 | L21: 0.48070175 | M21: 0.51782178 | N21: 0.72612056 | O21: 0.73668342 | P21: 0.70722877
B22: (NOx*) | C22: % | D22: 97.983871 | E22: 97.126437 | F22: 97.580645 | G22: 94.583333 | H22: 95.698925 | I22: 97.083333 | J22: 96.908602 | K22: 87.634409 | L22: 95 | M22: 95.026882 | N22: 89.861111 | O22: 80.241935 | P22: 93.704463
C23: Max-d | D23: 1.7208333 | E23: 2.3391304 | F23: 1.95 | G23: 1.88 | H23: 1.4882353 | I23: 1.5416667 | J23: 1.1095238 | K23: 1.2791667 | L23: 1.1291667 | M23: 1.125 | N23: 1.4285714 | O23: 1.4416667 | P23: 2.3391304
C24: Min-d | D24: <0.1 | E24: 0.27083333 | F24: 0.40833333 | G24: 0.6 | H24: 0.14583333 | I24: 0.25833333 | J24: 0.19166667 | K24: 0.19166667 | L24: <0.1 | M24: 0.11666667 | N24: 0.2 | O24: 0.13333333 | P24: 0.11666667
B25: Happo | C25: Mean | D25: 1.0021563 | E25: 1.2266 | F25: 1.3051075 | G25: 1.5920455 | H25: 1.3075137 | I25: 1.5225852 | J25: 0.96758242 | K25: 1.3226704 | L25: 0.64597315 | M25: 0.90082873 | N25: 0.92259887 | O25: 0.86840659 | P25: 1.1352743
B26: (NOx*) | C26: % | D26: 99.731183 | E26: 71.83908 | F26: 100 | G26: 97.777778 | H26: 98.387097 | I26: 97.777778 | J26: 97.849462 | K26: 96.639785 | L26: 82.777778 | M26: 97.311828 | N26: 98.333333 | O26: 97.849462 | P26: 94.820128
C27: Max-d | D27: 2.775 | E27: 2.3416667 | F27: 2.4625 | G27: 3.1708333 | H27: 3.225 | I27: 2.975 | J27: 1.8666667 | K27: 2.9083333 | L27: 1.4166667 | M27: 1.5791667 | N27: 1.2583333 | O27: 1.8416667 | P27: 3.225
C28: Min-d | D28: 0.22083333 | E28: 0.4125 | F28: 0.55 | G28: 0.54166667 | H28: 0.375 | I28: 0.725 | J28: 0.1125 | K28: 0.39583333 | L28: <0.1 | M28: 0.44166667 | N28: 0.5 | O28: 0.2 | P28: 0.1125
B29: Ijira | C29: Mean | D29: 1.5732342 | E29: 1.3531205 | F29: 1.595082 | G29: 2.3005618 | H29: 2.7394022 | I29: 3.2607955 | J29: 2.9305707 | K29: 4.0974255 | L29: 1.7320225 | M29: 1.6516304 | N29: 1.3129187 | O29: 1.191811 | P29: 2.2031523
B30: (NOx*) | C30: % | D30: 36.155914 | E30: 98.994253 | F30: 98.387097 | G30: 98.888889 | H30: 98.924731 | I30: 97.777778 | J30: 98.924731 | K30: 99.193548 | L30: 98.888889 | M30: 98.924731 | N30: 87.083333 | O30: 85.349462 | P30: 91.370674
C31: Max-d | D31: 3.9583333 | E31: 5.5863636 | F31: 5.6 | G31: 5.0166667 | H31: 6.3083333 | I31: 6.7416667 | J31: 8.6583333 | K31: 7.4208333 | L31: 3.1041667 | M31: 5.9166667 | N31: 4.7333333 | O31: 3.3916667 | P31: 8.6583333
C32: Min-d | D32: 0.325 | E32: 0.10869565 | F32: 0.1625 | G32: <0.1 | H32: <0.1 | I32: 0.24583333 | J32: 0.225 | K32: 1.3458333 | L32: 0.35416667 | M32: 0.325 | N32: 0.29166667 | O32: 0.29583333 | P32: 0.10869565
B33: Oki | C33: Mean | D33: 1.2104828 | E33: 1.4751471 | F33: 1.3555556 | G33: 0.94960937 | H33: 0.52747253 | I33: 0.57560976 | J33: 0.70413793 | K33: 0.68980892 | L33: - | M33: 1.3017582 | N33: 1.1861386 | O33: 1.2884138 | P33: 1.0256823
B34: (NOx*) | C34: % | D34: 97.446237 | E34: 97.701149 | F34: 96.774194 | G34: 71.111111 | H34: 97.849462 | I34: 96.805556 | J34: 97.446237 | K34: 63.306452 | L34: 0 | M34: 61.155914 | N34: 98.194444 | O34: 97.446237 | P34: 81.341075
C35: Max-d | D35: 3.4666667 | E35: 3.7041667 | F35: 3.2 | G35: 1.6 | H35: 1.885 | I35: 1.85 | J35: 1.6416667 | K35: 1.5208333 | L35: - | M35: 2.025 | N35: 2.3791667 | O35: 2.8333333 | P35: 3.7041667
C36: Min-d | D36: 0.25833333 | E36: 0.4 | F36: 0.34583333 | G36: 0.45909091 | H36: <0.1 | I36: <0.1 | J36: 0.2 | K36: <0.1 | L36: - | M36: 0.81666667 | N36: 0.35 | O36: 0.60833333 | P36: 0.2
B37: Banryu | C37: Mean | D37: 3.1192044 | E37: 2.7311307 | F37: 2.6855191 | G37: 1.7995781 | H37: 1.5319672 | I37: 1.6614407 | J37: 1.5738714 | K37: 1.6144809 | L37: 1.4783404 | M37: 1.7576132 | N37: 2.3990113 | O37: 2.2229508 | P37: 2.0457619
C38: % | D38: 97.983871 | E38: 97.844828 | F38: 98.387097 | G38: 98.75 | H38: 98.387097 | I38: 98.333333 | J38: 98.252688 | K38: 98.387097 | L38: 98.75 | M38: 97.983871 | N38: 98.333333 | O38: 98.387097 | P38: 98.315118
C39: Max-d | D39: 5.5 | E39: 4.4916667 | F39: 5.147619 | G39: 3.8875 | H39: 3.1625 | I39: 3.1416667 | J39: 2.4416667 | K39: 3.0833333 | L39: 2.4 | M39: 2.5166667 | N39: 3.8791667 | O39: 4.925 | P39: 5.5
C40: Min-d | D40: 1.4416667 | E40: 1.375 | F40: 1.0190476 | G40: 0.64583333 | H40: 0.17916667 | I40: 0.7 | J40: 0.59130435 | K40: 0.90416667 | L40: 0.79166667 | M40: 1.1190476 | N40: 1.3583333 | O40: 0.68333333 | P40: 0.17916667
B41: Yusuhara | C41: Mean | D41: 2.1563536 | E41: 1.8675 | F41: 2.057953 | G41: 1.228592 | H41: 1.2809066 | I41: 0.90807927 | J41: 0.57847731 | K41: 0.60234114 | L41: 0.68917379 | M41: 1.2352859 | N41: 1.8278383 | O41: 1.9755525 | P41: 1.3817621
...

Sheet O3
A1: Table 4.10 O3
A3: Unit : ppb | D3: ='SO2'!D3:O3 -> 2012 | P3: Annual
A4: Country | B4: Site | D4: Jan | E4: Feb | F4: Mar | G4: Apr | H4: May | I4: Jun | J4: Jul | K4: Aug | L4: Sep | M4: Oct | N4: Nov | O4: Dec
A5: Japan | B5: Rishiri | C5: Mean | D5: 30.34143 | E5: 34.355491 | F5: 41.633333 | G5: 42.312989 | H5: 40.774865 | I5: 30.069456 | J5: 23.171757 | K5: 26.234189 | L5: 26.783468 | M5: 34.505405 | N5: 35.474477 | O5: 39.068378 | P5: 33.752225
C6: % | D6: 99.596774 | E6: 99.425287 | F6: 91.935484 | G6: 99.444444 | H6: 99.462366 | I6: 99.583333 | J6: 99.462366 | K6: 99.462366 | L6: 85.694444 | M6: 99.462366 | N6: 99.583333 | O6: 99.462366 | P6: 97.723133
C7: Max-d | D7: 32.45 | E7: 47.975 | F7: 55.995833 | G7: 52.920833 | H7: 61.779167 | I7: 41.775 | J7: 34.679167 | K7: 38.158333 | L7: 41.9 | M7: 43.526087 | N7: 41.95 | O7: 43.241667 | P7: 61.779167
C8: Min-d | D8: 26.9125 | E8: 30.15 | F8: 35.929167 | G8: 29.4375 | H8: 29.483333 | I8: 18.933333 | J8: 14.045833 | K8: 15.675 | L8: 17.8875 | M8: 27.25 | N8: 31.3625 | O8: 31.2875 | P8: 14.045833
B9: Ochiishi | C9: Mean | D9: 36.429167 | E9: 40.438329 | F9: 48.832301 | G9: 52.032915 | H9: 46.177369 | I9: 34.047994 | J9: 27.590713 | K9: 31.137466 | L9: 31.077361 | M9: 39.166129 | N9: 37.573563 | O9: 38.628243 | P9: 38.588018
C10: % | D10: 100 | E10: 99.712644 | F10: 99.865591 | G10: 99.583333 | H10: 95.026882 | I10: 90 | J10: 99.865591 | K10: 99.731183 | L10: 100 | M10: 100 | N10: 96.666667 | O10: 99.462366 | P10: 98.337887
C11: Max-d | D11: 39.341667 | E11: 47.05 | F11: 62.1375 | G11: 61.079167 | H11: 58.433333 | I11: 42.758333 | J11: 47 | K11: 43.954167 | L11: 42.375 | M11: 47.2625 | N11: 44.2125 | O11: 41.9625 | P11: 62.1375
C12: Min-d | D12: 33.391667 | E12: 36.391667 | F12: 43.033333 | G12: 40.141667 | H12: 36.504167 | I12: 24.6125 | J12: 20.891667 | K12: 14.620833 | L12: 16.0875 | M12: 34.033333 | N12: 32.879167 | O12: 32.545833 | P12: 14.620833
B13: Tappi | C13: Mean | D13: 35.687363 | E13: 39.84806 | F13: 47.679219 | G13: 50.22744 | H13: 48.71087 | I13: 38.054993 | J13: 32.324966 | K13: 38.089674 | L13: 40.187465 | M13: 40.631715 | N13: 37.752882 | O13: 39.454348 | P13: 40.708289
C14: % | D14: 97.849462 | E14: 96.264368 | F14: 96.370968 | G14: 98.194444 | H14: 98.924731 | I14: 98.75 | J14: 99.05914 | K14: 98.924731 | L14: 98.611111 | M14: 88.575269 | N14: 96.388889 | O14: 98.924731 | P14: 97.233607
C15: Max-d | D15: 38.618182 | E15: 48.433333 | F15: 58.620833 | G15: 63.520833 | H15: 63.445833 | I15: 55.9625 | J15: 52.6125 | K15: 50.525 | L15: 50.925 | M15: 49.525 | N15: 48.2 | O15: 43.295833 | P15: 63.520833
C16: Min-d | D16: 32.283333 | E16: 35.15 | F16: 42.695833 | G16: 39.345833 | H16: 33.729167 | I16: 26.508333 | J16: 21.15 | K16: 25.1375 | L16: 26.854545 | M16: 34.816667 | N16: 33.6 | O16: 35.5625 | P16: 21.15
B17: Sado-seki | C17: Mean | D17: 40.218478 | E17: 44.755831 | F17: 54.597965 | G17: 59.431942 | H17: 61.555951 | I17: 50.530791 | J17: 42.700695 | K17: 38.556193 | L17: 39.624255 | M17: 42.140865 | N17: 37.748939 | O17: 40.631315 | P17: 46.196146
C18: % | D18: 98.924731 | E18: 98.563218 | F18: 99.05914 | G18: 96.527778 | H18: 98.252688 | I18: 98.333333 | J18: 96.639785 | K18: 88.978495 | L18: 97.916667 | M18: 96.370968 | N18: 98.194444 | O18: 77.688172 | P18: 95.412113
C19: Max-d | D19: 44.375 | E19: 52.65 | F19: 68.116667 | G19: 78.733333 | H19: 83.2375 | I19: 67.443478 | J19: 58.447826 | K19: 54.475 | L19: 54.308696 | M19: 53.676923 | N19: 46.290909 | O19: 45.675 | P19: 83.2375
C20: Min-d | D20: 31.358333 | E20: 37.629167 | F20: 47.604167 | G20: 50.8625 | H20: 46.358333 | I20: 34.6125 | J20: 26.882609 | K20: 23.270833 | L20: 28.525 | M20: 33.121739 | N20: 33.05 | O20: 33.565217 | P20: 23.270833
B21: Happo | C21: Mean | D21: 40.87292 | E21: 47.74078 | F21: 55.452016 | G21: 63.148045 | H21: 66.515924 | I21: 56.990503 | J21: 40.881486 | K21: 41.683995 | L21: 39.387685 | M21: 45.471487 | N21: 44.527476 | O21: 42.657162 | P21: 48.936407
C22: % | D22: 95.295699 | E22: 81.034483 | F22: 100 | G22: 99.444444 | H22: 99.596774 | I22: 99.444444 | J22: 99.462366 | K22: 98.252688 | L22: 84.583333 | M22: 98.521505 | N22: 99.583333 | O22: 99.462366 | P22: 96.311475
C23: Max-d | D23: 47.120833 | E23: 59.041667 | F23: 74.058333 | G23: 76.875 | H23: 87.3 | I23: 71.3125 | J23: 60.245833 | K23: 60.716667 | L23: 58.55 | M23: 57.545833 | N23: 51.9875 | O23: 50.241667 | P23: 87.3
C24: Min-d | D24: 35.883333 | E24: 40.2125 | F24: 48.9 | G24: 47.979167 | H24: 48.445833 | I24: 39.283333 | J24: 16.891667 | K24: 17.729167 | L24: 26.441667 | M24: 36.226087 | N24: 37.054167 | O24: 36.03913 | P24: 16.891667
B25: Ijira | C25: Mean | D25: 21.085887 | E25: 25.987861 | F25: 31.662953 | G25: 36.900978 | H25: 32.983243 | I25: 19.706601 | J25: 18.459459 | K25: 17.573684 | L25: 19.140922 | M25: 27.579459 | N25: 19.953352 | O25: 22.729283 | P25: 24.479506
C26: % | D26: 100 | E26: 99.425287 | F26: 96.505376 | G26: 99.444444 | H26: 99.462366 | I26: 98.888889 | J26: 99.462366 | K26: 99.596774 | L26: 99.444444 | M26: 99.462366 | N26: 99.444444 | O26: 86.290323 | P26: 98.098816
C27: Max-d | D27: 27.3125 | E27: 36.683333 | F27: 44.608333 | G27: 53.126087 | H27: 52.6375 | I27: 31.708333 | J27: 33.2875 | K27: 40.75 | L27: 30.9625 | M27: 39.320833 | N27: 29.625 | O27: 30.725 | P27: 53.126087
C28: Min-d | D28: 13.245833 | E28: 16.391304 | F28: 15.729167 | G28: 22.129167 | H28: 12.85 | I28: 7.2916667 | J28: 7 | K28: 4.075 | L28: 5.6391304 | M28: 15.7375 | N28: 12.225 | O28: 8.4541667 | P28: 4.075
B29: Oki | C29: Mean | D29: 38.436977 | E29: 42.035057 | F29: 52.92111 | G29: 58.596229 | H29: 60.850538 | I29: 48.429707 | J29: 41.997571 | K29: 40.616689 | L29: 45.804028 | M29: 46.529435 | N29: 40.610292 | O29: 38.298919 | P29: 46.259578
C30: % | D30: 99.596774 | E30: 100 | F30: 99.327957 | G30: 99.444444 | H30: 100 | I30: 99.583333 | J30: 99.596774 | K30: 99.865591 | L30: 100 | M30: 100 | N30: 99.861111 | O30: 99.462366 | P30: 99.726776
C31: Max-d | D31: 43.266667 | E31: 48.05 | F31: 69.845833 | G31: 75.670833 | H31: 84.425 | I31: 60.345833 | J31: 56.275 | K31: 55.841667 | L31: 62.045833 | M31: 59.554167 | N31: 50.758333 | O31: 43.066667 | P31: 84.425
C32: Min-d | D32: 33.366667 | E32: 36.833333 | F32: 45.266667 | G32: 48.583333 | H32: 44.566667 | I32: 35.816667 | J32: 21.3125 | K32: 24.016667 | L32: 23.520833 | M32: 38.079167 | N32: 33.275 | O32: 32.504167 | P32: 21.3125
B33: Banryu | C33: Mean | D33: 29.088978 | E33: 32.593822 | F33: 42.274731 | G33: 48.348194 | H33: 48.239072 | I33: 32.804167 | J33: 24.935215 | K33: 19.842876 | L33: 28.033056 | M33: 31.817473 | N33: 30.630972 | O33: 30.191463 | P33: 33.088922
C34: % | D34: 100 | E34: 100 | F34: 100 | G34: 100 | H34: 89.784946 | I34: 100 | J34: 100 | K34: 100 | L34: 100 | M34: 100 | N34: 100 | O34: 99.193548 | P34: 99.066485
C35: Max-d | D35: 36.429167 | E35: 44.083333 | F35: 62.729167 | G35: 64.175 | H35: 68.825 | I35: 47.791667 | J35: 46.483333 | K35: 37.333333 | L35: 45.616667 | M35: 47.179167 | N35: 43.4375 | O35: 37.854167 | P35: 68.825
C36: Min-d | D36: 17.241667 | E36: 19.75 | F36: 24.275 | G36: 32.504167 | H36: 24.2 | I36: 15.895833 | J36: 11.458333 | K36: 8.3166667 | L36: 7.1083333 | M36: 23.158333 | N36: 21.033333 | O36: 14.429167 | P36: 7.1083333
B37: Yusuhara | C37: Mean | D37: 31.704865 | E37: 35.361216 | F37: 42.783108 | G37: 48.780254 | H37: 49.607442 | I37: 33.024664 | J37: 21.172818 | K37: 11.693069 | L37: 25.098599 | M37: 37.377657 | N37: 34.378802 | O37: 31.876407 | P37: 34.000883
C38: % | D38: 99.462366 | E38: 99.281609 | F38: 99.462366 | G38: 98.472222 | H38: 99.327957 | I38: 92.916667 | J38: 93.951613 | K38: 81.451613 | L38: 99.166667 | M38: 98.655914 | N38: 90.416667 | O38: 62.096774 | P38: 92.827869
C39: Max-d | D39: 37.441667 | E39: 46.254167 | F39: 57.343478 | G39: 65.220833 | H39: 72.716667 | I39: 57.536364 | J39: 35.5625 | K39: 25.9875 | L39: 50.383333 | M39: 45.245833 | N39: 43.233333 | O39: 35.254167 | P39: 72.716667
C40: Min-d | D40: 22.475 | E40: 30.804167 | F40: 29.858333 | G40: 38.95 | H40: 31.947826 | I40: 12.1375 | J40: 5.6 | K40: 5.0125 | L40: 9.2391304 | M40: 27.170833 | N40: 27.72 | O40: 27.466667 | P40: 5.0125
B41: Hedo | C41: Mean | D41: 41.574661 | E41: 43.325694 | F41: 48.167388 | G41: 46.784174 | H41: 45.919648 | I41: 20.380812 | J41: 10.501907 | K41: 13.516737 | L41: 24.27799 | M41: 43.43038 | N41: 44.078299 | O41: 41.714363 | P41: 35.193879
...

Sheet PM10
A1: Table 4.11 PM10
A3: Unit : mg/m3 | D3: ='SO2'!D3:O3 -> 2012 | P3: Annual
A4: Country | B4: Site | D4: Jan | E4: Feb | F4: Mar | G4: Apr | H4: May | I4: Jun | J4: Jul | K4: Aug | L4: Sep | M4: Oct | N4: Nov | O4: Dec
A5: China | B5: Jinyunshan | C5: Mean | D5: 47.290323 | E5: 67.172414 | F5: 53.677419 | G5: 47.2 | H5: 26.16129 | I5: 39.433333 | J5: 20.096774 | K5: 34.354839 | L5: 37.566667 | M5: 41.387097 | N5: 47.833333 | O5: 57.774194 | P5: 43.202186
C6: % | D6: 100 | E6: 100 | F6: 100 | G6: 100 | H6: 100 | I6: 100 | J6: 100 | K6: 100 | L6: 100 | M6: 100 | N6: 100 | O6: 100 | P6: 100.27397
